Workbook

Sheet Rekapitulácia stavby
A1: Export Komplet | BA1: 2.0 | BB1: ZAMOK | BT1: False | BU1: False | BV1: {c6828c9f-3f65-456d-a51a-95de5ca87137}
BS2: 0,01 | BT2: 23
BS3: 0,01 | BT3: 19
D4: REKAPITULÁCIA STAVBY | AS4: v --- níže se nacházejí doplnkové a pomocné údaje k sestavám --- v | BS4: 0,001
D5: Kód: | K5: UKAZKA | BS5: 0,01
D6: Stavba: | K6: Rodinný dom, Košický kraj | BS6: 0,01
D7: KSO: | AK7: CC-SK: | BS7: 0,01
D8: Miesto: | K8: Košický kraj | AK8: Dátum: | AN8: 10/2026 | BS8: 0,01
BS9: 0,01
D10: Zadávateľ: | AK10: IČO: | BS10: 0,01
E11: Anonymizované | AK11: DIČ: | BS11: 0,01
BS12: 0,01
D13: Zhotoviteľ: | AK13: IČO: | BS13: 0,01
AK14: DIČ: | BS14: 0,01
BS15: False
D16: Projektant: | AK16: IČO: | BS16: False
E17: Anonymizované | AK17: DIČ: | BS17: True
BS18: 0,01
D19: Spracovateľ: | AK19: IČO: | BS19: 0,01
AK20: DIČ: | BS20: True
D22: Poznámka:
E23: Úplné znenie poznámok je na liste Poznámky k rozpočtu. Poznámky k rozpočtu: Sadzbu DPH uvádzame podľa druhu plnenia; konečnú sadzbu určuje platiteľ podľa skutočného plnenia. Rozpočet slúži ako podklad pre cenovú ponuku, konečnú kontrolu a schválenie vykonáva objednávateľ. Množstvá vychádzajú z podkladov odovzdaných objednávateľom. Pri zmene alebo upresnení dokumentácie je potrebné rozpočet aktualizovať. Rozpočet je spracovaný podľa projektu stavby (stavebný zámer a projekt stavby, 08/2026) v cenovej úrovni CENEKON 2026/02 (02/2026). Ceny sú bez DPH. Rozpočet obsahuje: S01 stavebnú časť rodinného domu (HSV a PSV) a S08 oplotenie s bránami. Rozpočet neobsahuje: zdravotechniku, ústredné a podlahové vykurovanie, klimatizáciu, elektroinštaláciu a bleskozvod (zemniaci pás v základoch v rozpočte je), elektrický vrátnik bránky a napájanie pohonu brány, vzduchotechniku, prípojky S02 až S06, spevnené plochy S07 vrátane plôch zo zámkovej dlažby a štrkového okapového chodníka, zariaďovacie predmety a sklenené sprchové zásteny, kuchynskú linku, krbové kachle (dodávka investora) a geodetické vytýčenie stavby a sietí (zabezpečuje investor podľa TZ 6.1.1). Tieto časti nemajú v podkladoch samostatný projekt.
D26: Cena bez DPH | AK26: =ROUND(AG94,2)
L28: Sadzba dane | W28: Základ dane | AK28: Výška dane
D29: DPH | F29: základná | L29: 0.23 | W29: =ROUND(AZ94, 2) | AK29: =ROUND(AV94, 2)
F30: znížená | L30: 0.19 | W30: =ROUND(BA94, 2) | AK30: =ROUND(AW94, 2)
F31: zákl. prenesená | L31: 0.23 | W31: =ROUND(BB94, 2) | AK31: 0
F32: zníž. prenesená | L32: 0.19 | W32: =ROUND(BC94, 2) | AK32: 0
F33: nulová | L33: 0 | W33: =ROUND(BD94, 2) | AK33: 0
D35: Cena s DPH | T35: v | X35: EUR | AK35: =SUM(AK26:AK33)
D49: Projektant | AH49: Spracovateľ
D60: Dátum a podpis: | V60: Pečiatka | AH60: Dátum a podpis: | AM60: Pečiatka
D64: Objednávateľ | AH64: Zhotoviteľ
D75: Dátum a podpis: | V75: Pečiatka | AH75: Dátum a podpis: | AM75: Pečiatka
C82: REKAPITULÁCIA OBJEKTOV STAVBY A SÚPISOV PRÁC
C84: Kód: | L84: =K5
C85: Stavba: | L85: =K6
C87: Miesto: | L87: =IF(K8="","",K8) | AI87: Dátum: | AM87: =IF(AN8= "","",AN8)
C89: Zadávateľ: | L89: =IF(E11= "","",E11) | AI89: Projektant: | AM89: =IF(E17="","",E17) | AS89: Informatívne údaje z listov zákaziek
C90: Zhotoviteľ: | L90: =IF(E14="","",E14) | AI90: Spracovateľ: | AM90: =IF(E20="","",E20)
C92: Kód | I92: Popis | AG92: Cena bez DPH [EUR] | AN92: Cena s DPH [EUR] | AQ92: Typ | AS92: z toho Ostat. náklady [EUR] | AT92: DPH [EUR] | AU92: Normohodiny [h] | AV92: DPH základná [EUR] | AW92: DPH znížená [EUR] | AX92: DPH základná prenesená [EUR] | AY92: DPH znížená prenesená [EUR] | AZ92: Základňa DPH základná | BA92: Základňa DPH znížená | BB92: Základňa DPH zákl. prenesená | BC92: Základňa DPH zníž. prenesená | BD92: Základňa DPH nulová
C94: Náklady z rozpočtov | AG94: =ROUND(SUM(AG95:AG97),2) | AN94: =SUM(AG94,AT94) | AS94: =ROUND(SUM(AS95:AS97),2) | AT94: =ROUND(SUM(AV94:AW94),2) | AU94: =ROUND(SUM(AU95:AU97),5) | AV94: =ROUND(AZ94*L29,2) | AW94: =ROUND(BA94*L30,2) | AX94: =ROUND(BB94*L29,2) | AY94: =ROUND(BC94*L30,2) | AZ94: =ROUND(SUM(AZ95:AZ97),2) | BA94: =ROUND(SUM(BA95:BA97),2) | BB94: =ROUND(SUM(BB95:BB97),2) | BC94: =ROUND(SUM(BC95:BC97),2) | BD94: =ROUND(SUM(BD95:BD97),2) | BS94: D | BT94: 0 | BU94: ###NOIMPORT### | BV94: IMPORT | BW94: {c6828c9f-3f65-456d-a51a-95de5ca87137} | BX94: {00000000-0000-0000-0000-000000000000}
A95: / | D95: SO 01 | J95: S01 - Rodinný dom | AG95: ='SO 01 - S01 - Rodinný dom'!J30 | AN95: =SUM(AG95,AT95) | AQ95: STA | AS95: 0 | AT95: =ROUND(SUM(AV95:AW95),2) | AU95: ='SO 01 - S01 - Rodinný dom'!P141 | AV95: ='SO 01 - S01 - Rodinný dom'!J33 | AW95: ='SO 01 - S01 - Rodinný dom'!J34 | AX95: ='SO 01 - S01 - Rodinný dom'!J35 | AY95: ='SO 01 - S01 - Rodinný dom'!J36 | AZ95: ='SO 01 - S01 - Rodinný dom'!F33 | BA95: ='SO 01 - S01 - Rodinný dom'!F34 | BB95: ='SO 01 - S01 - Rodinný dom'!F35 | BC95: ='SO 01 - S01 - Rodinný dom'!F36 | BD95: ='SO 01 - S01 - Rodinný dom'!F37 | BT95: 1 | BV95: IMPORT | BW95: {b0869ecf-e606-426e-a13b-e4388be6ceba} | BX95: {c6828c9f-3f65-456d-a51a-95de5ca87137} | CM95: 1
A96: / | D96: SO 08 | J96: S08 - Oplotenie | AG96: ='SO 08 - S08 - Oplotenie'!J30 | AN96: =SUM(AG96,AT96) | AQ96: STA | AS96: 0 | AT96: =ROUND(SUM(AV96:AW96),2) | AU96: ='SO 08 - S08 - Oplotenie'!P125 | AV96: ='SO 08 - S08 - Oplotenie'!J33 | AW96: ='SO 08 - S08 - Oplotenie'!J34 | AX96: ='SO 08 - S08 - Oplotenie'!J35 | AY96: ='SO 08 - S08 - Oplotenie'!J36 | AZ96: ='SO 08 - S08 - Oplotenie'!F33 | BA96: ='SO 08 - S08 - Oplotenie'!F34 | BB96: ='SO 08 - S08 - Oplotenie'!F35 | BC96: ='SO 08 - S08 - Oplotenie'!F36 | BD96: ='SO 08 - S08 - Oplotenie'!F37 | BT96: 1 | BV96: IMPORT | BW96: {cc7b13c2-0e2a-4347-8aa8-ea302485788f} | BX96: {c6828c9f-3f65-456d-a51a-95de5ca87137} | CM96: 1
A97: / | D97: VRN | J97: VRN - Vedľajšie rozpočtové náklady | AG97: ='VRN - VRN - Vedľajšie rozpoč...'!J30 | AN97: =SUM(AG97,AT97) | AQ97: STA | AS97: 0 | AT97: =ROUND(SUM(AV97:AW97),2) | AU97: ='VRN - VRN - Vedľajšie rozpoč...'!P118 | AV97: ='VRN - VRN - Vedľajšie rozpoč...'!J33 | AW97: ='VRN - VRN - Vedľajšie rozpoč...'!J34 | AX97: ='VRN - VRN - Vedľajšie rozpoč...'!J35 | AY97: ='VRN - VRN - Vedľajšie rozpoč...'!J36 | AZ97: ='VRN - VRN - Vedľajšie rozpoč...'!F33 | BA97: ='VRN - VRN - Vedľajšie rozpoč...'!F34 | BB97: ='VRN - VRN - Vedľajšie rozpoč...'!F35 | BC97: ='VRN - VRN - Vedľajšie rozpoč...'!F36 | BD97: ='VRN - VRN - Vedľajšie rozpoč...'!F37 | BT97: 1 | BV97: IMPORT | BW97: {f50f342d-77bb-45c3-82d2-b7c9ee3e43cd} | BX97: {c6828c9f-3f65-456d-a51a-95de5ca87137} | CM97: 1

Sheet SO 01 - S01 - Rodinný dom
AT2: {b0869ecf-e606-426e-a13b-e4388be6ceba}
AT3: 1
D4: KRYCÍ LIST SÚPISU PRÁC | M4: v --- níže se nacházejí doplnkové a pomocné údaje k sestavám --- v | AT4: False
D6: Stavba:
E7: ='Rekapitulácia stavby'!K6
D8: Objekt:
E9: SO 01 - S01 - Rodinný dom
D11: KSO: | I11: CC-SK:
D12: Miesto: | F12: Košický kraj | I12: Dátum: | J12: ='Rekapitulácia stavby'!AN8
D14: Zadávateľ: | I14: IČO:
E15: Anonymizované | I15: DIČ:
D17: Zhotoviteľ: | I17: IČO: | J17: =IF('Rekapitulácia stavby'!AN13="","",'Rekapitulácia stavby'!AN13)
E18: =IF('Rekapitulácia stavby'!E14="","",'Rekapitulácia stavby'!E14) | I18: DIČ: | J18: =IF('Rekapitulácia stavby'!AN14="","",'Rekapitulácia stavby'!AN14)
D20: Projektant: | I20: IČO:
E21: Anonymizované | I21: DIČ:
D23: Spracovateľ: | I23: IČO:
I24: DIČ:
D26: Poznámka:
E27: Úplné znenie poznámok je na liste Poznámky k rozpočtu. S čím počítame (predpoklady, ktoré si môžete upraviť jedným číslom; druhá varianta je pri každom uvedená): P-1: Obvodové a vnútorné nosné murivo POROTHERM 30 Profi P15 na tenkovrstvú maltu podľa výkresov a TZ 6.1.3. Druhá varianta: Ytong Klasik 300 podľa úvodu TZ kap. 6, rozdiel približne 1 000 až 2 500 EUR. P-2: Vnútorné dvere v obložkových zárubniach, dvere D7 so skrytou kovovou zárubňou podľa výpisu 013. Výška dverí 2 100 a 2 200 mm podľa výpisu. P-3: SDK podhľady Knauf D112 s doskami White, v kúpeľniach a WC Green 12,5 mm (TZ 6.1.10). Druhá varianta: protipožiarne dosky, rozdiel približne 200 až 400 EUR. P-4: Podlahy P1 až P3 so skladbou poter 80 mm, PE fólia a EPS 120 mm; systémová doska a rozvody podlahového vykurovania patria k ústrednému vykurovaniu, ktoré v rozpočte nie je. P-5: Dažďové zvody v rozmere ø120 podľa TZ 6.1.14; výpis 014 uvádza ø125, cenový rozdiel je zanedbateľný. P-6: Laty 50/30 a kontralaty 80/30 podľa výpisu reziva 006 (TZ uvádza 50/30 v oboch vrstvách, rozdiel do 800 EUR). P-7: Základový pás oplotenia 400 × 800 mm podľa technického popisu výkresu 004 S08 (TZ uvádza hĺbku 700 mm, rozdiel do 200 EUR). P-9: Sokel a komínové teleso s lepeným kamenným obkladom podľa TZ 6.1.9 a pohľadov. Druhá varianta: dekoratívna omietka vzor kameňa, nižšia približne o 2 000 až 2 700 EUR. P-12: Komín Schiedel Absolut s obmurovkou komínového telesa podľa pôdorysu je v rozpočte, krbové kachle dodáva investor. P-13: Výkopok nad potrebu zásypu sa odváža na skládku do 10 km. Druhá varianta: ponechanie zeminy na pozemku investora, nižšia približne o 14 990,27 EUR bez DPH (odpadne odvoz a poplatok za skládku; nakladanie a uloženie výkopku na pozemku zostávajú). P-14: Poplatok za uloženie výkopku je prepočítaný objemovou hmotnosťou 1,8 t/m3. P-15: Statický výpočet nebol súčasťou podkladov; výstuž je ocenená smernými hodnotami: DT tvárnice 70 kg/m3, vence a ŽB preklady 90 kg/m3, základová doska KARI 6/150/150 podľa TZ. P-16: Komínový systém Schiedel Absolut DN 180, jednoprieduchový, ocenený katalógovou zostavou výšky 6,33 m (najvyššia v katalógu CENEKON; komín meria cca 7,1 m, predĺženie o cca 0,8 m upresní dodávateľ); priemer prieduchu upresní investor podľa krbových kachlí. P-17: Fasádne lešenie je ocenené na dobu 2 mesiacov (9 týždňov). P-18: Spotreba asfaltovej penetrácie 0,3 kg/m2 podľa technického listu. P-19: Presahy asfaltových pásov a PVC fólie 15 %. P-20: Chemická kotva 280 ml na 13 kotiev M12 a M16. P-21: Zariadenie staveniska je ocenené na dobu výstavby 6 mesiacov. P-22: Odpad z obalov a prírezov: 3 kontajnery 7 m3 vrátane odvozu a poplatku. P-23: Murivo vnútorných nosných stien bez odpočtu priechodov, ktoré v pôdoryse nie sú kótované. P-24: Konkrétny typ dlažby, obkladu a laminátu určí investor; ocenená je dlažba 333 × 333 mm, obklad 398 × 198 mm a laminát hr. 8 mm s podložkou. P-25: Rektifikovateľné terče pod terasu 4 ks/m2. P-26: Hliníkový rošt WPC fasády v rastri 0,6 × 0,6 m (1,7 bm profilu a 2,8 konzoly dĺžky 220 mm na m2). P-27: Hliníkové okná a dvere sú ocenené cenou systému Aluprof MB-79N / MB-77HS prepočítanou na m2 otvoru (dostupné ceny platia pre Uw 0,9 až 1,1; pre predpísané Uw 0,60 a 47 dB bude cena vyššia); drevené priehradové väzníky podľa ceny za m2 strechy, ich návrh a statické posúdenie zabezpečí dodávateľ väzníkov. Presná cena podľa ponuky výrobcu.
D30: Cena bez DPH | J30: =ROUND(J141, 2)
F32: Základ dane | I32: Sadzba dane | J32: Výška dane
D33: DPH | E33: základná | F33: =ROUND((SUM(BE141:BE616)), 2) | I33: 0.23 | J33: =ROUND(((SUM(BE141:BE616))*I33), 2)
E34: znížená | F34: =ROUND((SUM(BF141:BF616)), 2) | I34: 0.19 | J34: =ROUND(((SUM(BF141:BF616))*I34), 2)
E35: zákl. prenesená | F35: =ROUND((SUM(BG141:BG616)), 2) | I35: 0.23 | J35: =0
E36: zníž. prenesená | F36: =ROUND((SUM(BH141:BH616)), 2) | I36: 0.19 | J36: =0
E37: nulová | F37: =ROUND((SUM(BI141:BI616)), 2) | I37: 0 | J37: =0
D39: Cena s DPH | G39: v | H39: EUR | J39: =SUM(J30:J37)
D50: Projektant | G50: Spracovateľ
D61: Dátum a podpis: | F61: Pečiatka | G61: Dátum a podpis: | J61: Pečiatka
D65: Objednávateľ | G65: Zhotoviteľ
D76: Dátum a podpis: | F76: Pečiatka | G76: Dátum a podpis: | J76: Pečiatka
C82: REKAPITULÁCIA ČLENENIA SÚPISU PRÁC
C84: Stavba:
E85: =E7
C86: Objekt:
E87: =E9
C89: Miesto: | F89: =F12 | I89: Dátum: | J89: =IF(J12="","",J12)
C91: Zadávateľ: | F91: =E15 | I91: Projektant: | J91: =E21
C92: Zhotoviteľ: | F92: =IF(E18="","",E18) | I92: Spracovateľ: | J92: =E24
C94: Kód dielu - Popis | J94: Cena celkom [EUR]
C96: Náklady zo súpisu prác | J96: =J141 | AU96: -1
D97: HSV - Práce a dodávky HSV | J97: =J142
D98: 1 - Zemné práce | J98: =J143
D99: 2 - Zakladanie | J99: =J164
D100: 3 - Zvislé a kompletné konštrukcie | J100: =J191
D101: 4 - Vodorovné konštrukcie | J101: =J238
D102: 6 - Úpravy povrchov, podlahy a osadenie výplní | J102: =J251
D103: 9 - Ostatné konštrukcie a práce, búranie | J103: =J288
D104: 998 - Presun hmôt | J104: =J299
D105: PSV - Práce a dodávky PSV | J105: =J350
D106: 711 - Izolácie proti vode, vlhkosti a plynom | J106: =J351
D107: 712 - Povlakové krytiny | J107: =J376
D108: 713 - Izolácie tepelné | J108: =J385
D109: 762 - Konštrukcie tesárske | J109: =J406
D110: 763 - Konštrukcie suchej výstavby | J110: =J447
D111: 764 - Konštrukcie klampiarske | J111: =J456
D112: 766 - Konštrukcie stolárske | J112: =J489
D113: 767 - Konštrukcie zámočnícke | J113: =J546
D114: 771 - Podlahy z dlaždíc | J114: =J553
D115: 775 - Podlahy skladané | J115: =J564
D116: 776 - Podlahy povlakové | J116: =J571
D117: 781 - Dokončovacie práce - obklady | J117: =J576
D118: 783 - Dokončovacie práce - nátery | J118: =J595
D119: 784 - Dokončovacie práce - maľby a tapety | J119: =J602
D120: M - Práce a dodávky M | J120: =J611
D121: 21-M - Elektromontáže | J121: =J612
C128: SÚPIS PRÁC
C130: Stavba:
E131: =E7
C132: Objekt:
E133: =E9
C135: Miesto: | F135: =F12 | I135: Dátum: | J135: =IF(J12="","",J12)
C137: Zadávateľ: | F137: =E15 | I137: Projektant: | J137: =E21
C138: Zhotoviteľ: | F138: =IF(E18="","",E18) | I138: Spracovateľ: | J138: =E24
C140: PČ | D140: Typ | E140: Kód | F140: Popis | G140: MJ | H140: Množstvo | I140: J.cena [EUR] | J140: Cena celkom [EUR] | K140: Cenová sústava | N140: DPH | O140: J. Nh [h] | P140: Nh celkom [h] | Q140: J. hmotnosť [t] | R140: Hmotnosť celkom [t] | S140: J. suť [t] | T140: Suť celkom [t]
C141: Náklady súpisu celkom | J141: =BK141 | P141: =P142+P350+P611 | R141: =R142+R350+R611 | T141: =T142+T350+T611 | AT141: D | AU141: -1 | BK141: =BK142+BK350+BK611
D142: D | E142: HSV | F142: Práce a dodávky HSV | J142: =BK142 | P142: =P143+P164+P191+P238+P251+P288+P299 | R142: =R143+R164+R191+R238+R251+R288+R299 | T142: =T143+T164+T191+T238+T251+T288+T299 | AR142: 1 | AT142: D | AU142: 0 | AY142: ROZPOCET | BK142: =BK143+BK164+BK191+BK238+BK251+BK288+BK299
D143: D | E143: 1 | F143: Zemné práce | J143: =BK143 | P143: =SUM(P144:P163) | R143: =SUM(R144:R163) | T143: =SUM(T144:T163) | AR143: 1 | AT143: D | AU143: 1 | AY143: ROZPOCET | BK143: =SUM(BK144:BK163)
C144: 1 | D144: K | E144: 122201102.S | F144: Odkopávka a prekopávka nezapažená v hornine 3, nad 100 do 1000 m3 | G144: m3 | H144: 137.743 | I144: 5.54 | J144: =ROUND(I144*H144,2) | K144: CENEKON 2026/02 | N144: základná | O144: 0 | P144: =O144*H144 | Q144: 0 | R144: =Q144*H144 | S144: 0 | T144: =S144*H144 | AR144: 4 | AT144: K | AU144: 2 | AY144: ROZPOCET | BE144: =IF(N144="základná",J144,0) | BF144: =IF(N144="znížená",J144,0) | BG144: =IF(N144="zákl. prenesená",J144,0) | BH144: =IF(N144="zníž. prenesená",J144,0) | BI144: =IF(N144="nulová",J144,0) | BJ144: 2 | BK144: =ROUND(I144*H144,2) | BL144: 4 | BM144: 895009244
D145: VV | F145: V011: (20,85+0,4) × (7,5+0,4) × 0,52+10,68 × (6,5+0,4) × 0,52+32,78 × 0,37 = 137,743 | H145: 137.743 | AT145: VV | AU145: 2 | AV145: 2 | AW145: True | AX145: 1 | AY145: ROZPOCET
C146: 2 | D146: K | E146: 132251201.S | F146: Výkop ryhy šírky nad 600 do 2000 mm strojne v hornine tr. 3, objem nad 60 do 100 m3 | G146: m3 | H146: 70.09 | I146: 25.11 | J146: =ROUND(I146*H146,2) | K146: CENEKON 2026/02 | N146: základná | O146: 0 | P146: =O146*H146 | Q146: 0 | R146: =Q146*H146 | S146: 0 | T146: =S146*H146 | AR146: 4 | AT146: K | AU146: 2 | AY146: ROZPOCET | BE146: =IF(N146="základná",J146,0) | BF146: =IF(N146="znížená",J146,0) | BG146: =IF(N146="zákl. prenesená",J146,0) | BH146: =IF(N146="zníž. prenesená",J146,0) | BI146: =IF(N146="nulová",J146,0) | BJ146: 2 | BK146: =ROUND(I146*H146,2) | BL146: 4 | BM146: 1888536061
D147: VV | F147: V012: 95,36 × 0,7 × 1,05 = 70,09 | H147: 70.09 | AT147: VV | AU147: 2 | AV147: 2 | AW147: True | AX147: 1 | AY147: ROZPOCET
C148: 3 | D148: K | E148: 131211101.S | F148: Hĺbenie jám v hornine tr. 3 súdržných - ručným náradím | G148: m3 | H148: 2.628 | I148: 57.31 | J148: =ROUND(I148*H148,2) | K148: CENEKON 2026/02 | N148: základná | O148: 0 | P148: =O148*H148 | Q148: 0 | R148: =Q148*H148 | S148: 0 | T148: =S148*H148 | AR148: 4 | AT148: K | AU148: 2 | AY148: ROZPOCET | BE148: =IF(N148="základná",J148,0) | BF148: =IF(N148="znížená",J148,0) | BG148: =IF(N148="zákl. prenesená",J148,0) | BH148: =IF(N148="zníž. prenesená",J148,0) | BI148: =IF(N148="nulová",J148,0) | BJ148: 2 | BK148: =ROUND(I148*H148,2) | BL148: 4 | BM148: 1139089721
D149: VV | F149: V013: 0,6 × 0,6 × 0,65+0,7 × 2,15 × 1,2+0,7 × 0,7 × 1,2 = 2,628 | H149: 2.628 | AT149: VV | AU149: 2 | AV149: 2 | AW149: True | AX149: 1 | AY149: ROZPOCET
C150: 4 | D150: K | E150: 174101001.S | F150: Zásyp sypaninou so zhutnením jám, šachiet, rýh, zárezov alebo okolo objektov do 100 m3 | G150: m3 | H150: 8.054 | I150: 5.24 | J150: =ROUND(I150*H150,2) | K150: CENEKON 2026/02 | N150: základná | O150: 0 | P150: =O150*H150 | Q150: 0 | R150: =Q150*H150 | S150: 0 | T150: =S150*H150 | AR150: 4 | AT150: K | AU150: 2 | AY150: ROZPOCET | BE150: =IF(N150="základná",J150,0) | BF150: =IF(N150="znížená",J150,0) | BG150: =IF(N150="zákl. prenesená",J150,0) | BH150: =IF(N150="zníž. prenesená",J150,0) | BI150: =IF(N150="nulová",J150,0) | BJ150: 2 | BK150: =ROUND(I150*H150,2) | BL150: 4 | BM150: 395799394
D151: VV | F151: V014: 0,2 × 0,35 × (75,66+2 × 19,7) = 8,054 | H151: 8.054 | AT151: VV | AU151: 2 | AV151: 2 | AW151: True | AX151: 1 | AY151: ROZPOCET
C152: 5 | D152: K | E152: 167101102.S | F152: Nakladanie neuľahnutého výkopku z hornín tr.1-4 nad 100 do 1000 m3 | G152: m3 | H152: 202.407 | I152: 2.65 | J152: =ROUND(I152*H152,2) | K152: CENEKON 2026/02 | N152: základná | O152: 0 | P152: =O152*H152 | Q152: 0 | R152: =Q152*H152 | S152: 0 | T152: =S152*H152 | AR152: 4 | AT152: K | AU152: 2 | AY152: ROZPOCET | BE152: =IF(N152="základná",J152,0) | BF152: =IF(N152="znížená",J152,0) | BG152: =IF(N152="zákl. prenesená",J152,0) | BH152: =IF(N152="zníž. prenesená",J152,0) | BI152: =IF(N152="nulová",J152,0) | BJ152: 2 | BK152: =ROUND(I152*H152,2) | BL152: 4 | BM152: -1816407863
D153: VV | F153: V015: 137,743+70,09+2,628-8,054 = 202,407 | H153: 202.407 | AT153: VV | AU153: 2 | AV153: 2 | AW153: True | AX153: 1 | AY153: ROZPOCET
C154: 6 | D154: K | E154: 162501122.S | F154: Vodorovné premiestnenie výkopku po spevnenej ceste z horniny tr.1-4, nad 100 do 1000 m3 na vzdialenosť do 3000 m | G154: m3 | H154: 202.407 | I154: 4.31 | J154: =ROUND(I154*H154,2) | K154: CENEKON 2026/02 | N154: základná | O154: 0 | P154: =O154*H154 | Q154: 0 | R154: =Q154*H154 | S154: 0 | T154: =S154*H154 | AR154: 4 | AT154: K | AU154: 2 | AY154: ROZPOCET | BE154: =IF(N154="základná",J154,0) | BF154: =IF(N154="znížená",J154,0) | BG154: =IF(N154="zákl. prenesená",J154,0) | BH154: =IF(N154="zníž. prenesená",J154,0) | BI154: =IF(N154="nulová",J154,0) | BJ154: 2 | BK154: =ROUND(I154*H154,2) | BL154: 4 | BM154: 1403858423
D155: VV | F155: V015: 137,743+70,09+2,628-8,054 = 202,407 | H155: 202.407 | AT155: VV | AU155: 2 | AV155: 2 | AW155: True | AX155: 1 | AY155: ROZPOCET
C156: 7 | D156: K | E156: 162501123.S | F156: Vodorovné premiestnenie výkopku po spevnenej ceste z horniny tr.1-4, nad 100 do 1000 m3, príplatok k cene za každých ďalšich a začatých 1000 m | G156: m3 | H156: 1416.849 | I156: 0.45 | J156: =ROUND(I156*H156,2) | K156: CENEKON 2026/02 | N156: základná | O156: 0 | P156: =O156*H156 | Q156: 0 | R156: =Q156*H156 | S156: 0 | T156: =S156*H156 | AR156: 4 | AT156: K | AU156: 2 | AY156: ROZPOCET | BE156: =IF(N156="základná",J156,0) | BF156: =IF(N156="znížená",J156,0) | BG156: =IF(N156="zákl. prenesená",J156,0) | BH156: =IF(N156="zníž. prenesená",J156,0) | BI156: =IF(N156="nulová",J156,0) | BJ156: 2 | BK156: =ROUND(I156*H156,2) | BL156: 4 | BM156: -551303161
D157: VV | F157: V015 × 7 km (skládka do 10 km) 202,407 × 7 = 1416,849 | H157: 1416.849 | AT157: VV | AU157: 2 | AV157: 2 | AW157: True | AX157: 1 | AY157: ROZPOCET
C158: 8 | D158: K | E158: 171201202.S | F158: Uloženie sypaniny na skládky nad 100 do 1000 m3 | G158: m3 | H158: 202.407 | I158: 0.85 | J158: =ROUND(I158*H158,2) | K158: CENEKON 2026/02 | N158: základná | O158: 0 | P158: =O158*H158 | Q158: 0 | R158: =Q158*H158 | S158: 0 | T158: =S158*H158 | AR158: 4 | AT158: K | AU158: 2 | AY158: ROZPOCET | BE158: =IF(N158="základná",J158,0) | BF158: =IF(N158="znížená",J158,0) | BG158: =IF(N158="zákl. prenesená",J158,0) | BH158: =IF(N158="zníž. prenesená",J158,0) | BI158: =IF(N158="nulová",J158,0) | BJ158: 2 | BK158: =ROUND(I158*H158,2) | BL158: 4 | BM158: 86522427
D159: VV | F159: V015: 137,743+70,09+2,628-8,054 = 202,407 | H159: 202.407 | AT159: VV | AU159: 2 | AV159: 2 | AW159: True | AX159: 1 | AY159: ROZPOCET
C160: 9 | D160: K | E160: 171209002.S | F160: Poplatok za skládku - zemina a kamenivo (17 05), ostatné | G160: t | H160: 364.333 | I160: 37 | J160: =ROUND(I160*H160,2) | K160: CENEKON 2026/02 | N160: základná | O160: 0 | P160: =O160*H160 | Q160: 0 | R160: =Q160*H160 | S160: 0 | T160: =S160*H160 | AR160: 4 | AT160: K | AU160: 2 | AY160: ROZPOCET | BE160: =IF(N160="základná",J160,0) | BF160: =IF(N160="znížená",J160,0) | BG160: =IF(N160="zákl. prenesená",J160,0) | BH160: =IF(N160="zníž. prenesená",J160,0) | BI160: =IF(N160="nulová",J160,0) | BJ160: 2 | BK160: =ROUND(I160*H160,2) | BL160: 4 | BM160: -843535555
D161: VV | F161: V015 × 1,8 t/m3 202,407 × 1,8 = 364,333 | H161: 364.333 | AT161: VV | AU161: 2 | AV161: 2 | AW161: True | AX161: 1 | AY161: ROZPOCET
C162: 10 | D162: K | E162: 181151102.S | F162: Úprava pláne v zárezoch v hornine tr. 1-4 so zhutnením strojne | G162: m2 | H162: 229.607 | I162: 1.12 | J162: =ROUND(I162*H162,2) | K162: CENEKON 2026/02 | N162: základná | O162: 0 | P162: =O162*H162 | Q162: 0 | R162: =Q162*H162 | S162: 0 | T162: =S162*H162 | AR162: 4 | AT162: K | AU162: 2 | AY162: ROZPOCET | BE162: =IF(N162="základná",J162,0) | BF162: =IF(N162="znížená",J162,0) | BG162: =IF(N162="zákl. prenesená",J162,0) | BH162: =IF(N162="zníž. prenesená",J162,0) | BI162: =IF(N162="nulová",J162,0) | BJ162: 2 | BK162: =ROUND(I162*H162,2) | BL162: 4 | BM162: 1864791385
D163: VV | F163: V008 + V009: 196,827+32,78 = 229,607 | H163: 229.607 | AT163: VV | AU163: 2 | AV163: 2 | AW163: True | AX163: 1 | AY163: ROZPOCET
D164: D | E164: 2 | F164: Zakladanie | J164: =BK164 | P164: =SUM(P165:P190) | R164: =SUM(R165:R190) | T164: =SUM(T165:T190) | AR164: 1 | AT164: D | AU164: 1 | AY164: ROZPOCET | BK164: =SUM(BK165:BK190)
C165: 11 | D165: K | E165: 289971211.S | F165: Zhotovenie vrstvy z geotextílie na upravenom povrchu sklon do 1 : 5 , šírky od 0 do 3 m | G165: m2 | H165: 298.714 | I165: 1.01 | J165: =ROUND(I165*H165,2) | K165: CENEKON 2026/02 | N165: základná | O165: 0 | P165: =O165*H165 | Q165: 3e-05 | R165: =Q165*H165 | S165: 0 | T165: =S165*H165 | AR165: 4 | AT165: K | AU165: 2 | AY165: ROZPOCET | BE165: =IF(N165="základná",J165,0) | BF165: =IF(N165="znížená",J165,0) | BG165: =IF(N165="zákl. prenesená",J165,0) | BH165: =IF(N165="zníž. prenesená",J165,0) | BI165: =IF(N165="nulová",J165,0) | BJ165: 2 | BK165: =ROUND(I165*H165,2) | BL165: 4 | BM165: 1301463529
...

Sheet SO 08 - S08 - Oplotenie
AT2: {cc7b13c2-0e2a-4347-8aa8-ea302485788f}
AT3: 1
D4: KRYCÍ LIST SÚPISU PRÁC | M4: v --- níže se nacházejí doplnkové a pomocné údaje k sestavám --- v | AT4: False
D6: Stavba:
E7: ='Rekapitulácia stavby'!K6
D8: Objekt:
E9: SO 08 - S08 - Oplotenie
D11: KSO: | I11: CC-SK:
D12: Miesto: | F12: Košický kraj | I12: Dátum: | J12: ='Rekapitulácia stavby'!AN8
D14: Zadávateľ: | I14: IČO:
E15: Anonymizované | I15: DIČ:
D17: Zhotoviteľ: | I17: IČO: | J17: =IF('Rekapitulácia stavby'!AN13="","",'Rekapitulácia stavby'!AN13)
E18: =IF('Rekapitulácia stavby'!E14="","",'Rekapitulácia stavby'!E14) | I18: DIČ: | J18: =IF('Rekapitulácia stavby'!AN14="","",'Rekapitulácia stavby'!AN14)
D20: Projektant: | I20: IČO:
E21: Anonymizované | I21: DIČ:
D23: Spracovateľ: | I23: IČO:
I24: DIČ:
D26: Poznámka:
E27: Úplné znenie poznámok je na liste Poznámky k rozpočtu. S čím počítame (predpoklady, ktoré si môžete upraviť jedným číslom; druhá varianta je pri každom uvedená): P-1: Obvodové a vnútorné nosné murivo POROTHERM 30 Profi P15 na tenkovrstvú maltu podľa výkresov a TZ 6.1.3. Druhá varianta: Ytong Klasik 300 podľa úvodu TZ kap. 6, rozdiel približne 1 000 až 2 500 EUR. P-2: Vnútorné dvere v obložkových zárubniach, dvere D7 so skrytou kovovou zárubňou podľa výpisu 013. Výška dverí 2 100 a 2 200 mm podľa výpisu. P-3: SDK podhľady Knauf D112 s doskami White, v kúpeľniach a WC Green 12,5 mm (TZ 6.1.10). Druhá varianta: protipožiarne dosky, rozdiel približne 200 až 400 EUR. P-4: Podlahy P1 až P3 so skladbou poter 80 mm, PE fólia a EPS 120 mm; systémová doska a rozvody podlahového vykurovania patria k ústrednému vykurovaniu, ktoré v rozpočte nie je. P-5: Dažďové zvody v rozmere ø120 podľa TZ 6.1.14; výpis 014 uvádza ø125, cenový rozdiel je zanedbateľný. P-6: Laty 50/30 a kontralaty 80/30 podľa výpisu reziva 006 (TZ uvádza 50/30 v oboch vrstvách, rozdiel do 800 EUR). P-7: Základový pás oplotenia 400 × 800 mm podľa technického popisu výkresu 004 S08 (TZ uvádza hĺbku 700 mm, rozdiel do 200 EUR). P-9: Sokel a komínové teleso s lepeným kamenným obkladom podľa TZ 6.1.9 a pohľadov. Druhá varianta: dekoratívna omietka vzor kameňa, nižšia približne o 2 000 až 2 700 EUR. P-12: Komín Schiedel Absolut s obmurovkou komínového telesa podľa pôdorysu je v rozpočte, krbové kachle dodáva investor. P-13: Výkopok nad potrebu zásypu sa odváža na skládku do 10 km. Druhá varianta: ponechanie zeminy na pozemku investora, nižšia približne o 14 990,27 EUR bez DPH (odpadne odvoz a poplatok za skládku; nakladanie a uloženie výkopku na pozemku zostávajú). P-14: Poplatok za uloženie výkopku je prepočítaný objemovou hmotnosťou 1,8 t/m3. P-15: Statický výpočet nebol súčasťou podkladov; výstuž je ocenená smernými hodnotami: DT tvárnice 70 kg/m3, vence a ŽB preklady 90 kg/m3, základová doska KARI 6/150/150 podľa TZ. P-16: Komínový systém Schiedel Absolut DN 180, jednoprieduchový, ocenený katalógovou zostavou výšky 6,33 m (najvyššia v katalógu CENEKON; komín meria cca 7,1 m, predĺženie o cca 0,8 m upresní dodávateľ); priemer prieduchu upresní investor podľa krbových kachlí. P-17: Fasádne lešenie je ocenené na dobu 2 mesiacov (9 týždňov). P-18: Spotreba asfaltovej penetrácie 0,3 kg/m2 podľa technického listu. P-19: Presahy asfaltových pásov a PVC fólie 15 %. P-20: Chemická kotva 280 ml na 13 kotiev M12 a M16. P-21: Zariadenie staveniska je ocenené na dobu výstavby 6 mesiacov. P-22: Odpad z obalov a prírezov: 3 kontajnery 7 m3 vrátane odvozu a poplatku. P-23: Murivo vnútorných nosných stien bez odpočtu priechodov, ktoré v pôdoryse nie sú kótované. P-24: Konkrétny typ dlažby, obkladu a laminátu určí investor; ocenená je dlažba 333 × 333 mm, obklad 398 × 198 mm a laminát hr. 8 mm s podložkou. P-25: Rektifikovateľné terče pod terasu 4 ks/m2. P-26: Hliníkový rošt WPC fasády v rastri 0,6 × 0,6 m (1,7 bm profilu a 2,8 konzoly dĺžky 220 mm na m2). P-27: Hliníkové okná a dvere sú ocenené cenou systému Aluprof MB-79N / MB-77HS prepočítanou na m2 otvoru (dostupné ceny platia pre Uw 0,9 až 1,1; pre predpísané Uw 0,60 a 47 dB bude cena vyššia); drevené priehradové väzníky podľa ceny za m2 strechy, ich návrh a statické posúdenie zabezpečí dodávateľ väzníkov. Presná cena podľa ponuky výrobcu.
D30: Cena bez DPH | J30: =ROUND(J125, 2)
F32: Základ dane | I32: Sadzba dane | J32: Výška dane
D33: DPH | E33: základná | F33: =ROUND((SUM(BE125:BE176)), 2) | I33: 0.23 | J33: =ROUND(((SUM(BE125:BE176))*I33), 2)
E34: znížená | F34: =ROUND((SUM(BF125:BF176)), 2) | I34: 0.19 | J34: =ROUND(((SUM(BF125:BF176))*I34), 2)
E35: zákl. prenesená | F35: =ROUND((SUM(BG125:BG176)), 2) | I35: 0.23 | J35: =0
E36: zníž. prenesená | F36: =ROUND((SUM(BH125:BH176)), 2) | I36: 0.19 | J36: =0
E37: nulová | F37: =ROUND((SUM(BI125:BI176)), 2) | I37: 0 | J37: =0
D39: Cena s DPH | G39: v | H39: EUR | J39: =SUM(J30:J37)
D50: Projektant | G50: Spracovateľ
D61: Dátum a podpis: | F61: Pečiatka | G61: Dátum a podpis: | J61: Pečiatka
D65: Objednávateľ | G65: Zhotoviteľ
D76: Dátum a podpis: | F76: Pečiatka | G76: Dátum a podpis: | J76: Pečiatka
C82: REKAPITULÁCIA ČLENENIA SÚPISU PRÁC
C84: Stavba:
E85: =E7
C86: Objekt:
E87: =E9
C89: Miesto: | F89: =F12 | I89: Dátum: | J89: =IF(J12="","",J12)
C91: Zadávateľ: | F91: =E15 | I91: Projektant: | J91: =E21
C92: Zhotoviteľ: | F92: =IF(E18="","",E18) | I92: Spracovateľ: | J92: =E24
C94: Kód dielu - Popis | J94: Cena celkom [EUR]
C96: Náklady zo súpisu prác | J96: =J125 | AU96: -1
D97: HSV - Práce a dodávky HSV | J97: =J126
D98: 1 - Zemné práce | J98: =J127
D99: 2 - Zakladanie | J99: =J140
D100: 3 - Zvislé a kompletné konštrukcie | J100: =J147
D101: 998 - Presun hmôt | J101: =J156
D102: PSV - Práce a dodávky PSV | J102: =J159
D103: 711 - Izolácie proti vode, vlhkosti a plynom | J103: =J160
D104: M - Práce a dodávky M | J104: =J171
D105: 21-M - Elektromontáže | J105: =J172
C112: SÚPIS PRÁC
C114: Stavba:
E115: =E7
C116: Objekt:
E117: =E9
C119: Miesto: | F119: =F12 | I119: Dátum: | J119: =IF(J12="","",J12)
C121: Zadávateľ: | F121: =E15 | I121: Projektant: | J121: =E21
C122: Zhotoviteľ: | F122: =IF(E18="","",E18) | I122: Spracovateľ: | J122: =E24
C124: PČ | D124: Typ | E124: Kód | F124: Popis | G124: MJ | H124: Množstvo | I124: J.cena [EUR] | J124: Cena celkom [EUR] | K124: Cenová sústava | N124: DPH | O124: J. Nh [h] | P124: Nh celkom [h] | Q124: J. hmotnosť [t] | R124: Hmotnosť celkom [t] | S124: J. suť [t] | T124: Suť celkom [t]
C125: Náklady súpisu celkom | J125: =BK125 | P125: =P126+P159+P171 | R125: =R126+R159+R171 | T125: =T126+T159+T171 | AT125: D | AU125: -1 | BK125: =BK126+BK159+BK171
D126: D | E126: HSV | F126: Práce a dodávky HSV | J126: =BK126 | P126: =P127+P140+P147+P156 | R126: =R127+R140+R147+R156 | T126: =T127+T140+T147+T156 | AR126: 1 | AT126: D | AU126: 0 | AY126: ROZPOCET | BK126: =BK127+BK140+BK147+BK156
D127: D | E127: 1 | F127: Zemné práce | J127: =BK127 | P127: =SUM(P128:P139) | R127: =SUM(R128:R139) | T127: =SUM(T128:T139) | AR127: 1 | AT127: D | AU127: 1 | AY127: ROZPOCET | BK127: =SUM(BK128:BK139)
C128: 1 | D128: K | E128: 132251105.S | F128: Výkop ryhy do šírky 600 mm strojne v hornine tr. 3, objem do 30 m3 | G128: m3 | H128: 10.296 | I128: 51.91 | J128: =ROUND(I128*H128,2) | K128: CENEKON 2026/02 | N128: základná | O128: 0 | P128: =O128*H128 | Q128: 0 | R128: =Q128*H128 | S128: 0 | T128: =S128*H128 | AR128: 4 | AT128: K | AU128: 2 | AY128: ROZPOCET | BE128: =IF(N128="základná",J128,0) | BF128: =IF(N128="znížená",J128,0) | BG128: =IF(N128="zákl. prenesená",J128,0) | BH128: =IF(N128="zníž. prenesená",J128,0) | BI128: =IF(N128="nulová",J128,0) | BJ128: 2 | BK128: =ROUND(I128*H128,2) | BL128: 4 | BM128: 604126308
D129: VV | F129: rýha pod plot 0,40 × (0,80 + lôžko 0,10) × 28,60: 0,4 × 0,9 × 28,6 = 10,296 | H129: 10.296 | AT129: VV | AU129: 2 | AV129: 2 | AW129: True | AX129: 1 | AY129: ROZPOCET
C130: 2 | D130: K | E130: 167101101.S | F130: Nakladanie neuľahnutého výkopku z hornín tr.1-4 do 100 m3 | G130: m3 | H130: 10.296 | I130: 11.12 | J130: =ROUND(I130*H130,2) | K130: CENEKON 2026/02 | N130: základná | O130: 0 | P130: =O130*H130 | Q130: 0 | R130: =Q130*H130 | S130: 0 | T130: =S130*H130 | AR130: 4 | AT130: K | AU130: 2 | AY130: ROZPOCET | BE130: =IF(N130="základná",J130,0) | BF130: =IF(N130="znížená",J130,0) | BG130: =IF(N130="zákl. prenesená",J130,0) | BH130: =IF(N130="zníž. prenesená",J130,0) | BI130: =IF(N130="nulová",J130,0) | BJ130: 2 | BK130: =ROUND(I130*H130,2) | BL130: 4 | BM130: 1458275572
D131: VV | F131: výkopok na odvoz: 0,4 × 0,9 × 28,6 = 10,296 | H131: 10.296 | AT131: VV | AU131: 2 | AV131: 2 | AW131: True | AX131: 1 | AY131: ROZPOCET
C132: 3 | D132: K | E132: 162501102.S | F132: Vodorovné premiestnenie výkopku po spevnenej ceste z horniny tr.1-4, do 100 m3 na vzdialenosť do 3000 m | G132: m3 | H132: 10.296 | I132: 5.57 | J132: =ROUND(I132*H132,2) | K132: CENEKON 2026/02 | N132: základná | O132: 0 | P132: =O132*H132 | Q132: 0 | R132: =Q132*H132 | S132: 0 | T132: =S132*H132 | AR132: 4 | AT132: K | AU132: 2 | AY132: ROZPOCET | BE132: =IF(N132="základná",J132,0) | BF132: =IF(N132="znížená",J132,0) | BG132: =IF(N132="zákl. prenesená",J132,0) | BH132: =IF(N132="zníž. prenesená",J132,0) | BI132: =IF(N132="nulová",J132,0) | BJ132: 2 | BK132: =ROUND(I132*H132,2) | BL132: 4 | BM132: 1902232345
D133: VV | F133: odvoz na skládku (P-13): 0,4 × 0,9 × 28,6 = 10,296 | H133: 10.296 | AT133: VV | AU133: 2 | AV133: 2 | AW133: True | AX133: 1 | AY133: ROZPOCET
C134: 4 | D134: K | E134: 162501105.S | F134: Vodorovné premiestnenie výkopku po spevnenej ceste z horniny tr.1-4, do 100 m3, príplatok k cene za každých ďalšich a začatých 1000 m | G134: m3 | H134: 72.072 | I134: 0.56 | J134: =ROUND(I134*H134,2) | K134: CENEKON 2026/02 | N134: základná | O134: 0 | P134: =O134*H134 | Q134: 0 | R134: =Q134*H134 | S134: 0 | T134: =S134*H134 | AR134: 4 | AT134: K | AU134: 2 | AY134: ROZPOCET | BE134: =IF(N134="základná",J134,0) | BF134: =IF(N134="znížená",J134,0) | BG134: =IF(N134="zákl. prenesená",J134,0) | BH134: =IF(N134="zníž. prenesená",J134,0) | BI134: =IF(N134="nulová",J134,0) | BJ134: 2 | BK134: =ROUND(I134*H134,2) | BL134: 4 | BM134: -674969534
D135: VV | F135: príplatok 7 km: 10,296 × 7 = 72,072 | H135: 72.072 | AT135: VV | AU135: 2 | AV135: 2 | AW135: True | AX135: 1 | AY135: ROZPOCET
C136: 5 | D136: K | E136: 171201201.S | F136: Uloženie sypaniny na skládky do 100 m3 | G136: m3 | H136: 10.296 | I136: 0.94 | J136: =ROUND(I136*H136,2) | K136: CENEKON 2026/02 | N136: základná | O136: 0 | P136: =O136*H136 | Q136: 0 | R136: =Q136*H136 | S136: 0 | T136: =S136*H136 | AR136: 4 | AT136: K | AU136: 2 | AY136: ROZPOCET | BE136: =IF(N136="základná",J136,0) | BF136: =IF(N136="znížená",J136,0) | BG136: =IF(N136="zákl. prenesená",J136,0) | BH136: =IF(N136="zníž. prenesená",J136,0) | BI136: =IF(N136="nulová",J136,0) | BJ136: 2 | BK136: =ROUND(I136*H136,2) | BL136: 4 | BM136: -1094996600
D137: VV | F137: uloženie na skládku: 0,4 × 0,9 × 28,6 = 10,296 | H137: 10.296 | AT137: VV | AU137: 2 | AV137: 2 | AW137: True | AX137: 1 | AY137: ROZPOCET
C138: 6 | D138: K | E138: 171209002.S | F138: Poplatok za skládku - zemina a kamenivo (17 05), ostatné | G138: t | H138: 18.533 | I138: 37 | J138: =ROUND(I138*H138,2) | K138: CENEKON 2026/02 | N138: základná | O138: 0 | P138: =O138*H138 | Q138: 0 | R138: =Q138*H138 | S138: 0 | T138: =S138*H138 | AR138: 4 | AT138: K | AU138: 2 | AY138: ROZPOCET | BE138: =IF(N138="základná",J138,0) | BF138: =IF(N138="znížená",J138,0) | BG138: =IF(N138="zákl. prenesená",J138,0) | BH138: =IF(N138="zníž. prenesená",J138,0) | BI138: =IF(N138="nulová",J138,0) | BJ138: 2 | BK138: =ROUND(I138*H138,2) | BL138: 4 | BM138: -843535555
D139: VV | F139: poplatok za skládku × 1,8 t/m3 (P-14): 10,296 × 1,8 = 18,533 | H139: 18.533 | AT139: VV | AU139: 2 | AV139: 2 | AW139: True | AX139: 1 | AY139: ROZPOCET
D140: D | E140: 2 | F140: Zakladanie | J140: =BK140 | P140: =SUM(P141:P146) | R140: =SUM(R141:R146) | T140: =SUM(T141:T146) | AR140: 1 | AT140: D | AU140: 1 | AY140: ROZPOCET | BK140: =SUM(BK141:BK146)
C141: 7 | D141: K | E141: 271533021.S | F141: Násyp pod základové konštrukcie so zhutnením z kameniva hrubého drveného fr. 8 - 16 mm | G141: m3 | H141: 1.144 | I141: 103.85 | J141: =ROUND(I141*H141,2) | K141: CENEKON 2026/02 | N141: základná | O141: 0 | P141: =O141*H141 | Q141: 2.07 | R141: =Q141*H141 | S141: 0 | T141: =S141*H141 | AR141: 4 | AT141: K | AU141: 2 | AY141: ROZPOCET | BE141: =IF(N141="základná",J141,0) | BF141: =IF(N141="znížená",J141,0) | BG141: =IF(N141="zákl. prenesená",J141,0) | BH141: =IF(N141="zníž. prenesená",J141,0) | BI141: =IF(N141="nulová",J141,0) | BJ141: 2 | BK141: =ROUND(I141*H141,2) | BL141: 4 | BM141: -1346267099
D142: VV | F142: štrkové lôžko fr. 8/16 hr. 100 (TZ S08): 0,4 × 0,1 × 28,6 = 1,144 | H142: 1.144 | AT142: VV | AU142: 2 | AV142: 2 | AW142: True | AX142: 1 | AY142: ROZPOCET
C143: 8 | D143: K | E143: 274313611.S | F143: Betón základových pásov, prostý tr. C 16/20 | G143: m3 | H143: 9.152 | I143: 135.13 | J143: =ROUND(I143*H143,2) | K143: CENEKON 2026/02 | N143: základná | O143: 0 | P143: =O143*H143 | Q143: 2.23752 | R143: =Q143*H143 | S143: 0 | T143: =S143*H143 | AR143: 4 | AT143: K | AU143: 2 | AY143: ROZPOCET | BE143: =IF(N143="základná",J143,0) | BF143: =IF(N143="znížená",J143,0) | BG143: =IF(N143="zákl. prenesená",J143,0) | BH143: =IF(N143="zníž. prenesená",J143,0) | BI143: =IF(N143="nulová",J143,0) | BJ143: 2 | BK143: =ROUND(I143*H143,2) | BL143: 4 | BM143: 1002545808
D144: VV | F144: základový pás C16/20 400 × 800 (004 S08, P-7): 0,4 × 0,8 × 28,6 = 9,152 | H144: 9.152 | AT144: VV | AU144: 2 | AV144: 2 | AW144: True | AX144: 1 | AY144: ROZPOCET
C145: 9 | D145: K | E145: 274361825.S | F145: Výstuž pre murivo základových pásov z betónových debniacich tvárnic s betónovou výplňou z ocele B500 (10505) | G145: t | H145: 0.141 | I145: 1425.76 | J145: =ROUND(I145*H145,2) | K145: CENEKON 2026/02 | N145: základná | O145: 0 | P145: =O145*H145 | Q145: 1.002 | R145: =Q145*H145 | S145: 0 | T145: =S145*H145 | AR145: 4 | AT145: K | AU145: 2 | AY145: ROZPOCET | BE145: =IF(N145="základná",J145,0) | BF145: =IF(N145="znížená",J145,0) | BG145: =IF(N145="zákl. prenesená",J145,0) | BH145: =IF(N145="zníž. prenesená",J145,0) | BI145: =IF(N145="nulová",J145,0) | BJ145: 2 | BK145: =ROUND(I145*H145,2) | BL145: 4 | BM145: -674061631
D146: VV | F146: zvislá výstuž ø8: 143 prútov × 2,5 m × 0,395 kg/m (004 S08 technický popis) / 1000: 143 × 2,5 × 0,395 / 1000 = 0,141 | H146: 0.141 | AT146: VV | AU146: 2 | AV146: 2 | AW146: True | AX146: 1 | AY146: ROZPOCET
D147: D | E147: 3 | F147: Zvislé a kompletné konštrukcie | J147: =BK147 | P147: =SUM(P148:P155) | R147: =SUM(R148:R155) | T147: =SUM(T148:T155) | AR147: 1 | AT147: D | AU147: 1 | AY147: ROZPOCET | BK147: =SUM(BK148:BK155)
C148: 10 | D148: K | E148: 318271007 | F148: Zhotovenie oplotenia z tvárnic PREMAC Preblok hr. 200 mm s betónovou výplňou | G148: m2 | H148: 55.77 | I148: 32.42 | J148: =ROUND(I148*H148,2) | K148: CENEKON 2026/02 | N148: základná | O148: 0 | P148: =O148*H148 | Q148: 0.19556 | R148: =Q148*H148 | S148: 0 | T148: =S148*H148 | AR148: 4 | AT148: K | AU148: 2 | AY148: ROZPOCET | BE148: =IF(N148="základná",J148,0) | BF148: =IF(N148="znížená",J148,0) | BG148: =IF(N148="zákl. prenesená",J148,0) | BH148: =IF(N148="zníž. prenesená",J148,0) | BI148: =IF(N148="nulová",J148,0) | BJ148: 2 | BK148: =ROUND(I148*H148,2) | BL148: 4 | BM148: -1605023348
D149: VV | F149: V059: 28,6 × 1,95 = 55,77 | H149: 55.77 | AT149: VV | AU149: 2 | AV149: 2 | AW149: True | AX149: 1 | AY149: ROZPOCET
C150: 11 | D150: K | E150: 318271055 | F150: Zhotovenie krycej platne priebežnej pre oplotenie z tvárnic PREMAC Preblok | G150: m | H150: 28.6 | I150: 16.31 | J150: =ROUND(I150*H150,2) | K150: CENEKON 2026/02 | N150: základná | O150: 0 | P150: =O150*H150 | Q150: 0.0013 | R150: =Q150*H150 | S150: 0 | T150: =S150*H150 | AR150: 4 | AT150: K | AU150: 2 | AY150: ROZPOCET | BE150: =IF(N150="základná",J150,0) | BF150: =IF(N150="znížená",J150,0) | BG150: =IF(N150="zákl. prenesená",J150,0) | BH150: =IF(N150="zníž. prenesená",J150,0) | BI150: =IF(N150="nulová",J150,0) | BJ150: 2 | BK150: =ROUND(I150*H150,2) | BL150: 4 | BM150: -807793410
D151: VV | F151: krycia platňa priebežná po dĺžke plotu 28,60 = 28,6 | H151: 28.6 | AT151: VV | AU151: 2 | AV151: 2 | AW151: True | AX151: 1 | AY151: ROZPOCET
C152: 12 | D152: M | E152: 592330008100 | F152: Plotová tvárnica PREMAC PREBLOK, 400x200x200 mm, sivá | G152: ks | H152: 697 | I152: 3.09 | J152: =ROUND(I152*H152,2) | K152: CENEKON 2026/02 | N152: základná | O152: 0 | P152: =O152*H152 | Q152: 0.0195 | R152: =Q152*H152 | S152: 0 | T152: =S152*H152 | AR152: 8 | AT152: M | AU152: 2 | AY152: ROZPOCET | BE152: =IF(N152="základná",J152,0) | BF152: =IF(N152="znížená",J152,0) | BG152: =IF(N152="zákl. prenesená",J152,0) | BH152: =IF(N152="zníž. prenesená",J152,0) | BI152: =IF(N152="nulová",J152,0) | BJ152: 2 | BK152: =ROUND(I152*H152,2) | BL152: 4 | BM152: -1378596326
D153: VV | F153: V059: 55,77 m2 / (0,40 × 0,20) = 697,1 → 697 ks (004 S08) | H153: 697 | AT153: VV | AU153: 2 | AV153: 2 | AW153: True | AX153: 1 | AY153: ROZPOCET
C154: 13 | D154: M | E154: 592330008230 | F154: Plotová tvárnica PREMAC PREBLOK krycia platňa, 460x260x50 mm, sivá | G154: ks | H154: 63 | I154: 4.49 | J154: =ROUND(I154*H154,2) | K154: CENEKON 2026/02 | N154: základná | O154: 0 | P154: =O154*H154 | Q154: 0.014 | R154: =Q154*H154 | S154: 0 | T154: =S154*H154 | AR154: 8 | AT154: M | AU154: 2 | AY154: ROZPOCET | BE154: =IF(N154="základná",J154,0) | BF154: =IF(N154="znížená",J154,0) | BG154: =IF(N154="zákl. prenesená",J154,0) | BH154: =IF(N154="zníž. prenesená",J154,0) | BI154: =IF(N154="nulová",J154,0) | BJ154: 2 | BK154: =ROUND(I154*H154,2) | BL154: 4 | BM154: -2144091207
D155: VV | F155: 28,60 / 0,46 = 62,2 → 63 ks (004 S08) | H155: 63 | AT155: VV | AU155: 2 | AV155: 2 | AW155: True | AX155: 1 | AY155: ROZPOCET
D156: D | E156: 998 | F156: Presun hmôt | J156: =BK156 | P156: =SUM(P157:P158) | R156: =SUM(R157:R158) | T156: =SUM(T157:T158) | AR156: 1 | AT156: D | AU156: 1 | AY156: ROZPOCET | BK156: =SUM(BK157:BK158)
C157: 14 | D157: K | E157: 998151111.S | F157: Presun hmôt pre obj.8152, 8153,8159,zvislá nosná konštr.z tehál,tvárnic,blokov výšky do 10 m | G157: t | H157: 46.036 | I157: 30.97 | J157: =ROUND(I157*H157,2) | K157: CENEKON 2026/02 | N157: základná | O157: 0 | P157: =O157*H157 | Q157: 0 | R157: =Q157*H157 | S157: 0 | T157: =S157*H157 | AR157: 4 | AT157: K | AU157: 2 | AY157: ROZPOCET | BE157: =IF(N157="základná",J157,0) | BF157: =IF(N157="znížená",J157,0) | BG157: =IF(N157="zákl. prenesená",J157,0) | BH157: =IF(N157="zníž. prenesená",J157,0) | BI157: =IF(N157="nulová",J157,0) | BJ157: 2 | BK157: =ROUND(I157*H157,2) | BL157: 4 | BM157: 455053569
D158: VV | F158: súčet hmotností položiek dielu (2 - Zakladanie, 3 - Zvislé a kompletné konštrukcie) = 46,036 t | H158: 46.036 | AT158: VV | AU158: 2 | AV158: 2 | AW158: True | AX158: 1 | AY158: ROZPOCET
D159: D | E159: PSV | F159: Práce a dodávky PSV | J159: =BK159 | P159: =P160 | R159: =R160 | T159: =T160 | AR159: 2 | AT159: D | AU159: 0 | AY159: ROZPOCET | BK159: =BK160
D160: D | E160: 711 | F160: Izolácie proti vode, vlhkosti a plynom | J160: =BK160 | P160: =SUM(P161:P170) | R160: =SUM(R161:R170) | T160: =SUM(T161:T170) | AR160: 2 | AT160: D | AU160: 1 | AY160: ROZPOCET | BK160: =SUM(BK161:BK170)
C161: 15 | D161: K | E161: 711141559.S | F161: Zhotovenie izolácie proti zemnej vlhkosti a tlakovej vode vodorovná NAIP pritavením | G161: m2 | H161: 11.44 | I161: 6.4 | J161: =ROUND(I161*H161,2) | K161: CENEKON 2026/02 | N161: základná | O161: 0 | P161: =O161*H161 | Q161: 0.00054 | R161: =Q161*H161 | S161: 0 | T161: =S161*H161 | AR161: 16 | AT161: K | AU161: 2 | AY161: ROZPOCET | BE161: =IF(N161="základná",J161,0) | BF161: =IF(N161="znížená",J161,0) | BG161: =IF(N161="zákl. prenesená",J161,0) | BH161: =IF(N161="zníž. prenesená",J161,0) | BI161: =IF(N161="nulová",J161,0) | BJ161: 2 | BK161: =ROUND(I161*H161,2) | BL161: 16 | BM161: 972206947
D162: VV | F162: asfaltový pás šírky 400 na vrchu pásu (TZ S08): 0,4 × 28,6 = 11,44 | H162: 11.44 | AT162: VV | AU162: 2 | AV162: 2 | AW162: True | AX162: 1 | AY162: ROZPOCET
C163: 16 | D163: M | E163: 628310001000 | F163: Pás asfaltový HYDROBIT V 60 S 35 pre spodné vrstvy hydroizolačných systémov, ICOPAL | G163: m2 | H163: 13.156 | I163: 3.88 | J163: =ROUND(I163*H163,2) | K163: CENEKON 2026/02 | N163: základná | O163: 0 | P163: =O163*H163 | Q163: 0.00425 | R163: =Q163*H163 | S163: 0 | T163: =S163*H163 | AR163: 32 | AT163: M | AU163: 2 | AY163: ROZPOCET | BE163: =IF(N163="základná",J163,0) | BF163: =IF(N163="znížená",J163,0) | BG163: =IF(N163="zákl. prenesená",J163,0) | BH163: =IF(N163="zníž. prenesená",J163,0) | BI163: =IF(N163="nulová",J163,0) | BJ163: 2 | BK163: =ROUND(I163*H163,2) | BL163: 16 | BM163: 1882775383
D164: VV | F164: pás × 1,15 presahy (P-19): 11,44 × 1,15 = 13,156 | H164: 13.156 | AT164: VV | AU164: 2 | AV164: 2 | AW164: True | AX164: 1 | AY164: ROZPOCET
C165: 17 | D165: M | E165: R017 | F165: Kovaná brána dvojkrídlová B2 3900 x 1700 mm, žiarovo zinkovaná a lakovaná, pánty a dorazy - dodávka | G165: ks | H165: 1 | I165: 713.14 | J165: =ROUND(I165*H165,2) | N165: základná | O165: 0 | P165: =O165*H165 | Q165: 0 | R165: =Q165*H165 | S165: 0 | T165: =S165*H165 | AR165: 32 | AT165: M | AU165: 2 | AY165: ROZPOCET | BE165: =IF(N165="základná",J165,0) | BF165: =IF(N165="znížená",J165,0) | BG165: =IF(N165="zákl. prenesená",J165,0) | BH165: =IF(N165="zníž. prenesená",J165,0) | BI165: =IF(N165="nulová",J165,0) | BJ165: 2 | BK165: =ROUND(I165*H165,2) | BL165: 16 | BM165: 1994535129
...

Sheet VRN - VRN - Vedľajšie rozpoč...
AT2: {f50f342d-77bb-45c3-82d2-b7c9ee3e43cd}
AT3: 1
D4: KRYCÍ LIST SÚPISU PRÁC | M4: v --- níže se nacházejí doplnkové a pomocné údaje k sestavám --- v | AT4: False
D6: Stavba:
E7: ='Rekapitulácia stavby'!K6
D8: Objekt:
E9: VRN - VRN - Vedľajšie rozpočtové náklady
D11: KSO: | I11: CC-SK:
D12: Miesto: | F12: Košický kraj | I12: Dátum: | J12: ='Rekapitulácia stavby'!AN8
D14: Zadávateľ: | I14: IČO:
E15: Anonymizované | I15: DIČ:
D17: Zhotoviteľ: | I17: IČO: | J17: =IF('Rekapitulácia stavby'!AN13="","",'Rekapitulácia stavby'!AN13)
E18: =IF('Rekapitulácia stavby'!E14="","",'Rekapitulácia stavby'!E14) | I18: DIČ: | J18: =IF('Rekapitulácia stavby'!AN14="","",'Rekapitulácia stavby'!AN14)
D20: Projektant: | I20: IČO:
E21: Anonymizované | I21: DIČ:
D23: Spracovateľ: | I23: IČO:
I24: DIČ:
D26: Poznámka:
E27: Úplné znenie poznámok je na liste Poznámky k rozpočtu. S čím počítame (predpoklady, ktoré si môžete upraviť jedným číslom; druhá varianta je pri každom uvedená): P-1: Obvodové a vnútorné nosné murivo POROTHERM 30 Profi P15 na tenkovrstvú maltu podľa výkresov a TZ 6.1.3. Druhá varianta: Ytong Klasik 300 podľa úvodu TZ kap. 6, rozdiel približne 1 000 až 2 500 EUR. P-2: Vnútorné dvere v obložkových zárubniach, dvere D7 so skrytou kovovou zárubňou podľa výpisu 013. Výška dverí 2 100 a 2 200 mm podľa výpisu. P-3: SDK podhľady Knauf D112 s doskami White, v kúpeľniach a WC Green 12,5 mm (TZ 6.1.10). Druhá varianta: protipožiarne dosky, rozdiel približne 200 až 400 EUR. P-4: Podlahy P1 až P3 so skladbou poter 80 mm, PE fólia a EPS 120 mm; systémová doska a rozvody podlahového vykurovania patria k ústrednému vykurovaniu, ktoré v rozpočte nie je. P-5: Dažďové zvody v rozmere ø120 podľa TZ 6.1.14; výpis 014 uvádza ø125, cenový rozdiel je zanedbateľný. P-6: Laty 50/30 a kontralaty 80/30 podľa výpisu reziva 006 (TZ uvádza 50/30 v oboch vrstvách, rozdiel do 800 EUR). P-7: Základový pás oplotenia 400 × 800 mm podľa technického popisu výkresu 004 S08 (TZ uvádza hĺbku 700 mm, rozdiel do 200 EUR). P-9: Sokel a komínové teleso s lepeným kamenným obkladom podľa TZ 6.1.9 a pohľadov. Druhá varianta: dekoratívna omietka vzor kameňa, nižšia približne o 2 000 až 2 700 EUR. P-12: Komín Schiedel Absolut s obmurovkou komínového telesa podľa pôdorysu je v rozpočte, krbové kachle dodáva investor. P-13: Výkopok nad potrebu zásypu sa odváža na skládku do 10 km. Druhá varianta: ponechanie zeminy na pozemku investora, nižšia približne o 14 990,27 EUR bez DPH (odpadne odvoz a poplatok za skládku; nakladanie a uloženie výkopku na pozemku zostávajú). P-14: Poplatok za uloženie výkopku je prepočítaný objemovou hmotnosťou 1,8 t/m3. P-15: Statický výpočet nebol súčasťou podkladov; výstuž je ocenená smernými hodnotami: DT tvárnice 70 kg/m3, vence a ŽB preklady 90 kg/m3, základová doska KARI 6/150/150 podľa TZ. P-16: Komínový systém Schiedel Absolut DN 180, jednoprieduchový, ocenený katalógovou zostavou výšky 6,33 m (najvyššia v katalógu CENEKON; komín meria cca 7,1 m, predĺženie o cca 0,8 m upresní dodávateľ); priemer prieduchu upresní investor podľa krbových kachlí. P-17: Fasádne lešenie je ocenené na dobu 2 mesiacov (9 týždňov). P-18: Spotreba asfaltovej penetrácie 0,3 kg/m2 podľa technického listu. P-19: Presahy asfaltových pásov a PVC fólie 15 %. P-20: Chemická kotva 280 ml na 13 kotiev M12 a M16. P-21: Zariadenie staveniska je ocenené na dobu výstavby 6 mesiacov. P-22: Odpad z obalov a prírezov: 3 kontajnery 7 m3 vrátane odvozu a poplatku. P-23: Murivo vnútorných nosných stien bez odpočtu priechodov, ktoré v pôdoryse nie sú kótované. P-24: Konkrétny typ dlažby, obkladu a laminátu určí investor; ocenená je dlažba 333 × 333 mm, obklad 398 × 198 mm a laminát hr. 8 mm s podložkou. P-25: Rektifikovateľné terče pod terasu 4 ks/m2. P-26: Hliníkový rošt WPC fasády v rastri 0,6 × 0,6 m (1,7 bm profilu a 2,8 konzoly dĺžky 220 mm na m2). P-27: Hliníkové okná a dvere sú ocenené cenou systému Aluprof MB-79N / MB-77HS prepočítanou na m2 otvoru (dostupné ceny platia pre Uw 0,9 až 1,1; pre predpísané Uw 0,60 a 47 dB bude cena vyššia); drevené priehradové väzníky podľa ceny za m2 strechy, ich návrh a statické posúdenie zabezpečí dodávateľ väzníkov. Presná cena podľa ponuky výrobcu.
D30: Cena bez DPH | J30: =ROUND(J118, 2)
F32: Základ dane | I32: Sadzba dane | J32: Výška dane
D33: DPH | E33: základná | F33: =ROUND((SUM(BE118:BE130)), 2) | I33: 0.23 | J33: =ROUND(((SUM(BE118:BE130))*I33), 2)
E34: znížená | F34: =ROUND((SUM(BF118:BF130)), 2) | I34: 0.19 | J34: =ROUND(((SUM(BF118:BF130))*I34), 2)
E35: zákl. prenesená | F35: =ROUND((SUM(BG118:BG130)), 2) | I35: 0.23 | J35: =0
E36: zníž. prenesená | F36: =ROUND((SUM(BH118:BH130)), 2) | I36: 0.19 | J36: =0
E37: nulová | F37: =ROUND((SUM(BI118:BI130)), 2) | I37: 0 | J37: =0
D39: Cena s DPH | G39: v | H39: EUR | J39: =SUM(J30:J37)
D50: Projektant | G50: Spracovateľ
D61: Dátum a podpis: | F61: Pečiatka | G61: Dátum a podpis: | J61: Pečiatka
D65: Objednávateľ | G65: Zhotoviteľ
D76: Dátum a podpis: | F76: Pečiatka | G76: Dátum a podpis: | J76: Pečiatka
C82: REKAPITULÁCIA ČLENENIA SÚPISU PRÁC
C84: Stavba:
E85: =E7
C86: Objekt:
E87: =E9
C89: Miesto: | F89: =F12 | I89: Dátum: | J89: =IF(J12="","",J12)
C91: Zadávateľ: | F91: =E15 | I91: Projektant: | J91: =E21
C92: Zhotoviteľ: | F92: =IF(E18="","",E18) | I92: Spracovateľ: | J92: =E24
C94: Kód dielu - Popis | J94: Cena celkom [EUR]
C96: Náklady zo súpisu prác | J96: =J118 | AU96: -1
D97: VRN - Vedľajšie rozpočtové náklady | J97: =J119
D98: VRN3 - Zariadenie staveniska | J98: =J120
C105: SÚPIS PRÁC
C107: Stavba:
E108: =E7
C109: Objekt:
E110: =E9
C112: Miesto: | F112: =F12 | I112: Dátum: | J112: =IF(J12="","",J12)
C114: Zadávateľ: | F114: =E15 | I114: Projektant: | J114: =E21
C115: Zhotoviteľ: | F115: =IF(E18="","",E18) | I115: Spracovateľ: | J115: =E24
C117: PČ | D117: Typ | E117: Kód | F117: Popis | G117: MJ | H117: Množstvo | I117: J.cena [EUR] | J117: Cena celkom [EUR] | K117: Cenová sústava | N117: DPH | O117: J. Nh [h] | P117: Nh celkom [h] | Q117: J. hmotnosť [t] | R117: Hmotnosť celkom [t] | S117: J. suť [t] | T117: Suť celkom [t]
C118: Náklady súpisu celkom | J118: =BK118 | P118: =P119 | R118: =R119 | T118: =T119 | AT118: D | AU118: -1 | BK118: =BK119
D119: D | E119: VRN | F119: Vedľajšie rozpočtové náklady | J119: =BK119 | P119: =P120 | R119: =R120 | T119: =T120 | AR119: 5 | AT119: D | AU119: 0 | AY119: ROZPOCET | BK119: =BK120
D120: D | E120: VRN3 | F120: Zariadenie staveniska | J120: =BK120 | P120: =SUM(P121:P130) | R120: =SUM(R121:R130) | T120: =SUM(T121:T130) | AR120: 5 | AT120: D | AU120: 1 | AY120: ROZPOCET | BK120: =SUM(BK121:BK130)
C121: 1 | D121: K | E121: R001 | F121: Zariadenie staveniska - stavebná bunka (šatňa/sklad) prenájom | G121: mes | H121: 6 | I121: 180 | J121: =ROUND(I121*H121,2) | N121: základná | O121: 0 | P121: =O121*H121 | Q121: 0 | R121: =Q121*H121 | S121: 0 | T121: =S121*H121 | AR121: 1024 | AT121: K | AU121: 2 | AY121: ROZPOCET | BE121: =IF(N121="základná",J121,0) | BF121: =IF(N121="znížená",J121,0) | BG121: =IF(N121="zákl. prenesená",J121,0) | BH121: =IF(N121="zníž. prenesená",J121,0) | BI121: =IF(N121="nulová",J121,0) | BJ121: 2 | BK121: =ROUND(I121*H121,2) | BL121: 1024 | BM121: 779213830
D122: VV | F122: 1 bunka × 6 mesiacov (P-21 doba výstavby) = 6 | H122: 6 | AT122: VV | AU122: 2 | AV122: 2 | AW122: True | AX122: 1 | AY122: ROZPOCET
C123: 2 | D123: K | E123: R002 | F123: Zariadenie staveniska - mobilné WC prenájom vrátane servisu | G123: mes | H123: 6 | I123: 110.68 | J123: =ROUND(I123*H123,2) | N123: základná | O123: 0 | P123: =O123*H123 | Q123: 0 | R123: =Q123*H123 | S123: 0 | T123: =S123*H123 | AR123: 1024 | AT123: K | AU123: 2 | AY123: ROZPOCET | BE123: =IF(N123="základná",J123,0) | BF123: =IF(N123="znížená",J123,0) | BG123: =IF(N123="zákl. prenesená",J123,0) | BH123: =IF(N123="zníž. prenesená",J123,0) | BI123: =IF(N123="nulová",J123,0) | BJ123: 2 | BK123: =ROUND(I123*H123,2) | BL123: 1024 | BM123: 1943898240
D124: VV | F124: 1 WC × 6 mesiacov (P-21) = 6 | H124: 6 | AT124: VV | AU124: 2 | AV124: 2 | AW124: True | AX124: 1 | AY124: ROZPOCET
C125: 3 | D125: K | E125: R003 | F125: Zariadenie staveniska - staveniskový rozvádzač prenájom | G125: mes | H125: 6 | I125: 60 | J125: =ROUND(I125*H125,2) | N125: základná | O125: 0 | P125: =O125*H125 | Q125: 0 | R125: =Q125*H125 | S125: 0 | T125: =S125*H125 | AR125: 1024 | AT125: K | AU125: 2 | AY125: ROZPOCET | BE125: =IF(N125="základná",J125,0) | BF125: =IF(N125="znížená",J125,0) | BG125: =IF(N125="zákl. prenesená",J125,0) | BH125: =IF(N125="zníž. prenesená",J125,0) | BI125: =IF(N125="nulová",J125,0) | BJ125: 2 | BK125: =ROUND(I125*H125,2) | BL125: 1024 | BM125: -220775416
D126: VV | F126: 1 rozvádzač × 6 mesiacov (P-21) = 6 | H126: 6 | AT126: VV | AU126: 2 | AV126: 2 | AW126: True | AX126: 1 | AY126: ROZPOCET
C127: 4 | D127: K | E127: R004 | F127: Zariadenie staveniska - doprava, osadenie a odvoz stavebnej bunky a mobilného WC | G127: kpl | H127: 1 | I127: 500 | J127: =ROUND(I127*H127,2) | N127: základná | O127: 0 | P127: =O127*H127 | Q127: 0 | R127: =Q127*H127 | S127: 0 | T127: =S127*H127 | AR127: 1024 | AT127: K | AU127: 2 | AY127: ROZPOCET | BE127: =IF(N127="základná",J127,0) | BF127: =IF(N127="znížená",J127,0) | BG127: =IF(N127="zákl. prenesená",J127,0) | BH127: =IF(N127="zníž. prenesená",J127,0) | BI127: =IF(N127="nulová",J127,0) | BJ127: 2 | BK127: =ROUND(I127*H127,2) | BL127: 1024 | BM127: 736542553
D128: VV | F128: 1 kpl (dovoz a odvoz bunky a WC) | H128: 1 | AT128: VV | AU128: 2 | AV128: 2 | AW128: True | AX128: 1 | AY128: ROZPOCET
C129: 5 | D129: K | E129: R005 | F129: Kontajner 7 m3 na stavebný odpad - pristavenie, odvoz odpadu a poplatok za uloženie (17 09 04) | G129: ks | H129: 3 | I129: 520 | J129: =ROUND(I129*H129,2) | N129: základná | O129: 0 | P129: =O129*H129 | Q129: 0 | R129: =Q129*H129 | S129: 0 | T129: =S129*H129 | AR129: 1024 | AT129: K | AU129: 2 | AY129: ROZPOCET | BE129: =IF(N129="základná",J129,0) | BF129: =IF(N129="znížená",J129,0) | BG129: =IF(N129="zákl. prenesená",J129,0) | BH129: =IF(N129="zníž. prenesená",J129,0) | BI129: =IF(N129="nulová",J129,0) | BJ129: 2 | BK129: =ROUND(I129*H129,2) | BL129: 1024 | BM129: 203316728
D130: VV | F130: 3 ks (P-22 odpad z obalov a prírezov) | H130: 3 | AT130: VV | AU130: 2 | AV130: 2 | AW130: True | AX130: 1 | AY130: ROZPOCET

Sheet Seznam figur
C4: SEZNAM FIGUR
C5: Kód: | D5: UKAZKA
C6: Stavba: | D6: Rodinný dom, Košický kraj
C7: Dátum: | D7: ='Rekapitulácia stavby'!AN8
C9: Kód | D9: Popis | E9: MJ | F9: Výměra
C10: S01 | D10: S01 - Rodinný dom
C11: V001 | D11: Pôdorys muriva RD (nočné krídlo 20,85×7,50 + denné krídlo 10,68×6,50) | E11: m2 | F11: 225.795
D12: 20,85 × 7,5+10,68 × 6,5 | F12: 225.795
C13: V001 | D13: Součet | F13: 225.795
C14: V002 | D14: Obvod obvodového muriva po vonkajšom líci | E14: m | F14: 78.06
D15: 2 × (20,85+7,5)+2 × 10,68 | F15: 78.06
C16: V002 | D16: Součet | F16: 78.06
C17: V003 | D17: Dĺžka obvodových stien v osi (obvod - 4 × 2 × 0,15 pre 5 vonkajších a 1 vnútorný roh) | E17: m | F17: 76.86
D18: 78,06-4 × 2 × 0,15 | F18: 76.86
C19: V003 | D19: Součet | F19: 76.86
C20: V004 | D20: Vnútorné nosné steny Porotherm 30 (2 priečne v nočnom krídle 6,90 + stena pri dennom krídle 5,90) | E20: m | F20: 19.7
D21: 2 × 6,9+5,9 | F21: 19.7
C22: V004 | D22: Součet | F22: 19.7
C23: V005 | D23: Obvod vnútorného líca obvodových stien | E23: m | F23: 75.66
D24: 78,06-4 × 2 × 0,3 | F24: 75.66
C25: V005 | D25: Součet | F25: 75.66
C26: V006 | D26: Dĺžka základových pásov 700×600 (os obvodových + 2×6,50 + 5,50 medzi pásmi) | E26: m | F26: 95.36
D27: 76,86+2 × 6,5+5,5 | F27: 95.36
C28: V006 | D28: Součet | F28: 95.36
C29: V007 | D29: Dĺžka DT30 (os obvodových stien + vnútorné steny) | E29: m | F29: 96.56
D30: 76,86+19,7 | F30: 96.56
C31: V007 | D31: Součet | F31: 96.56
C32: V008 | D32: Plocha vnútri DT stien (pôdorys - obvodové steny - vnútorné nosné steny) | E32: m2 | F32: 196.827
D33: 225,795-76,86 × 0,3-19,7 × 0,3 | F33: 196.827
C34: V008 | D34: Součet | F34: 196.827
C35: V009 | D35: Terasa 1.18 (tabuľka miestností) | E35: m2 | F35: 32.78
D36: 32,78 | F36: 32.78
C37: V009 | D37: Součet | F37: 32.78
C38: V010 | D38: Voľný okraj terasy (DT25 jeden rad): obrys L 7,62 × 9,99 bez strán pri dome | E38: m | F38: 17.61
D39: 7,62+9,99 | F39: 17.61
C40: V010 | D40: Součet | F40: 17.61
C41: V011 | D41: Odkopávka pre dosku a štrkové lôžko do -0,520 (obrys základov) + terasa do -0,370 | E41: m3 | F41: 137.743
D42: (20,85+0,4) × (7,5+0,4) × 0,52+10,68 × (6,5+0,4) × 0,52+32,78 × 0,37 | F42: 137.743
C43: V011 | D43: Součet | F43: 137.743
C44: V012 | D44: Výkop rýh pre pásy 0,70 × (1,570 - 0,520) | E44: m3 | F44: 70.09
D45: 95,36 × 0,7 × 1,05 | F45: 70.09
C46: V012 | D46: Součet | F46: 70.09
C47: V013 | D47: Jamy: pätka stĺpa 0,6×0,6×0,65 + pás steny terasy 0,7×2,15×1,2 + pätka steny 0,7×0,7×1,2 | E47: m3 | F47: 2.628
D48: 0,6 × 0,6 × 0,65+0,7 × 2,15 × 1,2+0,7 × 0,7 × 1,2 | F48: 2.628
C49: V013 | D49: Součet | F49: 2.628
C50: V014 | D50: Zásyp pri vnútornom líci DT nad pásom (0,20 × 0,35 × dĺžka vnútorných líc) | E50: m3 | F50: 8.054
D51: 0,2 × 0,35 × (75,66+2 × 19,7) | F51: 8.054
C52: V014 | D52: Součet | F52: 8.054
C53: V015 | D53: Prebytok výkopku na odvoz (výkopy - zásyp) | E53: m3 | F53: 202.407
D54: 137,743+70,09+2,628-8,054 | F54: 202.407
C55: V015 | D55: Součet | F55: 202.407
C56: V016 | D56: Betón pásov C20/25: 0,7 × 0,6 × 95,36 + pás steny terasy 0,7×0,6×2,15 + pätka steny 0,7×0,7×0,6 | E56: m3 | F56: 41.248
D57: 0,7 × 0,6 × 95,36+0,7 × 0,6 × 2,15+0,7 × 0,7 × 0,6 | F57: 41.248
C58: V016 | D58: Součet | F58: 41.248
C59: V017 | D59: Štrkové lôžko fr. 8/16: pod pásy 0,1 + pod dosku 0,15 + terasa 0,15 + pätky 0,1 | E59: m3 | F59: 41.352
D60: 0,7 × 0,1 × 95,36+196,827 × 0,15+32,78 × 0,15+(0,36+0,7 × 2,15+0,49) × 0,1 | F60: 41.352
C61: V017 | D61: Součet | F61: 41.352
C62: V018 | D62: Geotextília FILTEK 300 pod lôžka (dno rýh + plocha dosky + terasa + pätky) | E62: m2 | F62: 298.714
D63: 0,7 × 95,36+196,827+32,78+0,36+0,7 × 2,15+0,49 | F63: 298.714
C64: V018 | D64: Součet | F64: 298.714
C65: V019 | D65: DT30 s výplňou C20/25: 96,56 × 0,50 × 0,30 | E65: m3 | F65: 14.484
D66: 96,56 × 0,5 × 0,3 | F66: 14.484
C67: V019 | D67: Součet | F67: 14.484
C68: V020 | D68: DT25: okraj terasy 1 rad 17,61×0,25 + steny terasy (1,75 + 1,00) × 3,38 výšky | E68: m3 | F68: 3.424
D69: 17,61 × 0,25 × 0,25+(1,75+1,0) × 3,38 × 0,25 | F69: 3.424
C70: V020 | D70: Součet | F70: 3.424
C71: V021 | D71: Základová doska C20/25 hr. 150 cez celý pôdorys muriva | E71: m3 | F71: 33.869
D72: 225,795 × 0,15 | F72: 33.869
C73: V021 | D73: Součet | F73: 33.869
C74: V022 | D74: Doska terasy C16/20 hr. 150 | E74: m3 | F74: 4.917
D75: 32,78 × 0,15 | F75: 4.917
C76: V022 | D76: Součet | F76: 4.917
C77: V023 | D77: Výška muriva od dosky -0,220 po spodok venca +2,530 | E77: m | F77: 2.75
D78: 2,53+0,22 | F78: 2.75
C79: V023 | D79: Součet | F79: 2.75
C80: V024 | D80: Plocha vonkajších otvorov z výpisu 012 | E80: m2 | F80: 51.39
D81: 2,175 × 2,28+1,0 × 2,28+1,025 × 2,28+1,5 × 1,38+2 × 1,95 × (1,7+3,02) / 2+5,5 × 2,28+3 × 2,0 × 2,28+0,75 × 1,08+1,0 × 1,08+1,625 × 1,08+0,625 × 1,08 | F81: 51.39
C82: V024 | D82: Součet | F82: 51.39
C83: V025 | D83: Štíty Porotherm 30: nočné krídlo 2 × 0,5 × 7,5 × 3,75·tg35° + denné krídlo 0,5 × 6,5 × 3,25·tg35° | E83: m2 | F83: 27.089
D84: 2 × 0,5 × 7,5 × 3,75 × 0,7002+0,5 × 6,5 × 3,25 × 0,7002 | F84: 27.089
C85: V025 | D85: Součet | F85: 27.089
C86: V026 | D86: Murivo Porotherm 30 Profi: (obvod 76,86 + vnútorné 19,70) × 2,75 + štíty - otvory, × 0,30 - preklady | E86: m3 | F86: 70.412
D87: ((76,86+19,7) × 2,75+27,089-51,39) × 0,3-1,96 | F87: 70.412
C88: V026 | D88: Součet | F88: 70.412
C89: V027 | D89: Priečky Ytong 150 (súčet obvodov miestností 220,40 - vnútorné líce 75,66 - 2 × 19,70) / 2 | E89: m | F89: 52.67
D90: (220,4-75,66-2 × 19,7) / 2 | F90: 52.67
C91: V027 | D91: Součet | F91: 52.67
C92: V028 | D92: Priečky Ytong 150: 52,67 × 3,12 (-0,220 až +2,900 podhľad) - dvere D3-D7 | E92: m2 | F92: 145.695
D93: 52,67 × 3,12-(1,375 × 2,2+0,6 × 2,1+5 × 0,8 × 2,1+3 × 0,7 × 2,1+0,7 × 2,2) | F93: 145.695
C94: V028 | D94: Součet | F94: 145.695
C95: V029 | D95: Veniec 240/250 na nosných múroch | E95: m | F95: 96.56
D96: 76,86+19,7 | F96: 96.56
C97: V029 | D97: Součet | F97: 96.56
C98: V030 | D98: Betón venca 0,24 × 0,25 × 96,56 | E98: m3 | F98: 5.794
D99: 0,24 × 0,25 × 96,56 | F99: 5.794
C100: V030 | D100: Součet | F100: 5.794
C101: V031 | D101: Debnenie venca: vnútorné líce 0,25 × (75,66 + 2 × 19,70) + vonkajšie 0,25 × 78,06 | E101: m2 | F101: 48.28
D102: 0,25 × (75,66+2 × 19,7)+0,25 × 78,06 | F102: 48.28
C103: V031 | D103: Součet | F103: 48.28
C104: V032 | D104: ŽB preklady pod vencom: ŽB-1 6,00 × 0,24 × 0,25 + 2 × ŽB-2 2,45 × 0,24 × 0,25 | E104: m3 | F104: 0.654
...

Sheet Poznámky k rozpočtu
B2: POZNÁMKY K ROZPOČTU
B3: Rodinný dom, Košický kraj
B5: Poznámky k rozpočtu:
B6: Sadzbu DPH uvádzame podľa druhu plnenia; konečnú sadzbu určuje platiteľ podľa skutočného plnenia.
B7: Rozpočet slúži ako podklad pre cenovú ponuku, konečnú kontrolu a schválenie vykonáva objednávateľ.
B8: Množstvá vychádzajú z podkladov odovzdaných objednávateľom. Pri zmene alebo upresnení dokumentácie je potrebné rozpočet aktualizovať.
B9: Rozpočet je spracovaný podľa projektu stavby (stavebný zámer a projekt stavby, 08/2026) v cenovej úrovni CENEKON 2026/02 (02/2026). Ceny sú bez DPH.
B10: Rozpočet obsahuje: S01 stavebnú časť rodinného domu (HSV a PSV) a S08 oplotenie s bránami.
B11: Rozpočet neobsahuje: zdravotechniku, ústredné a podlahové vykurovanie, klimatizáciu, elektroinštaláciu a bleskozvod (zemniaci pás v základoch v rozpočte je), elektrický vrátnik bránky a napájanie pohonu brány, vzduchotechniku, prípojky S02 až S06, spevnené plochy S07 vrátane plôch zo zámkovej dlažby a štrkového okapového chodníka, zariaďovacie predmety a sklenené sprchové zásteny, kuchynskú linku, krbové kachle (dodávka investora) a geodetické vytýčenie stavby a sietí (zabezpečuje investor podľa TZ 6.1.1). Tieto časti nemajú v podkladoch samostatný projekt.
B12: S čím počítame (predpoklady, ktoré si môžete upraviť jedným číslom; druhá varianta je pri každom uvedená):
B13: P-1: Obvodové a vnútorné nosné murivo POROTHERM 30 Profi P15 na tenkovrstvú maltu podľa výkresov a TZ 6.1.3. Druhá varianta: Ytong Klasik 300 podľa úvodu TZ kap. 6, rozdiel približne 1 000 až 2 500 EUR.
B14: P-2: Vnútorné dvere v obložkových zárubniach, dvere D7 so skrytou kovovou zárubňou podľa výpisu 013. Výška dverí 2 100 a 2 200 mm podľa výpisu.
... B36: P-27: Hliníkové okná a dvere sú ocenené cenou systému Aluprof MB-79N / MB-77HS prepočítanou na m2 otvoru (dostupné ceny platia pre Uw 0,9 až 1,1; pre predpísané Uw 0,60 a 47 dB bude cena vyššia); drevené priehradové väzníky podľa ceny za m2 strechy, ich návrh a statické posúdenie zabezpečí dodávateľ väzníkov. Presná cena podľa ponuky výrobcu.
