Workbook

Sheet Rekapitulácia stavby
A1: Export Komplet | BA1: 2.0 | BB1: ZAMOK | BT1: False | BU1: False | BV1: {c6828c9f-3f65-456d-a51a-95de5ca87137}
BS2: 0,01 | BT2: 23
BS3: 0,01 | BT3: 19
D4: REKAPITULÁCIA STAVBY | AS4: v --- níže se nacházejí doplnkové a pomocné údaje k sestavám --- v | BS4: 0,001
D5: Kód: | K5: UKAZKA | BS5: 0,01
D6: Stavba: | K6: Rodinný dom, Košický kraj | BS6: 0,01
D7: KSO: | AK7: CC-SK: | BS7: 0,01
D8: Miesto: | K8: Košický kraj | AK8: Dátum: | AN8: 10/2026 | BS8: 0,01
BS9: 0,01
D10: Zadávateľ: | AK10: IČO: | BS10: 0,01
E11: Anonymizované | AK11: DIČ: | BS11: 0,01
BS12: 0,01
D13: Zhotoviteľ: | AK13: IČO: | BS13: 0,01
AK14: DIČ: | BS14: 0,01
BS15: False
D16: Projektant: | AK16: IČO: | BS16: False
E17: Anonymizované | AK17: DIČ: | BS17: True
BS18: 0,01
D19: Spracovateľ: | AK19: IČO: | BS19: 0,01
AK20: DIČ: | BS20: True
D22: Poznámka:
E23: Úplné znenie poznámok je na liste Poznámky k rozpočtu. Poznámky k rozpočtu: Sadzbu DPH uvádzame podľa druhu plnenia; konečnú sadzbu určuje platiteľ podľa skutočného plnenia. Rozpočet slúži ako podklad pre cenovú ponuku, konečnú kontrolu a schválenie vykonáva objednávateľ. Množstvá vychádzajú z podkladov odovzdaných objednávateľom. Pri zmene alebo upresnení dokumentácie je potrebné rozpočet aktualizovať. Rozpočet je spracovaný podľa projektu stavby (stavebný zámer a projekt stavby, 08/2026) v cenovej úrovni CENEKON 2026/02 (02/2026). Ceny sú bez DPH. Rozpočet obsahuje: S01 stavebnú časť rodinného domu (HSV a PSV) a S08 oplotenie s bránami. Rozpočet neobsahuje: zdravotechniku, ústredné a podlahové vykurovanie, klimatizáciu, elektroinštaláciu a bleskozvod (zemniaci pás v základoch v rozpočte je), elektrický vrátnik bránky a napájanie pohonu brány, vzduchotechniku, prípojky S02 až S06, spevnené plochy S07 vrátane plôch zo zámkovej dlažby a štrkového okapového chodníka, zariaďovacie predmety a sklenené sprchové zásteny, kuchynskú linku, krbové kachle (dodávka investora) a geodetické vytýčenie stavby a sietí (zabezpečuje investor podľa TZ 6.1.1). Tieto časti nemajú v podkladoch samostatný projekt.
D26: Cena bez DPH | AK26: =ROUND(AG94,2)
L28: Sadzba dane | W28: Základ dane | AK28: Výška dane
D29: DPH | F29: základná | L29: 0.23 | W29: =ROUND(AZ94, 2) | AK29: =ROUND(AV94, 2)
F30: znížená | L30: 0.19 | W30: =ROUND(BA94, 2) | AK30: =ROUND(AW94, 2)
F31: zákl. prenesená | L31: 0.23 | W31: =ROUND(BB94, 2) | AK31: 0
F32: zníž. prenesená | L32: 0.19 | W32: =ROUND(BC94, 2) | AK32: 0
F33: nulová | L33: 0 | W33: =ROUND(BD94, 2) | AK33: 0
D35: Cena s DPH | T35: v | X35: EUR | AK35: =SUM(AK26:AK33)
D49: Projektant | AH49: Spracovateľ
D60: Dátum a podpis: | V60: Pečiatka | AH60: Dátum a podpis: | AM60: Pečiatka
D64: Objednávateľ | AH64: Zhotoviteľ
D75: Dátum a podpis: | V75: Pečiatka | AH75: Dátum a podpis: | AM75: Pečiatka
C82: REKAPITULÁCIA OBJEKTOV STAVBY A SÚPISOV PRÁC
C84: Kód: | L84: =K5
C85: Stavba: | L85: =K6
C87: Miesto: | L87: =IF(K8="","",K8) | AI87: Dátum: | AM87: =IF(AN8= "","",AN8)
C89: Zadávateľ: | L89: =IF(E11= "","",E11) | AI89: Projektant: | AM89: =IF(E17="","",E17) | AS89: Informatívne údaje z listov zákaziek
C90: Zhotoviteľ: | L90: =IF(E14="","",E14) | AI90: Spracovateľ: | AM90: =IF(E20="","",E20)
...

Sheet SO 01 - S01 - Rodinný dom
AT2: {b0869ecf-e606-426e-a13b-e4388be6ceba}
AT3: 1
D4: KRYCÍ LIST SÚPISU PRÁC | M4: v --- níže se nacházejí doplnkové a pomocné údaje k sestavám --- v | AT4: False
D6: Stavba:
E7: ='Rekapitulácia stavby'!K6
D8: Objekt:
E9: SO 01 - S01 - Rodinný dom
D11: KSO: | I11: CC-SK:
D12: Miesto: | F12: Košický kraj | I12: Dátum: | J12: ='Rekapitulácia stavby'!AN8
D14: Zadávateľ: | I14: IČO:
E15: Anonymizované | I15: DIČ:
D17: Zhotoviteľ: | I17: IČO: | J17: =IF('Rekapitulácia stavby'!AN13="","",'Rekapitulácia stavby'!AN13)
E18: =IF('Rekapitulácia stavby'!E14="","",'Rekapitulácia stavby'!E14) | I18: DIČ: | J18: =IF('Rekapitulácia stavby'!AN14="","",'Rekapitulácia stavby'!AN14)
D20: Projektant: | I20: IČO:
E21: Anonymizované | I21: DIČ:
D23: Spracovateľ: | I23: IČO:
I24: DIČ:
D26: Poznámka:
E27: Úplné znenie poznámok je na liste Poznámky k rozpočtu. S čím počítame (predpoklady, ktoré si môžete upraviť jedným číslom; druhá varianta je pri každom uvedená): P-1: Obvodové a vnútorné nosné murivo POROTHERM 30 Profi P15 na tenkovrstvú maltu podľa výkresov a TZ 6.1.3. Druhá varianta: Ytong Klasik 300 podľa úvodu TZ kap. 6, rozdiel približne 1 000 až 2 500 EUR. P-2: Vnútorné dvere v obložkových zárubniach, dvere D7 so skrytou kovovou zárubňou podľa výpisu 013. Výška dverí 2 100 a 2 200 mm podľa výpisu. P-3: SDK podhľady Knauf D112 s doskami White, v kúpeľniach a WC Green 12,5 mm (TZ 6.1.10). Druhá varianta: protipožiarne dosky, rozdiel približne 200 až 400 EUR. P-4: Podlahy P1 až P3 so skladbou poter 80 mm, PE fólia a EPS 120 mm; systémová doska a rozvody podlahového vykurovania patria k ústrednému vykurovaniu, ktoré v rozpočte nie je. P-5: Dažďové zvody v rozmere ø120 podľa TZ 6.1.14; výpis 014 uvádza ø125, cenový rozdiel je zanedbateľný. P-6: Laty 50/30 a kontralaty 80/30 podľa výpisu reziva 006 (TZ uvádza 50/30 v oboch vrstvách, rozdiel do 800 EUR). P-7: Základový pás oplotenia 400 × 800 mm podľa technického popisu výkresu 004 S08 (TZ uvádza hĺbku 700 mm, rozdiel do 200 EUR). P-9: Sokel a komínové teleso s lepeným kamenným obkladom podľa TZ 6.1.9 a pohľadov. Druhá varianta: dekoratívna omietka vzor kameňa, nižšia približne o 2 000 až 2 700 EUR. P-12: Komín Schiedel Absolut s obmurovkou komínového telesa podľa pôdorysu je v rozpočte, krbové kachle dodáva investor. P-13: Výkopok nad potrebu zásypu sa odváža na skládku do 10 km. Druhá varianta: ponechanie zeminy na pozemku investora, nižšia približne o 14 990,27 EUR bez DPH (odpadne odvoz a poplatok za skládku; nakladanie a uloženie výkopku na pozemku zostávajú). P-14: Poplatok za uloženie výkopku je prepočítaný objemovou hmotnosťou 1,8 t/m3. P-15: Statický výpočet nebol súčasťou podkladov; výstuž je ocenená smernými hodnotami: DT tvárnice 70 kg/m3, vence a ŽB preklady 90 kg/m3, základová doska KARI 6/150/150 podľa TZ. P-16: Komínový systém Schiedel Absolut DN 180, jednoprieduchový, ocenený katalógovou zostavou výšky 6,33 m (najvyššia v katalógu CENEKON; komín meria cca 7,1 m, predĺženie o cca 0,8 m upresní dodávateľ); priemer prieduchu upresní investor podľa krbových kachlí. P-17: Fasádne lešenie je ocenené na dobu 2 mesiacov (9 týždňov). P-18: Spotreba asfaltovej penetrácie 0,3 kg/m2 podľa technického listu. P-19: Presahy asfaltových pásov a PVC fólie 15 %. P-20: Chemická kotva 280 ml na 13 kotiev M12 a M16. P-21: Zariadenie staveniska je ocenené na dobu výstavby 6 mesiacov. P-22: Odpad z obalov a prírezov: 3 kontajnery 7 m3 vrátane odvozu a poplatku. P-23: Murivo vnútorných nosných stien bez odpočtu priechodov, ktoré v pôdoryse nie sú kótované. P-24: Konkrétny typ dlažby, obkladu a laminátu určí investor; ocenená je dlažba 333 × 333 mm, obklad 398 × 198 mm a laminát hr. 8 mm s podložkou. P-25: Rektifikovateľné terče pod terasu 4 ks/m2. P-26: Hliníkový rošt WPC fasády v rastri 0,6 × 0,6 m (1,7 bm profilu a 2,8 konzoly dĺžky 220 mm na m2). P-27: Hliníkové okná a dvere sú ocenené cenou systému Aluprof MB-79N / MB-77HS prepočítanou na m2 otvoru (dostupné ceny platia pre Uw 0,9 až 1,1; pre predpísané Uw 0,60 a 47 dB bude cena vyššia); drevené priehradové väzníky podľa ceny za m2 strechy, ich návrh a statické posúdenie zabezpečí dodávateľ väzníkov. Presná cena podľa ponuky výrobcu.
D30: Cena bez DPH | J30: =ROUND(J141, 2)
F32: Základ dane | I32: Sadzba dane | J32: Výška dane
D33: DPH | E33: základná | F33: =ROUND((SUM(BE141:BE616)), 2) | I33: 0.23 | J33: =ROUND(((SUM(BE141:BE616))*I33), 2)
E34: znížená | F34: =ROUND((SUM(BF141:BF616)), 2) | I34: 0.19 | J34: =ROUND(((SUM(BF141:BF616))*I34), 2)
E35: zákl. prenesená | F35: =ROUND((SUM(BG141:BG616)), 2) | I35: 0.23 | J35: =0
E36: zníž. prenesená | F36: =ROUND((SUM(BH141:BH616)), 2) | I36: 0.19 | J36: =0
E37: nulová | F37: =ROUND((SUM(BI141:BI616)), 2) | I37: 0 | J37: =0
D39: Cena s DPH | G39: v | H39: EUR | J39: =SUM(J30:J37)
D50: Projektant | G50: Spracovateľ
D61: Dátum a podpis: | F61: Pečiatka | G61: Dátum a podpis: | J61: Pečiatka
D65: Objednávateľ | G65: Zhotoviteľ
D76: Dátum a podpis: | F76: Pečiatka | G76: Dátum a podpis: | J76: Pečiatka
C82: REKAPITULÁCIA ČLENENIA SÚPISU PRÁC
C84: Stavba:
E85: =E7
C86: Objekt:
E87: =E9
C89: Miesto: | F89: =F12 | I89: Dátum: | J89: =IF(J12="","",J12)
C91: Zadávateľ: | F91: =E15 | I91: Projektant: | J91: =E21
C92: Zhotoviteľ: | F92: =IF(E18="","",E18) | I92: Spracovateľ: | J92: =E24
C94: Kód dielu - Popis | J94: Cena celkom [EUR]
...

Sheet SO 08 - S08 - Oplotenie
AT2: {cc7b13c2-0e2a-4347-8aa8-ea302485788f}
AT3: 1
D4: KRYCÍ LIST SÚPISU PRÁC | M4: v --- níže se nacházejí doplnkové a pomocné údaje k sestavám --- v | AT4: False
D6: Stavba:
E7: ='Rekapitulácia stavby'!K6
D8: Objekt:
E9: SO 08 - S08 - Oplotenie
D11: KSO: | I11: CC-SK:
D12: Miesto: | F12: Košický kraj | I12: Dátum: | J12: ='Rekapitulácia stavby'!AN8
D14: Zadávateľ: | I14: IČO:
E15: Anonymizované | I15: DIČ:
D17: Zhotoviteľ: | I17: IČO: | J17: =IF('Rekapitulácia stavby'!AN13="","",'Rekapitulácia stavby'!AN13)
E18: =IF('Rekapitulácia stavby'!E14="","",'Rekapitulácia stavby'!E14) | I18: DIČ: | J18: =IF('Rekapitulácia stavby'!AN14="","",'Rekapitulácia stavby'!AN14)
D20: Projektant: | I20: IČO:
E21: Anonymizované | I21: DIČ:
D23: Spracovateľ: | I23: IČO:
I24: DIČ:
D26: Poznámka:
E27: Úplné znenie poznámok je na liste Poznámky k rozpočtu. S čím počítame (predpoklady, ktoré si môžete upraviť jedným číslom; druhá varianta je pri každom uvedená): P-1: Obvodové a vnútorné nosné murivo POROTHERM 30 Profi P15 na tenkovrstvú maltu podľa výkresov a TZ 6.1.3. Druhá varianta: Ytong Klasik 300 podľa úvodu TZ kap. 6, rozdiel približne 1 000 až 2 500 EUR. P-2: Vnútorné dvere v obložkových zárubniach, dvere D7 so skrytou kovovou zárubňou podľa výpisu 013. Výška dverí 2 100 a 2 200 mm podľa výpisu. P-3: SDK podhľady Knauf D112 s doskami White, v kúpeľniach a WC Green 12,5 mm (TZ 6.1.10). Druhá varianta: protipožiarne dosky, rozdiel približne 200 až 400 EUR. P-4: Podlahy P1 až P3 so skladbou poter 80 mm, PE fólia a EPS 120 mm; systémová doska a rozvody podlahového vykurovania patria k ústrednému vykurovaniu, ktoré v rozpočte nie je. P-5: Dažďové zvody v rozmere ø120 podľa TZ 6.1.14; výpis 014 uvádza ø125, cenový rozdiel je zanedbateľný. P-6: Laty 50/30 a kontralaty 80/30 podľa výpisu reziva 006 (TZ uvádza 50/30 v oboch vrstvách, rozdiel do 800 EUR). P-7: Základový pás oplotenia 400 × 800 mm podľa technického popisu výkresu 004 S08 (TZ uvádza hĺbku 700 mm, rozdiel do 200 EUR). P-9: Sokel a komínové teleso s lepeným kamenným obkladom podľa TZ 6.1.9 a pohľadov. Druhá varianta: dekoratívna omietka vzor kameňa, nižšia približne o 2 000 až 2 700 EUR. P-12: Komín Schiedel Absolut s obmurovkou komínového telesa podľa pôdorysu je v rozpočte, krbové kachle dodáva investor. P-13: Výkopok nad potrebu zásypu sa odváža na skládku do 10 km. Druhá varianta: ponechanie zeminy na pozemku investora, nižšia približne o 14 990,27 EUR bez DPH (odpadne odvoz a poplatok za skládku; nakladanie a uloženie výkopku na pozemku zostávajú). P-14: Poplatok za uloženie výkopku je prepočítaný objemovou hmotnosťou 1,8 t/m3. P-15: Statický výpočet nebol súčasťou podkladov; výstuž je ocenená smernými hodnotami: DT tvárnice 70 kg/m3, vence a ŽB preklady 90 kg/m3, základová doska KARI 6/150/150 podľa TZ. P-16: Komínový systém Schiedel Absolut DN 180, jednoprieduchový, ocenený katalógovou zostavou výšky 6,33 m (najvyššia v katalógu CENEKON; komín meria cca 7,1 m, predĺženie o cca 0,8 m upresní dodávateľ); priemer prieduchu upresní investor podľa krbových kachlí. P-17: Fasádne lešenie je ocenené na dobu 2 mesiacov (9 týždňov). P-18: Spotreba asfaltovej penetrácie 0,3 kg/m2 podľa technického listu. P-19: Presahy asfaltových pásov a PVC fólie 15 %. P-20: Chemická kotva 280 ml na 13 kotiev M12 a M16. P-21: Zariadenie staveniska je ocenené na dobu výstavby 6 mesiacov. P-22: Odpad z obalov a prírezov: 3 kontajnery 7 m3 vrátane odvozu a poplatku. P-23: Murivo vnútorných nosných stien bez odpočtu priechodov, ktoré v pôdoryse nie sú kótované. P-24: Konkrétny typ dlažby, obkladu a laminátu určí investor; ocenená je dlažba 333 × 333 mm, obklad 398 × 198 mm a laminát hr. 8 mm s podložkou. P-25: Rektifikovateľné terče pod terasu 4 ks/m2. P-26: Hliníkový rošt WPC fasády v rastri 0,6 × 0,6 m (1,7 bm profilu a 2,8 konzoly dĺžky 220 mm na m2). P-27: Hliníkové okná a dvere sú ocenené cenou systému Aluprof MB-79N / MB-77HS prepočítanou na m2 otvoru (dostupné ceny platia pre Uw 0,9 až 1,1; pre predpísané Uw 0,60 a 47 dB bude cena vyššia); drevené priehradové väzníky podľa ceny za m2 strechy, ich návrh a statické posúdenie zabezpečí dodávateľ väzníkov. Presná cena podľa ponuky výrobcu.
D30: Cena bez DPH | J30: =ROUND(J125, 2)
F32: Základ dane | I32: Sadzba dane | J32: Výška dane
D33: DPH | E33: základná | F33: =ROUND((SUM(BE125:BE176)), 2) | I33: 0.23 | J33: =ROUND(((SUM(BE125:BE176))*I33), 2)
E34: znížená | F34: =ROUND((SUM(BF125:BF176)), 2) | I34: 0.19 | J34: =ROUND(((SUM(BF125:BF176))*I34), 2)
E35: zákl. prenesená | F35: =ROUND((SUM(BG125:BG176)), 2) | I35: 0.23 | J35: =0
E36: zníž. prenesená | F36: =ROUND((SUM(BH125:BH176)), 2) | I36: 0.19 | J36: =0
E37: nulová | F37: =ROUND((SUM(BI125:BI176)), 2) | I37: 0 | J37: =0
D39: Cena s DPH | G39: v | H39: EUR | J39: =SUM(J30:J37)
D50: Projektant | G50: Spracovateľ
D61: Dátum a podpis: | F61: Pečiatka | G61: Dátum a podpis: | J61: Pečiatka
D65: Objednávateľ | G65: Zhotoviteľ
D76: Dátum a podpis: | F76: Pečiatka | G76: Dátum a podpis: | J76: Pečiatka
C82: REKAPITULÁCIA ČLENENIA SÚPISU PRÁC
C84: Stavba:
E85: =E7
C86: Objekt:
E87: =E9
C89: Miesto: | F89: =F12 | I89: Dátum: | J89: =IF(J12="","",J12)
C91: Zadávateľ: | F91: =E15 | I91: Projektant: | J91: =E21
C92: Zhotoviteľ: | F92: =IF(E18="","",E18) | I92: Spracovateľ: | J92: =E24
C94: Kód dielu - Popis | J94: Cena celkom [EUR]
...

Sheet VRN - VRN - Vedľajšie rozpoč...
AT2: {f50f342d-77bb-45c3-82d2-b7c9ee3e43cd}
AT3: 1
D4: KRYCÍ LIST SÚPISU PRÁC | M4: v --- níže se nacházejí doplnkové a pomocné údaje k sestavám --- v | AT4: False
D6: Stavba:
E7: ='Rekapitulácia stavby'!K6
D8: Objekt:
E9: VRN - VRN - Vedľajšie rozpočtové náklady
D11: KSO: | I11: CC-SK:
D12: Miesto: | F12: Košický kraj | I12: Dátum: | J12: ='Rekapitulácia stavby'!AN8
D14: Zadávateľ: | I14: IČO:
E15: Anonymizované | I15: DIČ:
D17: Zhotoviteľ: | I17: IČO: | J17: =IF('Rekapitulácia stavby'!AN13="","",'Rekapitulácia stavby'!AN13)
E18: =IF('Rekapitulácia stavby'!E14="","",'Rekapitulácia stavby'!E14) | I18: DIČ: | J18: =IF('Rekapitulácia stavby'!AN14="","",'Rekapitulácia stavby'!AN14)
D20: Projektant: | I20: IČO:
E21: Anonymizované | I21: DIČ:
D23: Spracovateľ: | I23: IČO:
I24: DIČ:
D26: Poznámka:
E27: Úplné znenie poznámok je na liste Poznámky k rozpočtu. S čím počítame (predpoklady, ktoré si môžete upraviť jedným číslom; druhá varianta je pri každom uvedená): P-1: Obvodové a vnútorné nosné murivo POROTHERM 30 Profi P15 na tenkovrstvú maltu podľa výkresov a TZ 6.1.3. Druhá varianta: Ytong Klasik 300 podľa úvodu TZ kap. 6, rozdiel približne 1 000 až 2 500 EUR. P-2: Vnútorné dvere v obložkových zárubniach, dvere D7 so skrytou kovovou zárubňou podľa výpisu 013. Výška dverí 2 100 a 2 200 mm podľa výpisu. P-3: SDK podhľady Knauf D112 s doskami White, v kúpeľniach a WC Green 12,5 mm (TZ 6.1.10). Druhá varianta: protipožiarne dosky, rozdiel približne 200 až 400 EUR. P-4: Podlahy P1 až P3 so skladbou poter 80 mm, PE fólia a EPS 120 mm; systémová doska a rozvody podlahového vykurovania patria k ústrednému vykurovaniu, ktoré v rozpočte nie je. P-5: Dažďové zvody v rozmere ø120 podľa TZ 6.1.14; výpis 014 uvádza ø125, cenový rozdiel je zanedbateľný. P-6: Laty 50/30 a kontralaty 80/30 podľa výpisu reziva 006 (TZ uvádza 50/30 v oboch vrstvách, rozdiel do 800 EUR). P-7: Základový pás oplotenia 400 × 800 mm podľa technického popisu výkresu 004 S08 (TZ uvádza hĺbku 700 mm, rozdiel do 200 EUR). P-9: Sokel a komínové teleso s lepeným kamenným obkladom podľa TZ 6.1.9 a pohľadov. Druhá varianta: dekoratívna omietka vzor kameňa, nižšia približne o 2 000 až 2 700 EUR. P-12: Komín Schiedel Absolut s obmurovkou komínového telesa podľa pôdorysu je v rozpočte, krbové kachle dodáva investor. P-13: Výkopok nad potrebu zásypu sa odváža na skládku do 10 km. Druhá varianta: ponechanie zeminy na pozemku investora, nižšia približne o 14 990,27 EUR bez DPH (odpadne odvoz a poplatok za skládku; nakladanie a uloženie výkopku na pozemku zostávajú). P-14: Poplatok za uloženie výkopku je prepočítaný objemovou hmotnosťou 1,8 t/m3. P-15: Statický výpočet nebol súčasťou podkladov; výstuž je ocenená smernými hodnotami: DT tvárnice 70 kg/m3, vence a ŽB preklady 90 kg/m3, základová doska KARI 6/150/150 podľa TZ. P-16: Komínový systém Schiedel Absolut DN 180, jednoprieduchový, ocenený katalógovou zostavou výšky 6,33 m (najvyššia v katalógu CENEKON; komín meria cca 7,1 m, predĺženie o cca 0,8 m upresní dodávateľ); priemer prieduchu upresní investor podľa krbových kachlí. P-17: Fasádne lešenie je ocenené na dobu 2 mesiacov (9 týždňov). P-18: Spotreba asfaltovej penetrácie 0,3 kg/m2 podľa technického listu. P-19: Presahy asfaltových pásov a PVC fólie 15 %. P-20: Chemická kotva 280 ml na 13 kotiev M12 a M16. P-21: Zariadenie staveniska je ocenené na dobu výstavby 6 mesiacov. P-22: Odpad z obalov a prírezov: 3 kontajnery 7 m3 vrátane odvozu a poplatku. P-23: Murivo vnútorných nosných stien bez odpočtu priechodov, ktoré v pôdoryse nie sú kótované. P-24: Konkrétny typ dlažby, obkladu a laminátu určí investor; ocenená je dlažba 333 × 333 mm, obklad 398 × 198 mm a laminát hr. 8 mm s podložkou. P-25: Rektifikovateľné terče pod terasu 4 ks/m2. P-26: Hliníkový rošt WPC fasády v rastri 0,6 × 0,6 m (1,7 bm profilu a 2,8 konzoly dĺžky 220 mm na m2). P-27: Hliníkové okná a dvere sú ocenené cenou systému Aluprof MB-79N / MB-77HS prepočítanou na m2 otvoru (dostupné ceny platia pre Uw 0,9 až 1,1; pre predpísané Uw 0,60 a 47 dB bude cena vyššia); drevené priehradové väzníky podľa ceny za m2 strechy, ich návrh a statické posúdenie zabezpečí dodávateľ väzníkov. Presná cena podľa ponuky výrobcu.
D30: Cena bez DPH | J30: =ROUND(J118, 2)
F32: Základ dane | I32: Sadzba dane | J32: Výška dane
D33: DPH | E33: základná | F33: =ROUND((SUM(BE118:BE130)), 2) | I33: 0.23 | J33: =ROUND(((SUM(BE118:BE130))*I33), 2)
E34: znížená | F34: =ROUND((SUM(BF118:BF130)), 2) | I34: 0.19 | J34: =ROUND(((SUM(BF118:BF130))*I34), 2)
E35: zákl. prenesená | F35: =ROUND((SUM(BG118:BG130)), 2) | I35: 0.23 | J35: =0
E36: zníž. prenesená | F36: =ROUND((SUM(BH118:BH130)), 2) | I36: 0.19 | J36: =0
E37: nulová | F37: =ROUND((SUM(BI118:BI130)), 2) | I37: 0 | J37: =0
D39: Cena s DPH | G39: v | H39: EUR | J39: =SUM(J30:J37)
D50: Projektant | G50: Spracovateľ
D61: Dátum a podpis: | F61: Pečiatka | G61: Dátum a podpis: | J61: Pečiatka
D65: Objednávateľ | G65: Zhotoviteľ
D76: Dátum a podpis: | F76: Pečiatka | G76: Dátum a podpis: | J76: Pečiatka
C82: REKAPITULÁCIA ČLENENIA SÚPISU PRÁC
C84: Stavba:
E85: =E7
C86: Objekt:
E87: =E9
C89: Miesto: | F89: =F12 | I89: Dátum: | J89: =IF(J12="","",J12)
C91: Zadávateľ: | F91: =E15 | I91: Projektant: | J91: =E21
C92: Zhotoviteľ: | F92: =IF(E18="","",E18) | I92: Spracovateľ: | J92: =E24
C94: Kód dielu - Popis | J94: Cena celkom [EUR]
...

Sheet Seznam figur
C4: SEZNAM FIGUR
C5: Kód: | D5: UKAZKA
C6: Stavba: | D6: Rodinný dom, Košický kraj
C7: Dátum: | D7: ='Rekapitulácia stavby'!AN8
C9: Kód | D9: Popis | E9: MJ | F9: Výměra
C10: S01 | D10: S01 - Rodinný dom
C11: V001 | D11: Pôdorys muriva RD (nočné krídlo 20,85×7,50 + denné krídlo 10,68×6,50) | E11: m2 | F11: 225.795
D12: 20,85 × 7,5+10,68 × 6,5 | F12: 225.795
C13: V001 | D13: Součet | F13: 225.795
C14: V002 | D14: Obvod obvodového muriva po vonkajšom líci | E14: m | F14: 78.06
D15: 2 × (20,85+7,5)+2 × 10,68 | F15: 78.06
C16: V002 | D16: Součet | F16: 78.06
C17: V003 | D17: Dĺžka obvodových stien v osi (obvod - 4 × 2 × 0,15 pre 5 vonkajších a 1 vnútorný roh) | E17: m | F17: 76.86
D18: 78,06-4 × 2 × 0,15 | F18: 76.86
C19: V003 | D19: Součet | F19: 76.86
C20: V004 | D20: Vnútorné nosné steny Porotherm 30 (2 priečne v nočnom krídle 6,90 + stena pri dennom krídle 5,90) | E20: m | F20: 19.7
D21: 2 × 6,9+5,9 | F21: 19.7
C22: V004 | D22: Součet | F22: 19.7
C23: V005 | D23: Obvod vnútorného líca obvodových stien | E23: m | F23: 75.66
D24: 78,06-4 × 2 × 0,3 | F24: 75.66
C25: V005 | D25: Součet | F25: 75.66
C26: V006 | D26: Dĺžka základových pásov 700×600 (os obvodových + 2×6,50 + 5,50 medzi pásmi) | E26: m | F26: 95.36
D27: 76,86+2 × 6,5+5,5 | F27: 95.36
C28: V006 | D28: Součet | F28: 95.36
C29: V007 | D29: Dĺžka DT30 (os obvodových stien + vnútorné steny) | E29: m | F29: 96.56
D30: 76,86+19,7 | F30: 96.56
C31: V007 | D31: Součet | F31: 96.56
C32: V008 | D32: Plocha vnútri DT stien (pôdorys - obvodové steny - vnútorné nosné steny) | E32: m2 | F32: 196.827
D33: 225,795-76,86 × 0,3-19,7 × 0,3 | F33: 196.827
C34: V008 | D34: Součet | F34: 196.827
C35: V009 | D35: Terasa 1.18 (tabuľka miestností) | E35: m2 | F35: 32.78
D36: 32,78 | F36: 32.78
C37: V009 | D37: Součet | F37: 32.78
C38: V010 | D38: Voľný okraj terasy (DT25 jeden rad): obrys L 7,62 × 9,99 bez strán pri dome | E38: m | F38: 17.61
D39: 7,62+9,99 | F39: 17.61
C40: V010 | D40: Součet | F40: 17.61
C41: V011 | D41: Odkopávka pre dosku a štrkové lôžko do -0,520 (obrys základov) + terasa do -0,370 | E41: m3 | F41: 137.743
D42: (20,85+0,4) × (7,5+0,4) × 0,52+10,68 × (6,5+0,4) × 0,52+32,78 × 0,37 | F42: 137.743
C43: V011 | D43: Součet | F43: 137.743
C44: V012 | D44: Výkop rýh pre pásy 0,70 × (1,570 - 0,520) | E44: m3 | F44: 70.09
...

Sheet Poznámky k rozpočtu
B2: POZNÁMKY K ROZPOČTU
B3: Rodinný dom, Košický kraj
B5: Poznámky k rozpočtu:
B6: Sadzbu DPH uvádzame podľa druhu plnenia; konečnú sadzbu určuje platiteľ podľa skutočného plnenia.
B7: Rozpočet slúži ako podklad pre cenovú ponuku, konečnú kontrolu a schválenie vykonáva objednávateľ.
B8: Množstvá vychádzajú z podkladov odovzdaných objednávateľom. Pri zmene alebo upresnení dokumentácie je potrebné rozpočet aktualizovať.
B9: Rozpočet je spracovaný podľa projektu stavby (stavebný zámer a projekt stavby, 08/2026) v cenovej úrovni CENEKON 2026/02 (02/2026). Ceny sú bez DPH.
B10: Rozpočet obsahuje: S01 stavebnú časť rodinného domu (HSV a PSV) a S08 oplotenie s bránami.
B11: Rozpočet neobsahuje: zdravotechniku, ústredné a podlahové vykurovanie, klimatizáciu, elektroinštaláciu a bleskozvod (zemniaci pás v základoch v rozpočte je), elektrický vrátnik bránky a napájanie pohonu brány, vzduchotechniku, prípojky S02 až S06, spevnené plochy S07 vrátane plôch zo zámkovej dlažby a štrkového okapového chodníka, zariaďovacie predmety a sklenené sprchové zásteny, kuchynskú linku, krbové kachle (dodávka investora) a geodetické vytýčenie stavby a sietí (zabezpečuje investor podľa TZ 6.1.1). Tieto časti nemajú v podkladoch samostatný projekt.
B12: S čím počítame (predpoklady, ktoré si môžete upraviť jedným číslom; druhá varianta je pri každom uvedená):
B13: P-1: Obvodové a vnútorné nosné murivo POROTHERM 30 Profi P15 na tenkovrstvú maltu podľa výkresov a TZ 6.1.3. Druhá varianta: Ytong Klasik 300 podľa úvodu TZ kap. 6, rozdiel približne 1 000 až 2 500 EUR.
B14: P-2: Vnútorné dvere v obložkových zárubniach, dvere D7 so skrytou kovovou zárubňou podľa výpisu 013. Výška dverí 2 100 a 2 200 mm podľa výpisu.
... B36: P-27: Hliníkové okná a dvere sú ocenené cenou systému Aluprof MB-79N / MB-77HS prepočítanou na m2 otvoru (dostupné ceny platia pre Uw 0,9 až 1,1; pre predpísané Uw 0,60 a 47 dB bude cena vyššia); drevené priehradové väzníky podľa ceny za m2 strechy, ich návrh a statické posúdenie zabezpečí dodávateľ väzníkov. Presná cena podľa ponuky výrobcu.
