Workbook

Sheet Rekapitulácia stavby
A1: Export Komplet | BA1: 2.0 | BB1: ZAMOK | BT1: False | BU1: False | BV1: {0129c38e-96ac-406c-8508-de4134c6d1ee}
BS2: 0,01 | BT2: 23
BS3: 0,01 | BT3: 19
D4: REKAPITULÁCIA STAVBY | AS4: v --- nižšie sa nachádzajú doplnkové a pomocné údaje k zostavám --- v | BS4: 0,001
D5: Kód: | K5: R1 | BS5: 0,01
D6: Stavba: | K6: Polyfunkčný dom - prestavba, Trnavský kraj | BS6: 0,01
D7: KSO: | AK7: CC-SK: | BS7: 0,01
D8: Miesto: | K8: Trnavský kraj | AK8: Dátum: | AN8: 09/2026 | BS8: 0,01
BS9: 0,01
D10: Zadávateľ: | AK10: IČO: | BS10: 0,01
E11: Anonymizované | AK11: IČ DPH: | BS11: 0,01
BS12: 0,01
D13: Zhotoviteľ: | AK13: IČO: | BS13: 0,01
AK14: IČ DPH: | BS14: 0,01
BS15: False
D16: Projektant: | AK16: IČO: | BS16: False
AK17: IČ DPH: | BS17: True
BS18: 0,01
D19: Spracovateľ: | AK19: IČO: | BS19: 0,01
AK20: IČ DPH: | BS20: True
D22: Poznámka:
E23: Úplné znenie poznámok je na liste Poznámky k rozpočtu. Poznámky k rozpočtu: Sadzba DPH 23 % podľa zákona č. 222/2004 Z. z. Ak sú obidve strany platiteľmi DPH, uplatňuje sa prenos daňovej povinnosti podľa § 69 ods. 12 písm. j); posudzuje ho platiteľ podľa skutočného plnenia. Rozpočet slúži ako podklad pre cenovú ponuku, konečnú kontrolu a schválenie vykonáva objednávateľ. Množstvá vychádzajú z podkladov odovzdaných objednávateľom. Pri zmene alebo upresnení dokumentácie je potrebné rozpočet aktualizovať. Súpis je spracovaný pre šesť profesií: elektroinštalácia NN vrátane distribučnej časti a bleskozvodu, zdravotechnika, vykurovanie a chladenie, vzduchotechnika, dažďová kanalizácia a požiarna ochrana. Stavebná časť a statika nie sú jeho súčasťou. Ceny sú v EUR bez DPH v cenovej sústave CENEKON 2026/02. Sadzba DPH pre stavebné práce na Slovensku je 23 %. Položky, ktoré cenová sústava CENEKON 2026/02 neobsahuje, sú ocenené z prieskumu trhu podľa zverejnených cenníkov slovenských dodávateľov a ocenených výkazov výmer verejných zákaziek; pri každej takej položke je v poznámke uvedené, čo cena obsahuje. Ide o zariadenie staveniska, dopravu a osadenie stavebných buniek, kontajner na odpad, mimostaveniskovú dopravu, nasadenie autožeriavu vrátane pristavenia a viazača bremien, medené prípojnice elektromerového rozvádzača, strešné konzoly kondenzačných jednotiek, fotoluminiscenčné tabuľky únikových ciest, východiskovú revíziu elektroinštalácie, komplexné vyskúšanie vzduchotechniky a dokončovacie kroky vykurovania (napustenie a odvzdušnenie sústav, funkčná vykurovacia skúška). R-1: Súhrnná správa obsahuje vety z inej stavby; kde ju prebíja profesijná časť alebo výkres, platí výkres. Na cenu to nemá vplyv, súpis sa tým nemení. R-2: Vetranie je riešené podtlakovo nástennými ventilátormi podľa projektu vzduchotechniky; lokálna rekuperácia zo súhrnnej správy by súpis zvýšila o 13 259,64 EUR. R-3: Odvodnenie plochej strechy je vonkajšími žľabmi a zvodovými rúrami; variant s vnútornými strešnými vtokmi by súpis zvýšil o 4 924,00 EUR. R-4: Počet nebytových priestorov je 11 (A až K) podľa pôdorysu a rozvádzačov RSA až RSK; variant s deviatimi priestormi by súpis znížil o 2 080,78 EUR. R-5: Trasy vonkajšieho vedenia NN sú v situácii distribučnej časti kótované tri: distribučné vedenie od trafostanice po skriňu SR 20 m (2 káble NAYY 4x240 spolu so zemniacim pásom a rezervnou rúrkou HDPE 40/33), prípojka od skrine SR po elektromerový rozvádzač RE 28 m (2 káble NAYY 4x240) a nový úsek prípojkového vedenia pre odberné miesto Krátky rad 17 40 m (NAYY-J 4x95). Všetky tri sú v súpise; variant, v ktorom by sa oceňovala len prípojka 28 m, by súpis znížil o 3 604,46 EUR. R-6: Požiarne klapky vzduchotechnika nevyžaduje - prierez potrubia DN 160 je 0,020 m2, teda pod 0,04 m2 podľa technickej správy požiarnej ochrany; prestupy sa iba utesňujú. Variant s klapkami by súpis zvýšil najmenej o 2 114,28 EUR za montáž a o dodávku klapiek. R-7: Dĺžka hadice hydrantového navijáka - technická správa zdravotechniky uvádza 25 m, technická správa požiarnej ochrany 30 m; hydrantové systémy sú ocenené s hadicou 30 m podľa požiarneho riešenia. Prevedenie s hadicou 25 m cenová sústava neponúka, cena sa tým nemení. R-8: Dimenzia areálového vodovodu - situácia kótuje horný úsek po odbočku k hydrantu HDPE DN 80 d90x8,2 a dolný úsek k objektu HDPE DN 50 d63x3,8, technická správa uvádza prívod vody do objektu D90x8,2. Súpis ide podľa situácie, ktorá je adresnejšia; variant s celou trasou v D 90 by súpis zvýšil o 233,53 EUR. R-9: Schéma rozvádzača nebytového priestoru kreslí vývod ku vonkajšej jednotke klimatizácie ako štvorpólový s káblom 5x2,5 mm2, kým technická správa chladenia predpisuje jednotky s výkonom 4,7 a 9,5 kW, ktoré sa vyrábajú v jednofázovom prevedení. Súpis ide za oboma dokumentmi: prívod je 5x2,5 mm2 podľa schémy, jednotky sú jednofázové podľa technickej správy. Trojfázové jednotky cenová sústava ponúka až od 14 kW pre sedem a viac vnútorných jednotiek, čo projektu nezodpovedá; taká zostava by súpis zvýšila približne o 38 665 EUR. Doprava sypkých materiálov zemných prác je v ich jednotkových cenách. Doprava materiálu profesií na stavbu, odvoz výkopku a pristavenie buniek a žeriavu sú samostatné položky: doprava materiálu a buniek je počítaná na vzdialenosť do 50 km, odvoz výkopku na skládku do 10 km.
D26: Cena bez DPH | AK26: =ROUND(AG94,2)
L28: Sadzba dane | W28: Základ dane | AK28: Výška dane
D29: DPH | F29: základná | L29: 0.23 | W29: =ROUND(AZ94, 2) | AK29: =ROUND(AV94, 2)
F30: znížená | L30: 0.19 | W30: =ROUND(BA94, 2) | AK30: =ROUND(AW94, 2)
F31: zákl. prenesená | L31: 0.23 | W31: =ROUND(BB94, 2) | AK31: 0
F32: zníž. prenesená | L32: 0.19 | W32: =ROUND(BC94, 2) | AK32: 0
F33: nulová | L33: 0 | W33: =ROUND(BD94, 2) | AK33: 0
D35: Cena s DPH | T35: v | X35: EUR | AK35: =SUM(AK26:AK33)
D49: Projektant | AH49: Spracovateľ
D60: Dátum a podpis: | V60: Pečiatka | AH60: Dátum a podpis: | AM60: Pečiatka
D64: Objednávateľ | AH64: Zhotoviteľ
D75: Dátum a podpis: | V75: Pečiatka | AH75: Dátum a podpis: | AM75: Pečiatka
C82: REKAPITULÁCIA OBJEKTOV STAVBY A SÚPISOV PRÁC
C84: Kód: | L84: =K5
C85: Stavba: | L85: =K6
C87: Miesto: | L87: =IF(K8="","",K8) | AI87: Dátum: | AM87: =IF(AN8= "","",AN8)
C89: Zadávateľ: | L89: =IF(E11= "","",E11) | AI89: Projektant: | AM89: =IF(E17="","",E17) | AS89: Informatívne údaje z listov zákaziek
C90: Zhotoviteľ: | L90: =IF(E14="","",E14) | AI90: Spracovateľ: | AM90: =IF(E20="","",E20)
C92: Kód | I92: Popis | AG92: Cena bez DPH [EUR] | AN92: Cena s DPH [EUR] | AQ92: Typ | AS92: z toho Ostat. náklady [EUR] | AT92: DPH [EUR] | AU92: Normohodiny [h] | AV92: DPH základná [EUR] | AW92: DPH znížená [EUR] | AX92: DPH základná prenesená [EUR] | AY92: DPH znížená prenesená [EUR] | AZ92: Základňa DPH základná | BA92: Základňa DPH znížená | BB92: Základňa DPH zákl. prenesená | BC92: Základňa DPH zníž. prenesená | BD92: Základňa DPH nulová
C94: Náklady z rozpočtov | AG94: =ROUND(SUM(AG95:AG102),2) | AN94: =SUM(AG94,AT94) | AS94: =ROUND(SUM(AS95:AS102),2) | AT94: =ROUND(SUM(AV94:AW94),2) | AU94: =ROUND(SUM(AU95:AU102),5) | AV94: =ROUND(AZ94*L29,2) | AW94: =ROUND(BA94*L30,2) | AX94: =ROUND(BB94*L29,2) | AY94: =ROUND(BC94*L30,2) | AZ94: =ROUND(SUM(AZ95:AZ102),2) | BA94: =ROUND(SUM(BA95:BA102),2) | BB94: =ROUND(SUM(BB95:BB102),2) | BC94: =ROUND(SUM(BC95:BC102),2) | BD94: =ROUND(SUM(BD95:BD102),2) | BS94: D | BT94: 0 | BU94: ###NOIMPORT### | BV94: IMPORT | BW94: {0129c38e-96ac-406c-8508-de4134c6d1ee} | BX94: {00000000-0000-0000-0000-000000000000}
A95: / | D95: SO 01 | J95: Elektroinštalácia NN | AG95: ='SO 01 - Elektroinštalácia NN'!J30 | AN95: =SUM(AG95,AT95) | AQ95: STA | AS95: 0 | AT95: =ROUND(SUM(AV95:AW95),2) | AU95: ='SO 01 - Elektroinštalácia NN'!P121 | AV95: ='SO 01 - Elektroinštalácia NN'!J33 | AW95: ='SO 01 - Elektroinštalácia NN'!J34 | AX95: ='SO 01 - Elektroinštalácia NN'!J35 | AY95: ='SO 01 - Elektroinštalácia NN'!J36 | AZ95: ='SO 01 - Elektroinštalácia NN'!F33 | BA95: ='SO 01 - Elektroinštalácia NN'!F34 | BB95: ='SO 01 - Elektroinštalácia NN'!F35 | BC95: ='SO 01 - Elektroinštalácia NN'!F36 | BD95: ='SO 01 - Elektroinštalácia NN'!F37 | BT95: 1 | BV95: IMPORT | BW95: {ca2ef71a-9448-4794-89fb-e8c81eba2a69} | BX95: {0129c38e-96ac-406c-8508-de4134c6d1ee} | CM95: 1
A96: / | D96: SO 01.2 | J96: Distribučné rozvody NN | AG96: ='SO 01.2 - Distribučné rozvod...'!J30 | AN96: =SUM(AG96,AT96) | AQ96: STA | AS96: 0 | AT96: =ROUND(SUM(AV96:AW96),2) | AU96: ='SO 01.2 - Distribučné rozvod...'!P122 | AV96: ='SO 01.2 - Distribučné rozvod...'!J33 | AW96: ='SO 01.2 - Distribučné rozvod...'!J34 | AX96: ='SO 01.2 - Distribučné rozvod...'!J35 | AY96: ='SO 01.2 - Distribučné rozvod...'!J36 | AZ96: ='SO 01.2 - Distribučné rozvod...'!F33 | BA96: ='SO 01.2 - Distribučné rozvod...'!F34 | BB96: ='SO 01.2 - Distribučné rozvod...'!F35 | BC96: ='SO 01.2 - Distribučné rozvod...'!F36 | BD96: ='SO 01.2 - Distribučné rozvod...'!F37 | BT96: 1 | BV96: IMPORT | BW96: {e51038e5-3e65-4119-9c5a-fd8b2b43305b} | BX96: {0129c38e-96ac-406c-8508-de4134c6d1ee} | CM96: 1
A97: / | D97: SO 02 | J97: Zdravotechnika | AG97: ='SO 02 - Zdravotechnika'!J30 | AN97: =SUM(AG97,AT97) | AQ97: STA | AS97: 0 | AT97: =ROUND(SUM(AV97:AW97),2) | AU97: ='SO 02 - Zdravotechnika'!P129 | AV97: ='SO 02 - Zdravotechnika'!J33 | AW97: ='SO 02 - Zdravotechnika'!J34 | AX97: ='SO 02 - Zdravotechnika'!J35 | AY97: ='SO 02 - Zdravotechnika'!J36 | AZ97: ='SO 02 - Zdravotechnika'!F33 | BA97: ='SO 02 - Zdravotechnika'!F34 | BB97: ='SO 02 - Zdravotechnika'!F35 | BC97: ='SO 02 - Zdravotechnika'!F36 | BD97: ='SO 02 - Zdravotechnika'!F37 | BT97: 1 | BV97: IMPORT | BW97: {2406abf9-f2fb-4ff8-b577-5ad89a7649c8} | BX97: {0129c38e-96ac-406c-8508-de4134c6d1ee} | CM97: 1
A98: / | D98: SO 03 | J98: Vykurovanie a chladenie | AG98: ='SO 03 - Vykurovanie a chladenie'!J30 | AN98: =SUM(AG98,AT98) | AQ98: STA | AS98: 0 | AT98: =ROUND(SUM(AV98:AW98),2) | AU98: ='SO 03 - Vykurovanie a chladenie'!P130 | AV98: ='SO 03 - Vykurovanie a chladenie'!J33 | AW98: ='SO 03 - Vykurovanie a chladenie'!J34 | AX98: ='SO 03 - Vykurovanie a chladenie'!J35 | AY98: ='SO 03 - Vykurovanie a chladenie'!J36 | AZ98: ='SO 03 - Vykurovanie a chladenie'!F33 | BA98: ='SO 03 - Vykurovanie a chladenie'!F34 | BB98: ='SO 03 - Vykurovanie a chladenie'!F35 | BC98: ='SO 03 - Vykurovanie a chladenie'!F36 | BD98: ='SO 03 - Vykurovanie a chladenie'!F37 | BT98: 1 | BV98: IMPORT | BW98: {2c76266c-5cbd-47e6-a420-b3bdf9869bfd} | BX98: {0129c38e-96ac-406c-8508-de4134c6d1ee} | CM98: 1
A99: / | D99: SO 04 | J99: Vzduchotechnika | AG99: ='SO 04 - Vzduchotechnika'!J30 | AN99: =SUM(AG99,AT99) | AQ99: STA | AS99: 0 | AT99: =ROUND(SUM(AV99:AW99),2) | AU99: ='SO 04 - Vzduchotechnika'!P122 | AV99: ='SO 04 - Vzduchotechnika'!J33 | AW99: ='SO 04 - Vzduchotechnika'!J34 | AX99: ='SO 04 - Vzduchotechnika'!J35 | AY99: ='SO 04 - Vzduchotechnika'!J36 | AZ99: ='SO 04 - Vzduchotechnika'!F33 | BA99: ='SO 04 - Vzduchotechnika'!F34 | BB99: ='SO 04 - Vzduchotechnika'!F35 | BC99: ='SO 04 - Vzduchotechnika'!F36 | BD99: ='SO 04 - Vzduchotechnika'!F37 | BT99: 1 | BV99: IMPORT | BW99: {59ba7e6f-7648-4848-a28b-ca27bbfb8b1e} | BX99: {0129c38e-96ac-406c-8508-de4134c6d1ee} | CM99: 1
A100: / | D100: SO 05 | J100: Dažďová kanalizácia a vsakovací objekt | AG100: ='SO 05 - Dažďová kanalizácia...'!J30 | AN100: =SUM(AG100,AT100) | AQ100: STA | AS100: 0 | AT100: =ROUND(SUM(AV100:AW100),2) | AU100: ='SO 05 - Dažďová kanalizácia...'!P126 | AV100: ='SO 05 - Dažďová kanalizácia...'!J33 | AW100: ='SO 05 - Dažďová kanalizácia...'!J34 | AX100: ='SO 05 - Dažďová kanalizácia...'!J35 | AY100: ='SO 05 - Dažďová kanalizácia...'!J36 | AZ100: ='SO 05 - Dažďová kanalizácia...'!F33 | BA100: ='SO 05 - Dažďová kanalizácia...'!F34 | BB100: ='SO 05 - Dažďová kanalizácia...'!F35 | BC100: ='SO 05 - Dažďová kanalizácia...'!F36 | BD100: ='SO 05 - Dažďová kanalizácia...'!F37 | BT100: 1 | BV100: IMPORT | BW100: {46ff05dd-4363-456a-bc78-d7f6b201cb12} | BX100: {0129c38e-96ac-406c-8508-de4134c6d1ee} | CM100: 1
A101: / | D101: SO 06 | J101: Požiarna ochrana | AG101: ='SO 06 - Požiarna ochrana'!J30 | AN101: =SUM(AG101,AT101) | AQ101: STA | AS101: 0 | AT101: =ROUND(SUM(AV101:AW101),2) | AU101: ='SO 06 - Požiarna ochrana'!P124 | AV101: ='SO 06 - Požiarna ochrana'!J33 | AW101: ='SO 06 - Požiarna ochrana'!J34 | AX101: ='SO 06 - Požiarna ochrana'!J35 | AY101: ='SO 06 - Požiarna ochrana'!J36 | AZ101: ='SO 06 - Požiarna ochrana'!F33 | BA101: ='SO 06 - Požiarna ochrana'!F34 | BB101: ='SO 06 - Požiarna ochrana'!F35 | BC101: ='SO 06 - Požiarna ochrana'!F36 | BD101: ='SO 06 - Požiarna ochrana'!F37 | BT101: 1 | BV101: IMPORT | BW101: {1485c712-5501-4067-992c-2f146ffe4367} | BX101: {0129c38e-96ac-406c-8508-de4134c6d1ee} | CM101: 1
A102: / | D102: VRN | J102: Vedľajšie rozpočtové náklady | AG102: ='VRN - Vedľajšie rozpočtové n...'!J30 | AN102: =SUM(AG102,AT102) | AQ102: STA | AS102: 0 | AT102: =ROUND(SUM(AV102:AW102),2) | AU102: ='VRN - Vedľajšie rozpočtové n...'!P122 | AV102: ='VRN - Vedľajšie rozpočtové n...'!J33 | AW102: ='VRN - Vedľajšie rozpočtové n...'!J34 | AX102: ='VRN - Vedľajšie rozpočtové n...'!J35 | AY102: ='VRN - Vedľajšie rozpočtové n...'!J36 | AZ102: ='VRN - Vedľajšie rozpočtové n...'!F33 | BA102: ='VRN - Vedľajšie rozpočtové n...'!F34 | BB102: ='VRN - Vedľajšie rozpočtové n...'!F35 | BC102: ='VRN - Vedľajšie rozpočtové n...'!F36 | BD102: ='VRN - Vedľajšie rozpočtové n...'!F37 | BT102: 1 | BV102: IMPORT | BW102: {a970d11b-34ca-47ed-9f50-c76ec0eb6212} | BX102: {0129c38e-96ac-406c-8508-de4134c6d1ee} | CM102: 1

Sheet SO 01 - Elektroinštalácia NN
AT2: {ca2ef71a-9448-4794-89fb-e8c81eba2a69}
AT3: 1
D4: KRYCÍ LIST SÚPISU PRÁC | M4: v --- nižšie sa nachádzajú doplnkové a pomocné údaje k zostavám --- v | AT4: False
D6: Stavba:
E7: ='Rekapitulácia stavby'!K6
D8: Objekt:
E9: SO 01 - Elektroinštalácia NN
D11: KSO: | I11: CC-SK:
D12: Miesto: | F12: Trnavský kraj | I12: Dátum: | J12: ='Rekapitulácia stavby'!AN8
D14: Zadávateľ: | I14: IČO:
E15: Anonymizované | I15: IČ DPH:
D17: Zhotoviteľ: | I17: IČO: | J17: =IF('Rekapitulácia stavby'!AN13="","",'Rekapitulácia stavby'!AN13)
E18: =IF('Rekapitulácia stavby'!E14="","",'Rekapitulácia stavby'!E14) | I18: IČ DPH: | J18: =IF('Rekapitulácia stavby'!AN14="","",'Rekapitulácia stavby'!AN14)
D20: Projektant: | I20: IČO:
I21: IČ DPH:
D23: Spracovateľ: | I23: IČO:
I24: IČ DPH:
D26: Poznámka:
E27: Dĺžky káblových trás sú odmerané z pôdorysov silnoprúdu (mierka 1:50) farebným rozborom kresby; trasy 2.NP, 3.NP a 4.NP sú zhodné. Slaboprúdové rozvody (STA, videovrátnik, dáta, EZS) nie sú súčasťou odovzdanej dokumentácie a v súpise nie sú. Elektromerový rozvádzač RE 630 A je atypická zostava troch skríň s 39 elektromerovými miestami; v súpise je rozpísaný po skriniach a po výzbroji podľa schémy. Búracie práce a demontáže v objekte sú súčasťou stavebnej časti, ktorú spracováva objednávateľ; demontáž jestvujúceho distribučného vedenia NN a skrine SR, ktorú predpisuje technická správa distribučnej časti, je v objekte SO 01.2. Elektromery (39 miest v rozvádzači RE) dodáva prevádzkovateľ distribučnej sústavy a v súpise nie sú. Frézovanie drážok pre káblové rozvody a ich zapravenie sú súčasťou murárskych prác stavebnej časti, ktorú spracováva objednávateľ. Prípojka NN, distribučné rozvody a demontáž jestvujúceho vedenia sú vykázané v samostatnom objekte SO 01.2, pretože distribučnú časť financuje prevádzkovateľ distribučnej sústavy, nie stavebník. Úplné znenie poznámok je na liste Poznámky k rozpočtu. S čím počítame (predpoklady, ktoré si môžete upraviť jedným číslom; druhá varianta je pri každom uvedená): P-1: Zariaďovacie predmety sú ocenené v bežnom katalógovom štandarde; presný typ určuje podľa technickej správy investor. Vyšší štandard vybavenia by cenu zariaďovacích predmetov zvýšil rádovo o jednotky percent. Presnú cenu určí až výber konkrétnych výrobkov objednávateľom. P-2: Vsakovací objekt je ocenený v rozmeroch podľa výkresu 003, hoci technická správa ich označuje za informatívne (chýba hydrogeologický prieskum). Úprava objemu vsakovacích blokov po hydrogeologickom prieskume je druhá varianta; cena sa mení úmerne počtu blokov, jeden blok je 57,76 EUR. P-3: Vykurovanie je spracované znovu z projektovej dokumentácie; pracovný výkaz výmer objednávateľa slúžil len ako kontrola rozsahu. Nadviazanie na pracovný výkaz objednávateľa je možné na vyžiadanie, bez zmeny ceny. P-4: Súpis je dodaný vo formáte KROS Export Komplet 2.0 na import do CENKROSu; práce a služby sú vedené ako typ K, materiály a výrobky ako typ M. Slepé výkazy výmer bez cien boli dodané s predchádzajúcou verziou rozpočtu a platia bez zmeny. P-5: Technológia výťahu nie je v rozsahu; elektro obsahuje prívod a rozvádzač RV. Doplnenie technológie výťahu je druhá varianta; ocení sa po dodaní ponuky výrobcu. Cenu určí ponuka výrobcu výťahu. P-6: Búracie práce a demontáže jestvujúcich rozvodov sú súčasťou stavebnej časti, ktorú spracováva objednávateľ. Doplnenie demontáží profesií je druhá varianta; ocení sa po dodaní výkresu jestvujúceho stavu. Cenu určí rozsah podľa výkresu jestvujúceho stavu. P-7: Odvodnenie plochej strechy je vonkajšími žľabmi a zvodovými rúrami podľa legendy výkresu strechy; klampiarske práce sú súčasťou stavebnej časti a dažďová kanalizácia na ne nadväzuje deviatimi prípojmi v zemi. Variant s vnútornými strešnými vtokmi je vyčíslený pri rozpore R-3 (+4 924 EUR). P-8: Skládka pre prebytočný výkopok je uvažovaná do 10 km; skutočnú vzdialenosť určí zhotoviteľ. Vzdialenejšia skládka je druhá varianta; každý ďalší kilometer je 0,55 EUR na tonu. P-9: Vetracie hlavice vzduchotechniky sú uvažované 0,50 m nad strechou; výkres výšku nekótuje. Vyššie vyvedenie hlavíc nad strechu by súpis zvýšilo do 100 EUR. P-10: Dimenzie medených rozvodov vykurovania nie sú v dokumentácii uvedené; uvažované D 22 mm od hydraulického modulu k rozdeľovaču a D 15 mm k rebríkovým telesám. Jednotná dimenzia D 22 mm by súpis zmenila do 1 300 EUR. P-12: Vnútorné rozvody vody sú podľa označení na pôdorysoch rozdelené na DN 15 (60 %) a DN 20 (40 %). Celý rozvod v DN 20 by súpis zvýšil do 900 EUR. P-13: Vodorovná vnútorná kanalizácia je podľa označení na pôdorysoch rozdelená na DN 110 (30 %) a DN 50 (70 %). Vyšší podiel DN 110 by súpis zvýšil do 1 500 EUR. P-14: Objem elektrických zásobníkových ohrievačov pre nebytové priestory nie je určený; uvažovaný objem 80 l. Zásobníky s objemom 120 l by súpis zvýšili do 600 EUR. P-15: Dĺžka káblov CHKE-V 5x6 mm2 k podružným rozvádzačom je odvodená z geometrie objektu (priemerná vzdialenosť po chodbe pri rovnomernom rozmiestnení 38 rozvádzačov). Meranie podľa skutočnej trasy po dodaní realizačnej dokumentácie je druhá varianta; odchýlka 10 % dĺžky znamená 798 EUR na kábli a 230 EUR na pospájaní. P-16: Jestvujúce distribučné vedenie NN sa vyťahuje z ryhy nového vedenia; samostatný výkop pre demontáž sa nevykazuje. Samostatný výkop pre demontáž 20 m by súpis zvýšil orientačne do 200 EUR. P-17: Veľkostný typ jestvujúcej istiacej a rozpojovacej skrine SR dokumentácia neuvádza; pre demontáž je uvažovaný rovnaký typ SR 7 ako nová skriňa. Menší typ skrine by súpis znížil o 8 EUR. P-18: Schémy rozvádzačov kreslia pri každom podružnom rozvádzači prípojnicu HUP s vodičom CYA 16 mm2; v súpise je 38 prípojníc a vodič vedený súbežne s prívodom každého rozvádzača. Spoločná prípojnica na podlaží namiesto prípojnice pri každom rozvádzači by súpis znížila približne o 2 000 EUR. P-19: Dĺžka doplnkového pospájania na jedno miesto (kúpeľňa, kuchyňa, strojovňa) je uvažovaná 5,00 m. Dlhšie trasy doplnkového pospájania by súpis zvýšili do 300 EUR. P-20: Vybavenie výťahovej šachty elektroinštaláciou (dve svietidlá, spínač a servisná zásuvka) vychádza z požiadaviek na obsluhu šachty; vlastná technológia výťahu v súpise nie je. Ak vybavenie výťahovej šachty dodá výrobca výťahu, súpis sa zníži o 270 EUR. P-21: Projekt predpisuje káble CHKE-R; cenová sústava obsahuje ekvivalent CHKE-V s rovnakým prierezom, ktorým je položka ocenená. Doložená ponuka na pôvodný typ CHKE-R je druhá varianta; rozdiel sa prejaví v cene materiálu. Cenu určí ponuka dodávateľa káblov. P-22: Dĺžky vývodov z rozvádzača RE (CENTRAL STOP, RV, SV1, SV2) sú odvodené z geometrie objektu rovnako ako dĺžky prívodov k podružným rozvádzačom. Meranie vývodov podľa skutočnej trasy je druhá varianta; odchýlka 10 % dĺžky znamená 55 EUR. P-23: Dĺžka káblového žľabu je odvodená z chodbového rozvodu po dĺžke objektu na každom podlaží a zvislej stúpačky od rozvádzača RE. Káblový žľab aj vo vetvách k jednotlivým rozvádzačom by súpis zvýšil do 4 500 EUR. P-24: Cenová sústava obsahuje najbližšiu výzbroj istiacej skrine SR 7; presný typ predpísaný technickou správou sa doloží ponukou dodávateľa. Doložená ponuka na presný typ skrine HASMA je druhá varianta. Cenu určí ponuka dodávateľa skríň. P-25: Zvody bleskozvodu sú zabudované do zatepľovacieho systému a montujú sa spolu s fasádou; lešenie pre ne je súčasťou stavebnej časti. Samostatné lešenie alebo montážna plošina pre zvody by súpis zvýšili o 1 500 až 3 000 EUR. P-27: Podiel ručného výkopu káblovej ryhy v súbehu so sieťami je uvažovaný 10 % dĺžky. Vyšší podiel ručného výkopu by súpis zvýšil do 600 EUR. P-29: Počet zemniacich tyčí pre uzemnenie skrine SR a rozvádzača RE je uvažovaný tri tyče po 2 m na zariadenie. Doplnenie zemniacich tyčí podľa skutočne nameraného odporu je druhá varianta; jedna tyč s montážou je 64 EUR. P-30: Počet vodovodných stúpačiek je uvažovaný deväť, rovnako ako hlavných kanalizačných stúpačiek. Iný počet vodovodných stúpačiek by zmenil cenu upchávok do 400 EUR. P-31: Hĺbka ryhy areálovej splaškovej kanalizácie je uvažovaná 1,50 m; dokumentácia hĺbku neuvádza. Šírka ryhy 1,10 m, lôžko 0,17 m3/bm a obsyp 0,52 m3/bm sú prevzaté z tabuľky v detaile uloženia potrubia. Hĺbka ryhy 1,80 m by výkop, paženie a zásyp zvýšila približne o 900 EUR. P-32: Dĺžka odvodu kondenzátu od jednej kazetovej jednotky je uvažovaná 10,00 m. Kratšie trasy odvodu kondenzátu by súpis znížili do 300 EUR. P-33: Výkon elektrických konvektorov pre zázemie nájomných priestorov dokumentácia neuvádza; uvažovaný je 1 000 W na miestnosť. Pracovný výkaz výmer objednávateľa uvažuje konvektory 500 W; menší výkon by súpis znížil približne o 250 EUR. Konvektory s výkonom 1 500 W by súpis zvýšili o 102 EUR. P-34: Rozsah oceľovej podpernej konštrukcie kondenzačných jednotiek na streche upresní statická časť, ktorá nie je súčasťou odovzdanej dokumentácie; položka je ocenená ako strešná pozinkovaná konzola na jednu jednotku. Rámová konštrukcia podľa statiky namiesto strešnej konzoly by súpis zvýšila o 150 až 1 700 EUR. P-35: Zriadenie prestupov jestvujúcimi železobetónovými stropmi pripravuje zhotoviteľ stavebnej časti podľa koordinačných výkresov profesií; v tomto súpise je len ich utesnenie. Jadrové vrty v našom súpise, 128 prestupov, by súpis zvýšili orientačne o 3 000 až 5 000 EUR. P-36: Doba montáže šiestich profesií je uvažovaná 6 mesiacov; harmonogram stavby v podkladoch nie je. Vychádza z nej prenájom buniek a mobilného WC. Deväť mesiacov montáže namiesto šiestich by zariadenie staveniska zvýšilo o 1 894 EUR. P-37: Počet kontajnerov na odpad z montážnych prác je uvažovaný štyri. Šesť kontajnerov namiesto štyroch by súpis zvýšilo o 220 EUR. P-38: Vzdialenosť mimostaveniskovej dopravy je uvažovaná do 50 km. Mimostavenisková doprava na 100 km by súpis zvýšila o 866 EUR. P-39: Skrine elektromerového rozvádzača RE sú ocenené v rade OEZ QA55 s krytím IP55 v rozmeroch podľa výkresu 210 (1 ks 800x400x1800 mm a 2 ks 1200x400x1800 mm) vrátane podstavcov, horných krytov a montážnych panelov; výkres predpisuje výrobcu OEZ a krytie IP65, IP55 je najvyššie krytie radových rozvádzačových skríň tohto výrobcu v cenovej sústave. Horný kryt skrine je v cenovej sústave len vo ventilovanom vyhotovení. Atypická skriňa IP65 na zákazku by súpis zvýšila o 600 až 1 500 EUR. P-40: Ovládanie kazetových klimatizačných jednotiek je uvažované infračerveným diaľkovým ovládačom, ktorý je súčasťou dodávky jednotky; technická správa pripúšťa aj nástenné káblové ovládače, tie by súpis zvýšili o 12 ovládačov s montážou. Káblové ovládače klimatizácie cenová sústava neobsahuje, cenu určí ponuka dodávateľa jednotiek. P-41: Prípojnicový systém rozvádzača RE je ocenený piatimi medenými pásmi 30 x 5 mm (L1, L2, L3, N, PE) po šírke zostavy skríň, spolu 16,00 m, so zaťažiteľnosťou 379 až 450 A. Výkres rozvádzača uvádza pri hlavnom ističi dve hodnoty, 630 A a 380 A, a súpis je zostavený na nižšiu z nich. Vyhotovenie na plných 630 A znamená zdvojenie fázových pásov, čo by súpis zvýšilo o 359,14 EUR. P-42: Tepelné izolácie medených rozvodov vykurovania sú ocenené hrúbkou 20 mm pre potrubie D 22 a 19 mm pre D 15, pretože rozvody vedú v podlahovej konštrukcii a v šachtách; voľne vedené úseky by podľa technickej správy mali hrúbku 25 až 30 mm. Voľne vedené úseky v hrúbke 25 až 30 mm by pri celej dĺžke 266,10 m súpis zvýšili približne o 2 100 EUR. P-43: Vodorovné trasy vnútornej kanalizácie sú ocenené ako potrubie HT z PP v celej dĺžke; ak sa zvodová časť zhotoví z PVC KG podľa technickej správy, cena sa zníži približne o 26 EUR. P-44: Hĺbka ryhy areálového vodovodu je uvažovaná 1,20 m; technická správa uvádza len šírku ryhy 60 cm, lôžko 15 cm a obsyp 30 cm, hĺbku neuvádza. Hĺbka ryhy vodovodu 1,50 m by výkop, paženie, zásyp a odvoz zvýšila približne o 600 EUR. P-45: Revízne šachty sú ocenené ako prefabrikované: dodávka dna s kynetou, skruží, kónusu a vyrovnávacieho prstenca a osadenie jednotlivých dielcov. Zhotovenie šachiet s obložením dna betónom na mieste namiesto prefabrikovaného dna by súpis zvýšilo približne o 4 800 EUR. P-46: Napojenie vodovodnej prípojky na verejný vodovod a zaústenie kanalizačnej prípojky do verejnej stoky vykonáva prevádzkovateľ verejnej siete na náklady investora; dokumentácia neuvádza dimenziu ani materiál verejných potrubí, preto tieto práce v súpise nie sú. Vystrojenie vodomernej šachty vrátane fakturačného vodomeru DN 50 v súpise je. Navŕtavací pás alebo T-kus so zemnou súpravou v našom súpise by ho zvýšil o 300 až 800 EUR podľa dimenzie verejného radu. P-47: Revízne šachty sú zostavené z dielcov, ktoré cenová sústava ponúka: dno s kynetou výšky 700 mm, kónus 1000/600 výšky 576 mm a vyrovnávací prstenec do 100 mm. Výkres kótuje dno 680 mm a kónus 630 mm; rozdiel 34 mm na šachtu vyrovná vyrovnávací prstenec a maltové lôžka spojov. Dielce šachiet presne podľa výkresu na zákazku by ich cenu zvýšili o 10 až 15 %. P-48: Zvislé trasy sú predĺžené o ležatý zvod 0,80 m pod podlahou 1.NP, o 0,50 m k odbočke na poslednom podlaží a o 1,00 m vyvedenia kanalizačného odvetrania nad strechu; dokumentácia tieto rozmery nekótuje. Bez prídavkov zvislých trás by sa súpis znížil približne o 1 900 EUR. P-49: Podklad pod vonkajšie jednotky tepelných čerpadiel (betónová pätka alebo rámový podstavec) dokumentácia nepredpisuje; technická správa uvádza antivibračné silentbloky len pri kondenzačných jednotkách klimatizácie, ktoré sú v súpise. Podklad pod tepelné čerpadlá je preto uvažovaný ako súčasť stavebnej časti. Rámový podstavec výrobcu pod 27 vonkajších jednotiek by súpis zvýšil približne o 11 600 EUR. P-50: Rozmer otvoru pri prestupe kábla požiarne deliacou konštrukciou dokumentácia neurčuje; uvažovaný je jadrový vrt D 150 mm na jeden prívodný kábel, teda trieda tesnenia do 0,1 m2. Ak sa prestupy zhotovia ako otvory nad 0,1 m2, súpis sa zvýši približne o 1 023 EUR. P-51: Dĺžku odvodu odmrazovacej vody od vonkajších jednotiek tepelných čerpadiel a odvodu od poistných výtokov zásobníkov dokumentácia neurčuje; uvažované sú 3,00 m na jednotku a 2,00 m na bytovú sústavu. Dvojnásobné dĺžky by súpis zvýšili približne o 840 EUR. P-52: Cenová sústava CENEKON nemá triedu pre prepláchnutie a napustenie sústavy s podlahovým vykurovaním ani pre funkčnú vykurovaciu skúšku podľa STN EN 1264-4; obidva kroky sú preto ocenené hodinovou sadzbou montéra a počet hodín je uvažovaný 2,00 hod na napustenie a 3,00 hod na vykurovaciu skúšku jednej bytovej sústavy. Dvojnásobný počet hodín by súpis zvýšil približne o 2 700 EUR. P-53: Plocha na vyčistenie budovy po montážnych prácach je uvažovaná ako hrubá podlahová plocha, teda zastavaná plocha 742,85 m2 krát štyri podlažia. Ak sa vykáže len čistá podlahová plocha bez konštrukcií (približne 85 %), súpis sa zníži približne o 2 890 EUR. P-54: Objemová hmotnosť zmiešaného stavebného odpadu z montážnych prác je uvažovaná 0,15 t/m3; skutočnú hmotnosť určí váženie na skládke. Dvojnásobná hmotnosť by súpis zvýšila približne o 840 EUR. P-55: Počty tvarovok potrubia spiro (27 kolien DN 125, 44 kolien DN 160, 50 T-kusov a 27 prechodov) sú dopočítané z topológie rozvodu, pretože výkresy tvarovky nekótujú. Odchýlka 20 % by súpis zmenila približne o 490 EUR. P-56: Zvody bleskozvodu sú ocenené izolovaným hliníkovým drôtom AlMgSi Ø 8 mm PVC podľa legendy výkresu bleskozvodu a sú vedené v ochrannej rúrke pod omietkou, ako predpisuje technická správa; hliník so zachytávacou sústavou netvorí galvanický pár, takže náter zvodu odpadá. Variant s neizolovaným drôtom v samotnej ochrannej rúrke by súpis znížil o 113 EUR. P-57: Rozsah ochranného zábradlia okolo otvorených výkopov je uvažovaný po jednej strane ryhy v celej dĺžke, teda 317,30 m; technické správy zaistenie výkopov predpisujú, rozsah neurčujú. Zábradlie po oboch stranách by súpis zvýšilo približne o 2 504 EUR. P-58: Dĺžka pripojovacieho potrubia kondenzátu od zápachových uzávierok vzduchotechniky do kanalizácie je uvažovaná 2,00 m na jednu uzávierku; dokumentácia trasu neurčuje. Dvojnásobná dĺžka by súpis zvýšila približne o 225 EUR. P-59: Doplnenie chladiva R32 nad výrobnú náplň nie je v súpise: priemerná dĺžka chladivovej dvojice na jeden okruh je 21,4 m, čo je na hranici bežnej výrobnej náplne split jednotiek. Ak výrobca zvolenej jednotky predplní kratšiu trasu, doplnenie chladiva by súpis zvýšilo približne o 130 až 250 EUR. P-60: Prívod vzduchu do odvetrávaných miestností je podľa technickej správy riešený bezprahovými dverami, ktoré sú súčasťou stavebnej časti. Ak sa namiesto nich osadia dverové mriežky, súpis vzduchotechniky sa zvýši približne o 1 200 EUR. P-61: Dĺžky vnútorných káblov vychádzajú z počtu obvodov podľa schémy bytového rozvádzača (dva obvody 3x1,5, sedem 3x2,5 a dva 5x2,5) a z trasy odmeranej z pôdorysov silnoprúdu. Uvažuje sa, že každý obvod prejde v priemere polovicou spoločnej trasy a že na každý prístrojový bod pripadá 0,80 m zvislého úseku, ktorý pôdorys nezobrazuje. Plný prechod trasou u každého obvodu by súpis zvýšil približne o 6 500 EUR. P-62: Tepelné izolácie rozvodov vody sú ocenené v katalógových hrúbkach 9 mm pre studenú a 19 mm pre teplú vodu; technická správa uvádza 10 a 20 mm, cenová sústava tieto hrúbky pre dané priemery nemá. Bližšia hrúbka v sústave nie je, cena sa tým nemení. P-63: Komplexné vyskúšanie a zaregulovanie vzduchotechniky je ocenené sadzbou za celé zariadenie, teda 241,21 EUR; počet ventilátorov a meracích bodov cenník neurčuje. Ocenenie podľa hodinovej sadzby, teda 60 hodín, by súpis zvýšilo o 793,79 EUR. P-64: Závesy a objímky potrubí zdravotechniky nie sú samostatnou položkou, pretože montážne položky potrubia obsahujú potrubnú objímku a skrutky na každý meter. Technická správa predpisuje značkový závesný systém; ak sa má oceniť samostatne, doplní sa po cenovej ponuke dodávateľa. P-65: Značenie potrubia podľa STN 13 0072 je ocenené jedným štítkom na každú vodovodnú stúpačku na každom podlaží, spolu 36 kusov; technická správa počet a rozmiestnenie štítkov neurčuje. Hustejšie značenie aj na ležatých rozvodoch a armatúrach by súpis zvýšilo o 199,08 EUR. P-66: Vytýčenie jestvujúcich podzemných vedení je ocenené jedným vytyčovacím bodom na každú z piatich sietí vedených areálom; situácia počet vytyčovacích bodov neurčuje. Vytýčenie po celej dĺžke rýh, teda 23 bodov ako pri nových trasách, by súpis zvýšilo o 486,00 EUR. P-67: Izolačné držiaky prípojníc rozvádzača RE sú ocenené v rozstupe 0,50 m po šírke zostavy skríň, teda 7 kusov; výkres rozstup podopretia neurčuje. Hustejší rozstup 0,35 m, teda 10 kusov, by súpis zvýšil o 93,00 EUR.
D30: Cena bez DPH | J30: =ROUND(J121, 2)
F32: Základ dane | I32: Sadzba dane | J32: Výška dane
D33: DPH | E33: základná | F33: =ROUND((SUM(BE121:BE514)), 2) | I33: 0.23 | J33: =ROUND(((SUM(BE121:BE514))*I33), 2)
E34: znížená | F34: =ROUND((SUM(BF121:BF514)), 2) | I34: 0.19 | J34: =ROUND(((SUM(BF121:BF514))*I34), 2)
E35: zákl. prenesená | F35: =ROUND((SUM(BG121:BG514)), 2) | I35: 0.23 | J35: =0
E36: zníž. prenesená | F36: =ROUND((SUM(BH121:BH514)), 2) | I36: 0.19 | J36: =0
E37: nulová | F37: =ROUND((SUM(BI121:BI514)), 2) | I37: 0 | J37: =0
D39: Cena s DPH | G39: v | H39: EUR | J39: =SUM(J30:J37)
D50: Projektant | G50: Spracovateľ
D61: Dátum a podpis: | F61: Pečiatka | G61: Dátum a podpis: | J61: Pečiatka
D65: Objednávateľ | G65: Zhotoviteľ
D76: Dátum a podpis: | F76: Pečiatka | G76: Dátum a podpis: | J76: Pečiatka
C82: REKAPITULÁCIA ČLENENIA SÚPISU PRÁC
C84: Stavba:
E85: =E7
C86: Objekt:
E87: =E9
C89: Miesto: | F89: =F12 | I89: Dátum: | J89: =IF(J12="","",J12)
C91: Zadávateľ: | F91: =E15 | I91: Projektant: | J91: =E21
C92: Zhotoviteľ: | F92: =IF(E18="","",E18) | I92: Spracovateľ: | J92: =E24
C94: Kód dielu - Popis | J94: Cena celkom [EUR]
C96: Náklady zo súpisu prác | J96: =J121 | AU96: -1
D97: HSV - Práce a dodávky HSV | J97: =J122
D98: 998 - Presun hmôt | J98: =J123
D99: M - Práce a dodávky M | J99: =J128
D100: 21-M - Elektromontáže | J100: =J129
D101: 46-M - Zemné práce pri montážach | J101: =J509
C108: SÚPIS PRÁC
C110: Stavba:
E111: =E7
C112: Objekt:
E113: =E9
C115: Miesto: | F115: =F12 | I115: Dátum: | J115: =IF(J12="","",J12)
C117: Zadávateľ: | F117: =E15 | I117: Projektant: | J117: =E21
C118: Zhotoviteľ: | F118: =IF(E18="","",E18) | I118: Spracovateľ: | J118: =E24
C120: PČ | D120: Typ | E120: Kód | F120: Popis | G120: MJ | H120: Množstvo | I120: J.cena [EUR] | J120: Cena celkom [EUR] | K120: Cenová sústava | N120: DPH | O120: J. Nh [h] | P120: Nh celkom [h] | Q120: J. hmotnosť [t] | R120: Hmotnosť celkom [t] | S120: J. suť [t] | T120: Suť celkom [t]
C121: Náklady súpisu celkom | J121: =BK121 | P121: =P122+P128 | R121: =R122+R128 | T121: =T122+T128 | AT121: D | AU121: -1 | BK121: =BK122+BK128
D122: D | E122: HSV | F122: Práce a dodávky HSV | J122: =BK122 | P122: =P123 | R122: =R123 | T122: =T123 | AR122: 1 | AT122: D | AU122: 0 | AY122: ROZPOCET | BK122: =BK123
D123: D | E123: 998 | F123: Presun hmôt | J123: =BK123 | P123: =SUM(P124:P127) | R123: =SUM(R124:R127) | T123: =SUM(T124:T127) | AR123: 1 | AT123: D | AU123: 1 | AY123: ROZPOCET | BK123: =SUM(BK124:BK127)
C124: 1 | D124: K | E124: 998921203.S | F124: Presun hmôt pre montáž silnoprúdových rozvodov vo výške nad 7 do 24 m | G124: % | H124: 1462.55 | I124: 0.45 | J124: =ROUND(I124*H124,2) | K124: CENEKON 2026/02 | N124: základná | O124: 0 | P124: =O124*H124 | Q124: 0 | R124: =Q124*H124 | S124: 0 | T124: =S124*H124 | AR124: 4 | AT124: K | AU124: 2 | AY124: ROZPOCET | BE124: =IF(N124="základná",J124,0) | BF124: =IF(N124="znížená",J124,0) | BG124: =IF(N124="zákl. prenesená",J124,0) | BH124: =IF(N124="zníž. prenesená",J124,0) | BI124: =IF(N124="nulová",J124,0) | BJ124: 2 | BK124: =ROUND(I124*H124,2) | BL124: 4 | BM124: -1038112452
D125: VV | F125: 0.45 % zo základne oddielu 21-M Elektromontáže: 146254.77 EUR / 100 | H125: 1462.55 | AT125: VV | AU125: 2 | AV125: 2 | AW125: True | AX125: 1 | AY125: ROZPOCET
C126: 2 | D126: K | E126: 998921203.S | F126: Presun hmôt pre montáž bleskozvodu a uzemnenia vo výške nad 7 do 24 m | G126: % | H126: 78.54 | I126: 0.45 | J126: =ROUND(I126*H126,2) | K126: CENEKON 2026/02 | N126: základná | O126: 0 | P126: =O126*H126 | Q126: 0 | R126: =Q126*H126 | S126: 0 | T126: =S126*H126 | AR126: 4 | AT126: K | AU126: 2 | AY126: ROZPOCET | BE126: =IF(N126="základná",J126,0) | BF126: =IF(N126="znížená",J126,0) | BG126: =IF(N126="zákl. prenesená",J126,0) | BH126: =IF(N126="zníž. prenesená",J126,0) | BI126: =IF(N126="nulová",J126,0) | BJ126: 2 | BK126: =ROUND(I126*H126,2) | BL126: 4 | BM126: -1756598228
D127: VV | F127: 0.45 % zo základne oddielu 21-M Bleskozvod a uzemnenie: 7854.00 EUR / 100 | H127: 78.54 | AT127: VV | AU127: 2 | AV127: 2 | AW127: True | AX127: 1 | AY127: ROZPOCET
D128: D | E128: M | F128: Práce a dodávky M | J128: =BK128 | P128: =P129+P509 | R128: =R129+R509 | T128: =T129+T509 | AR128: 3 | AT128: D | AU128: 0 | AY128: ROZPOCET | BK128: =BK129+BK509
D129: D | E129: 21-M | F129: Elektromontáže | J129: =BK129 | P129: =SUM(P130:P508) | R129: =SUM(R130:R508) | T129: =SUM(T130:T508) | AR129: 3 | AT129: D | AU129: 1 | AY129: ROZPOCET | BK129: =SUM(BK130:BK508)
C130: 3 | D130: K | E130: 210800146.S | F130: Kábel medený CYKY-J 3x1,5 mm2 uložený pevne - svetelné obvody a digestory (montáž) | G130: m | H130: 1928.31 | I130: 1.16 | J130: =ROUND(I130*H130,2) | K130: CENEKON 2026/02 | N130: základná | O130: 0 | P130: =O130*H130 | Q130: 0 | R130: =Q130*H130 | S130: 0 | T130: =S130*H130 | AR130: 64 | AT130: K | AU130: 2 | AY130: ROZPOCET | BE130: =IF(N130="základná",J130,0) | BF130: =IF(N130="znížená",J130,0) | BG130: =IF(N130="zákl. prenesená",J130,0) | BH130: =IF(N130="zníž. prenesená",J130,0) | BI130: =IF(N130="nulová",J130,0) | BJ130: 2 | BK130: =ROUND(I130*H130,2) | BL130: 64 | BM130: 562168535
D131: VV | F131: počet obvodov podľa schémy rozvádzača RBx: 2 obvody 3x1,5 (SV1 osvetlenie, DG digestor) | AT131: VV | AU131: 2 | AV131: 2 | AW131: True | AX131: 0 | AY131: ROZPOCET
D132: VV | F132: svetelný obvod je na pôdoryse nakreslený celý: 972,25 m | AT132: VV | AU132: 2 | AV132: 2 | AW132: True | AX132: 0 | AY132: ROZPOCET
D133: VV | F133: obvod digestora sa počíta len z podlaží 2.NP až 4.NP, kde sú byty: (972,25 - 173,74) / 2 = 399,26 m | AT133: VV | AU133: 2 | AV133: 2 | AW133: True | AX133: 0 | AY133: ROZPOCET
D134: VV | F134: zvislé úseky k prístrojom: 364 spínačov + 332 svietidiel = 696 bodov x 0,80 m = 556,80 m | AT134: VV | AU134: 2 | AV134: 2 | AW134: True | AX134: 0 | AY134: ROZPOCET
D135: VV | F135: spolu 1 928,31 m | H135: 1928.31 | AT135: VV | AU135: 2 | AV135: 2 | AW135: True | AX135: 1 | AY135: ROZPOCET
C136: 4 | D136: M | E136: 341110000750.S | F136: Kábel medený CYKY-J 3x1,5 mm2 | G136: m | H136: 1928.31 | I136: 0.72 | J136: =ROUND(I136*H136,2) | K136: CENEKON 2026/02 | N136: základná | O136: 0 | P136: =O136*H136 | Q136: 0.00014 | R136: =Q136*H136 | S136: 0 | T136: =S136*H136 | AR136: 256 | AT136: M | AU136: 2 | AY136: ROZPOCET | BE136: =IF(N136="základná",J136,0) | BF136: =IF(N136="znížená",J136,0) | BG136: =IF(N136="zákl. prenesená",J136,0) | BH136: =IF(N136="zníž. prenesená",J136,0) | BI136: =IF(N136="nulová",J136,0) | BJ136: 2 | BK136: =ROUND(I136*H136,2) | BL136: 64 | BM136: -1388515609
D137: VV | F137: počet obvodov podľa schémy rozvádzača RBx: 2 obvody 3x1,5 (SV1 osvetlenie, DG digestor) | AT137: VV | AU137: 2 | AV137: 2 | AW137: True | AX137: 0 | AY137: ROZPOCET
D138: VV | F138: svetelný obvod je na pôdoryse nakreslený celý: 972,25 m | AT138: VV | AU138: 2 | AV138: 2 | AW138: True | AX138: 0 | AY138: ROZPOCET
D139: VV | F139: obvod digestora sa počíta len z podlaží 2.NP až 4.NP, kde sú byty: (972,25 - 173,74) / 2 = 399,26 m | AT139: VV | AU139: 2 | AV139: 2 | AW139: True | AX139: 0 | AY139: ROZPOCET
D140: VV | F140: zvislé úseky k prístrojom: 364 spínačov + 332 svietidiel = 696 bodov x 0,80 m = 556,80 m | AT140: VV | AU140: 2 | AV140: 2 | AW140: True | AX140: 0 | AY140: ROZPOCET
D141: VV | F141: spolu 1 928,31 m | H141: 1928.31 | AT141: VV | AU141: 2 | AV141: 2 | AW141: True | AX141: 1 | AY141: ROZPOCET
C142: 5 | D142: K | E142: 210800147.S | F142: Kábel medený CYKY-J 3x2,5 mm2 uložený pevne - zásuvkové obvody (montáž) | G142: m | H142: 2476.07 | I142: 1.3 | J142: =ROUND(I142*H142,2) | K142: CENEKON 2026/02 | N142: základná | O142: 0 | P142: =O142*H142 | Q142: 0 | R142: =Q142*H142 | S142: 0 | T142: =S142*H142 | AR142: 64 | AT142: K | AU142: 2 | AY142: ROZPOCET | BE142: =IF(N142="základná",J142,0) | BF142: =IF(N142="znížená",J142,0) | BG142: =IF(N142="zákl. prenesená",J142,0) | BH142: =IF(N142="zníž. prenesená",J142,0) | BI142: =IF(N142="nulová",J142,0) | BJ142: 2 | BK142: =ROUND(I142*H142,2) | BL142: 64 | BM142: -499990721
D143: VV | F143: počet obvodov podľa schémy rozvádzača RBx: 7 obvodov 3x2,5 (X1 až X6 zásuvkové, TČE) | AT143: VV | AU143: 2 | AV143: 2 | AW143: True | AX143: 0 | AY143: ROZPOCET
D144: VV | F144: zásuvková kresba spolu 742,72 m, podiel obvodov 3x2,5 je 7 z 9 | AT144: VV | AU144: 2 | AV144: 2 | AW144: True | AX144: 0 | AY144: ROZPOCET
D145: VV | F145: každý obvod prejde v priemere polovicou trasy: 742,72 x 7/9 x 3,5 = 2021.85 m | AT145: VV | AU145: 2 | AV145: 2 | AW145: True | AX145: 0 | AY145: ROZPOCET
D146: VV | F146: zvislé úseky: 730 zásuviek a voľných vývodov x 7/9 x 0,80 m = 454.22 m | AT146: VV | AU146: 2 | AV146: 2 | AW146: True | AX146: 0 | AY146: ROZPOCET
D147: VV | F147: spolu 2476.07 m | H147: 2476.07 | AT147: VV | AU147: 2 | AV147: 2 | AW147: True | AX147: 1 | AY147: ROZPOCET
C148: 6 | D148: M | E148: 341110000850.S | F148: Kábel medený CYKY-J 3x2,5 mm2 | G148: m | H148: 2476.07 | I148: 1.12 | J148: =ROUND(I148*H148,2) | K148: CENEKON 2026/02 | N148: základná | O148: 0 | P148: =O148*H148 | Q148: 0.00019 | R148: =Q148*H148 | S148: 0 | T148: =S148*H148 | AR148: 256 | AT148: M | AU148: 2 | AY148: ROZPOCET | BE148: =IF(N148="základná",J148,0) | BF148: =IF(N148="znížená",J148,0) | BG148: =IF(N148="zákl. prenesená",J148,0) | BH148: =IF(N148="zníž. prenesená",J148,0) | BI148: =IF(N148="nulová",J148,0) | BJ148: 2 | BK148: =ROUND(I148*H148,2) | BL148: 64 | BM148: -1079725641
D149: VV | F149: počet obvodov podľa schémy rozvádzača RBx: 7 obvodov 3x2,5 (X1 až X6 zásuvkové, TČE) | AT149: VV | AU149: 2 | AV149: 2 | AW149: True | AX149: 0 | AY149: ROZPOCET
D150: VV | F150: zásuvková kresba spolu 742,72 m, podiel obvodov 3x2,5 je 7 z 9 | AT150: VV | AU150: 2 | AV150: 2 | AW150: True | AX150: 0 | AY150: ROZPOCET
D151: VV | F151: každý obvod prejde v priemere polovicou trasy: 742,72 x 7/9 x 3,5 = 2021.85 m | AT151: VV | AU151: 2 | AV151: 2 | AW151: True | AX151: 0 | AY151: ROZPOCET
D152: VV | F152: zvislé úseky: 730 zásuviek a voľných vývodov x 7/9 x 0,80 m = 454.22 m | AT152: VV | AU152: 2 | AV152: 2 | AW152: True | AX152: 0 | AY152: ROZPOCET
D153: VV | F153: spolu 2476.07 m | H153: 2476.07 | AT153: VV | AU153: 2 | AV153: 2 | AW153: True | AX153: 1 | AY153: ROZPOCET
C154: 7 | D154: K | E154: 210800159.S | F154: Kábel medený CYKY-J 5x2,5 mm2 uložený pevne - elektrický sporák a vnútorná jednotka TČ (montáž) | G154: m | H154: 294.83 | I154: 1.5 | J154: =ROUND(I154*H154,2) | K154: CENEKON 2026/02 | N154: základná | O154: 0 | P154: =O154*H154 | Q154: 0 | R154: =Q154*H154 | S154: 0 | T154: =S154*H154 | AR154: 64 | AT154: K | AU154: 2 | AY154: ROZPOCET | BE154: =IF(N154="základná",J154,0) | BF154: =IF(N154="znížená",J154,0) | BG154: =IF(N154="zákl. prenesená",J154,0) | BH154: =IF(N154="zníž. prenesená",J154,0) | BI154: =IF(N154="nulová",J154,0) | BJ154: 2 | BK154: =ROUND(I154*H154,2) | BL154: 64 | BM154: -182775312
D155: VV | F155: počet obvodov podľa schémy rozvádzača RBx: 2 obvody 5x2,5 (ES el. sporák, TČI) | AT155: VV | AU155: 2 | AV155: 2 | AW155: True | AX155: 0 | AY155: ROZPOCET
D156: VV | F156: podiel obvodov 5x2,5 je 2 z 9: 742,72 x 2/9 = 165.05 m | AT156: VV | AU156: 2 | AV156: 2 | AW156: True | AX156: 0 | AY156: ROZPOCET
D157: VV | F157: zvislé úseky: 730 x 2/9 x 0,80 m = 129.78 m | AT157: VV | AU157: 2 | AV157: 2 | AW157: True | AX157: 0 | AY157: ROZPOCET
D158: VV | F158: spolu 294.83 m | H158: 294.83 | AT158: VV | AU158: 2 | AV158: 2 | AW158: True | AX158: 1 | AY158: ROZPOCET
C159: 8 | D159: M | E159: 341110002000.S | F159: Kábel medený CYKY-J 5x2,5 mm2 | G159: m | H159: 294.83 | I159: 1.73 | J159: =ROUND(I159*H159,2) | K159: CENEKON 2026/02 | N159: základná | O159: 0 | P159: =O159*H159 | Q159: 0.00028 | R159: =Q159*H159 | S159: 0 | T159: =S159*H159 | AR159: 256 | AT159: M | AU159: 2 | AY159: ROZPOCET | BE159: =IF(N159="základná",J159,0) | BF159: =IF(N159="znížená",J159,0) | BG159: =IF(N159="zákl. prenesená",J159,0) | BH159: =IF(N159="zníž. prenesená",J159,0) | BI159: =IF(N159="nulová",J159,0) | BJ159: 2 | BK159: =ROUND(I159*H159,2) | BL159: 64 | BM159: 487198233
D160: VV | F160: počet obvodov podľa schémy rozvádzača RBx: 2 obvody 5x2,5 (ES el. sporák, TČI) | AT160: VV | AU160: 2 | AV160: 2 | AW160: True | AX160: 0 | AY160: ROZPOCET
D161: VV | F161: podiel obvodov 5x2,5 je 2 z 9: 742,72 x 2/9 = 165.05 m | AT161: VV | AU161: 2 | AV161: 2 | AW161: True | AX161: 0 | AY161: ROZPOCET
D162: VV | F162: zvislé úseky: 730 x 2/9 x 0,80 m = 129.78 m | AT162: VV | AU162: 2 | AV162: 2 | AW162: True | AX162: 0 | AY162: ROZPOCET
D163: VV | F163: spolu 294.83 m | H163: 294.83 | AT163: VV | AU163: 2 | AV163: 2 | AW163: True | AX163: 1 | AY163: ROZPOCET
C164: 9 | D164: K | E164: 210800160.S | F164: Kábel medený CYKY-J 5x4 mm2 uložený pevne (montáž) | G164: m | H164: 59.26 | I164: 1.81 | J164: =ROUND(I164*H164,2) | K164: CENEKON 2026/02 | N164: základná | O164: 0 | P164: =O164*H164 | Q164: 0 | R164: =Q164*H164 | S164: 0 | T164: =S164*H164 | AR164: 64 | AT164: K | AU164: 2 | AY164: ROZPOCET | BE164: =IF(N164="základná",J164,0) | BF164: =IF(N164="znížená",J164,0) | BG164: =IF(N164="zákl. prenesená",J164,0) | BH164: =IF(N164="zníž. prenesená",J164,0) | BI164: =IF(N164="nulová",J164,0) | BJ164: 2 | BK164: =ROUND(I164*H164,2) | BL164: 64 | BM164: 845953334
D165: VV | F165: červené trasy 5x4 a 5x6 odmerané po podlažiach: 1.NP 28,87 + 2.NP 11,19 + 3.NP 11,06 + 4.NP 8,14 = 59,26 m | H165: 59.26 | AT165: VV | AU165: 2 | AV165: 2 | AW165: True | AX165: 1 | AY165: ROZPOCET
...

Sheet SO 01.2 - Distribučné rozvod...
AT2: {e51038e5-3e65-4119-9c5a-fd8b2b43305b}
AT3: 1
D4: KRYCÍ LIST SÚPISU PRÁC | M4: v --- nižšie sa nachádzajú doplnkové a pomocné údaje k zostavám --- v | AT4: False
D6: Stavba:
E7: ='Rekapitulácia stavby'!K6
D8: Objekt:
E9: SO 01.2 - Distribučné rozvody NN
D11: KSO: | I11: CC-SK:
D12: Miesto: | F12: Trnavský kraj | I12: Dátum: | J12: ='Rekapitulácia stavby'!AN8
D14: Zadávateľ: | I14: IČO:
E15: Anonymizované | I15: IČ DPH:
D17: Zhotoviteľ: | I17: IČO: | J17: =IF('Rekapitulácia stavby'!AN13="","",'Rekapitulácia stavby'!AN13)
E18: =IF('Rekapitulácia stavby'!E14="","",'Rekapitulácia stavby'!E14) | I18: IČ DPH: | J18: =IF('Rekapitulácia stavby'!AN14="","",'Rekapitulácia stavby'!AN14)
D20: Projektant: | I20: IČO:
I21: IČ DPH:
D23: Spracovateľ: | I23: IČO:
I24: IČ DPH:
D26: Poznámka:
E27: Objekt obsahuje prípojku NN, distribučné vedenie, novú istiacu skriňu SR 7, nový úsek prípojkového vedenia, zemné práce k nim a demontáž jestvujúceho distribučného vedenia a skrine SR podľa technickej správy distribučnej časti. Distribučnú časť financuje prevádzkovateľ distribučnej sústavy, nie stavebník; preto je vykázaná samostatne a dá sa fakturovať oddelene od ostatných profesií. Trasy sú prevzaté z kótovanej situácie distribučnej časti: distribučné vedenie 20 m, prípojka 28 m a nový úsek prípojkového vedenia 40 m. Úplné znenie poznámok je na liste Poznámky k rozpočtu. S čím počítame (predpoklady, ktoré si môžete upraviť jedným číslom; druhá varianta je pri každom uvedená): P-1: Zariaďovacie predmety sú ocenené v bežnom katalógovom štandarde; presný typ určuje podľa technickej správy investor. Vyšší štandard vybavenia by cenu zariaďovacích predmetov zvýšil rádovo o jednotky percent. Presnú cenu určí až výber konkrétnych výrobkov objednávateľom. P-2: Vsakovací objekt je ocenený v rozmeroch podľa výkresu 003, hoci technická správa ich označuje za informatívne (chýba hydrogeologický prieskum). Úprava objemu vsakovacích blokov po hydrogeologickom prieskume je druhá varianta; cena sa mení úmerne počtu blokov, jeden blok je 57,76 EUR. P-3: Vykurovanie je spracované znovu z projektovej dokumentácie; pracovný výkaz výmer objednávateľa slúžil len ako kontrola rozsahu. Nadviazanie na pracovný výkaz objednávateľa je možné na vyžiadanie, bez zmeny ceny. P-4: Súpis je dodaný vo formáte KROS Export Komplet 2.0 na import do CENKROSu; práce a služby sú vedené ako typ K, materiály a výrobky ako typ M. Slepé výkazy výmer bez cien boli dodané s predchádzajúcou verziou rozpočtu a platia bez zmeny. P-5: Technológia výťahu nie je v rozsahu; elektro obsahuje prívod a rozvádzač RV. Doplnenie technológie výťahu je druhá varianta; ocení sa po dodaní ponuky výrobcu. Cenu určí ponuka výrobcu výťahu. P-6: Búracie práce a demontáže jestvujúcich rozvodov sú súčasťou stavebnej časti, ktorú spracováva objednávateľ. Doplnenie demontáží profesií je druhá varianta; ocení sa po dodaní výkresu jestvujúceho stavu. Cenu určí rozsah podľa výkresu jestvujúceho stavu. P-7: Odvodnenie plochej strechy je vonkajšími žľabmi a zvodovými rúrami podľa legendy výkresu strechy; klampiarske práce sú súčasťou stavebnej časti a dažďová kanalizácia na ne nadväzuje deviatimi prípojmi v zemi. Variant s vnútornými strešnými vtokmi je vyčíslený pri rozpore R-3 (+4 924 EUR). P-8: Skládka pre prebytočný výkopok je uvažovaná do 10 km; skutočnú vzdialenosť určí zhotoviteľ. Vzdialenejšia skládka je druhá varianta; každý ďalší kilometer je 0,55 EUR na tonu. P-9: Vetracie hlavice vzduchotechniky sú uvažované 0,50 m nad strechou; výkres výšku nekótuje. Vyššie vyvedenie hlavíc nad strechu by súpis zvýšilo do 100 EUR. P-10: Dimenzie medených rozvodov vykurovania nie sú v dokumentácii uvedené; uvažované D 22 mm od hydraulického modulu k rozdeľovaču a D 15 mm k rebríkovým telesám. Jednotná dimenzia D 22 mm by súpis zmenila do 1 300 EUR. P-12: Vnútorné rozvody vody sú podľa označení na pôdorysoch rozdelené na DN 15 (60 %) a DN 20 (40 %). Celý rozvod v DN 20 by súpis zvýšil do 900 EUR. P-13: Vodorovná vnútorná kanalizácia je podľa označení na pôdorysoch rozdelená na DN 110 (30 %) a DN 50 (70 %). Vyšší podiel DN 110 by súpis zvýšil do 1 500 EUR. P-14: Objem elektrických zásobníkových ohrievačov pre nebytové priestory nie je určený; uvažovaný objem 80 l. Zásobníky s objemom 120 l by súpis zvýšili do 600 EUR. P-15: Dĺžka káblov CHKE-V 5x6 mm2 k podružným rozvádzačom je odvodená z geometrie objektu (priemerná vzdialenosť po chodbe pri rovnomernom rozmiestnení 38 rozvádzačov). Meranie podľa skutočnej trasy po dodaní realizačnej dokumentácie je druhá varianta; odchýlka 10 % dĺžky znamená 798 EUR na kábli a 230 EUR na pospájaní. P-16: Jestvujúce distribučné vedenie NN sa vyťahuje z ryhy nového vedenia; samostatný výkop pre demontáž sa nevykazuje. Samostatný výkop pre demontáž 20 m by súpis zvýšil orientačne do 200 EUR. P-17: Veľkostný typ jestvujúcej istiacej a rozpojovacej skrine SR dokumentácia neuvádza; pre demontáž je uvažovaný rovnaký typ SR 7 ako nová skriňa. Menší typ skrine by súpis znížil o 8 EUR. P-18: Schémy rozvádzačov kreslia pri každom podružnom rozvádzači prípojnicu HUP s vodičom CYA 16 mm2; v súpise je 38 prípojníc a vodič vedený súbežne s prívodom každého rozvádzača. Spoločná prípojnica na podlaží namiesto prípojnice pri každom rozvádzači by súpis znížila približne o 2 000 EUR. P-19: Dĺžka doplnkového pospájania na jedno miesto (kúpeľňa, kuchyňa, strojovňa) je uvažovaná 5,00 m. Dlhšie trasy doplnkového pospájania by súpis zvýšili do 300 EUR. P-20: Vybavenie výťahovej šachty elektroinštaláciou (dve svietidlá, spínač a servisná zásuvka) vychádza z požiadaviek na obsluhu šachty; vlastná technológia výťahu v súpise nie je. Ak vybavenie výťahovej šachty dodá výrobca výťahu, súpis sa zníži o 270 EUR. P-21: Projekt predpisuje káble CHKE-R; cenová sústava obsahuje ekvivalent CHKE-V s rovnakým prierezom, ktorým je položka ocenená. Doložená ponuka na pôvodný typ CHKE-R je druhá varianta; rozdiel sa prejaví v cene materiálu. Cenu určí ponuka dodávateľa káblov. P-22: Dĺžky vývodov z rozvádzača RE (CENTRAL STOP, RV, SV1, SV2) sú odvodené z geometrie objektu rovnako ako dĺžky prívodov k podružným rozvádzačom. Meranie vývodov podľa skutočnej trasy je druhá varianta; odchýlka 10 % dĺžky znamená 55 EUR. P-23: Dĺžka káblového žľabu je odvodená z chodbového rozvodu po dĺžke objektu na každom podlaží a zvislej stúpačky od rozvádzača RE. Káblový žľab aj vo vetvách k jednotlivým rozvádzačom by súpis zvýšil do 4 500 EUR. P-24: Cenová sústava obsahuje najbližšiu výzbroj istiacej skrine SR 7; presný typ predpísaný technickou správou sa doloží ponukou dodávateľa. Doložená ponuka na presný typ skrine HASMA je druhá varianta. Cenu určí ponuka dodávateľa skríň. P-25: Zvody bleskozvodu sú zabudované do zatepľovacieho systému a montujú sa spolu s fasádou; lešenie pre ne je súčasťou stavebnej časti. Samostatné lešenie alebo montážna plošina pre zvody by súpis zvýšili o 1 500 až 3 000 EUR. P-27: Podiel ručného výkopu káblovej ryhy v súbehu so sieťami je uvažovaný 10 % dĺžky. Vyšší podiel ručného výkopu by súpis zvýšil do 600 EUR. P-29: Počet zemniacich tyčí pre uzemnenie skrine SR a rozvádzača RE je uvažovaný tri tyče po 2 m na zariadenie. Doplnenie zemniacich tyčí podľa skutočne nameraného odporu je druhá varianta; jedna tyč s montážou je 64 EUR. P-30: Počet vodovodných stúpačiek je uvažovaný deväť, rovnako ako hlavných kanalizačných stúpačiek. Iný počet vodovodných stúpačiek by zmenil cenu upchávok do 400 EUR. P-31: Hĺbka ryhy areálovej splaškovej kanalizácie je uvažovaná 1,50 m; dokumentácia hĺbku neuvádza. Šírka ryhy 1,10 m, lôžko 0,17 m3/bm a obsyp 0,52 m3/bm sú prevzaté z tabuľky v detaile uloženia potrubia. Hĺbka ryhy 1,80 m by výkop, paženie a zásyp zvýšila približne o 900 EUR. P-32: Dĺžka odvodu kondenzátu od jednej kazetovej jednotky je uvažovaná 10,00 m. Kratšie trasy odvodu kondenzátu by súpis znížili do 300 EUR. P-33: Výkon elektrických konvektorov pre zázemie nájomných priestorov dokumentácia neuvádza; uvažovaný je 1 000 W na miestnosť. Pracovný výkaz výmer objednávateľa uvažuje konvektory 500 W; menší výkon by súpis znížil približne o 250 EUR. Konvektory s výkonom 1 500 W by súpis zvýšili o 102 EUR. P-34: Rozsah oceľovej podpernej konštrukcie kondenzačných jednotiek na streche upresní statická časť, ktorá nie je súčasťou odovzdanej dokumentácie; položka je ocenená ako strešná pozinkovaná konzola na jednu jednotku. Rámová konštrukcia podľa statiky namiesto strešnej konzoly by súpis zvýšila o 150 až 1 700 EUR. P-35: Zriadenie prestupov jestvujúcimi železobetónovými stropmi pripravuje zhotoviteľ stavebnej časti podľa koordinačných výkresov profesií; v tomto súpise je len ich utesnenie. Jadrové vrty v našom súpise, 128 prestupov, by súpis zvýšili orientačne o 3 000 až 5 000 EUR. P-36: Doba montáže šiestich profesií je uvažovaná 6 mesiacov; harmonogram stavby v podkladoch nie je. Vychádza z nej prenájom buniek a mobilného WC. Deväť mesiacov montáže namiesto šiestich by zariadenie staveniska zvýšilo o 1 894 EUR. P-37: Počet kontajnerov na odpad z montážnych prác je uvažovaný štyri. Šesť kontajnerov namiesto štyroch by súpis zvýšilo o 220 EUR. P-38: Vzdialenosť mimostaveniskovej dopravy je uvažovaná do 50 km. Mimostavenisková doprava na 100 km by súpis zvýšila o 866 EUR. P-39: Skrine elektromerového rozvádzača RE sú ocenené v rade OEZ QA55 s krytím IP55 v rozmeroch podľa výkresu 210 (1 ks 800x400x1800 mm a 2 ks 1200x400x1800 mm) vrátane podstavcov, horných krytov a montážnych panelov; výkres predpisuje výrobcu OEZ a krytie IP65, IP55 je najvyššie krytie radových rozvádzačových skríň tohto výrobcu v cenovej sústave. Horný kryt skrine je v cenovej sústave len vo ventilovanom vyhotovení. Atypická skriňa IP65 na zákazku by súpis zvýšila o 600 až 1 500 EUR. P-40: Ovládanie kazetových klimatizačných jednotiek je uvažované infračerveným diaľkovým ovládačom, ktorý je súčasťou dodávky jednotky; technická správa pripúšťa aj nástenné káblové ovládače, tie by súpis zvýšili o 12 ovládačov s montážou. Káblové ovládače klimatizácie cenová sústava neobsahuje, cenu určí ponuka dodávateľa jednotiek. P-41: Prípojnicový systém rozvádzača RE je ocenený piatimi medenými pásmi 30 x 5 mm (L1, L2, L3, N, PE) po šírke zostavy skríň, spolu 16,00 m, so zaťažiteľnosťou 379 až 450 A. Výkres rozvádzača uvádza pri hlavnom ističi dve hodnoty, 630 A a 380 A, a súpis je zostavený na nižšiu z nich. Vyhotovenie na plných 630 A znamená zdvojenie fázových pásov, čo by súpis zvýšilo o 359,14 EUR. P-42: Tepelné izolácie medených rozvodov vykurovania sú ocenené hrúbkou 20 mm pre potrubie D 22 a 19 mm pre D 15, pretože rozvody vedú v podlahovej konštrukcii a v šachtách; voľne vedené úseky by podľa technickej správy mali hrúbku 25 až 30 mm. Voľne vedené úseky v hrúbke 25 až 30 mm by pri celej dĺžke 266,10 m súpis zvýšili približne o 2 100 EUR. P-43: Vodorovné trasy vnútornej kanalizácie sú ocenené ako potrubie HT z PP v celej dĺžke; ak sa zvodová časť zhotoví z PVC KG podľa technickej správy, cena sa zníži približne o 26 EUR. P-44: Hĺbka ryhy areálového vodovodu je uvažovaná 1,20 m; technická správa uvádza len šírku ryhy 60 cm, lôžko 15 cm a obsyp 30 cm, hĺbku neuvádza. Hĺbka ryhy vodovodu 1,50 m by výkop, paženie, zásyp a odvoz zvýšila približne o 600 EUR. P-45: Revízne šachty sú ocenené ako prefabrikované: dodávka dna s kynetou, skruží, kónusu a vyrovnávacieho prstenca a osadenie jednotlivých dielcov. Zhotovenie šachiet s obložením dna betónom na mieste namiesto prefabrikovaného dna by súpis zvýšilo približne o 4 800 EUR. P-46: Napojenie vodovodnej prípojky na verejný vodovod a zaústenie kanalizačnej prípojky do verejnej stoky vykonáva prevádzkovateľ verejnej siete na náklady investora; dokumentácia neuvádza dimenziu ani materiál verejných potrubí, preto tieto práce v súpise nie sú. Vystrojenie vodomernej šachty vrátane fakturačného vodomeru DN 50 v súpise je. Navŕtavací pás alebo T-kus so zemnou súpravou v našom súpise by ho zvýšil o 300 až 800 EUR podľa dimenzie verejného radu. P-47: Revízne šachty sú zostavené z dielcov, ktoré cenová sústava ponúka: dno s kynetou výšky 700 mm, kónus 1000/600 výšky 576 mm a vyrovnávací prstenec do 100 mm. Výkres kótuje dno 680 mm a kónus 630 mm; rozdiel 34 mm na šachtu vyrovná vyrovnávací prstenec a maltové lôžka spojov. Dielce šachiet presne podľa výkresu na zákazku by ich cenu zvýšili o 10 až 15 %. P-48: Zvislé trasy sú predĺžené o ležatý zvod 0,80 m pod podlahou 1.NP, o 0,50 m k odbočke na poslednom podlaží a o 1,00 m vyvedenia kanalizačného odvetrania nad strechu; dokumentácia tieto rozmery nekótuje. Bez prídavkov zvislých trás by sa súpis znížil približne o 1 900 EUR. P-49: Podklad pod vonkajšie jednotky tepelných čerpadiel (betónová pätka alebo rámový podstavec) dokumentácia nepredpisuje; technická správa uvádza antivibračné silentbloky len pri kondenzačných jednotkách klimatizácie, ktoré sú v súpise. Podklad pod tepelné čerpadlá je preto uvažovaný ako súčasť stavebnej časti. Rámový podstavec výrobcu pod 27 vonkajších jednotiek by súpis zvýšil približne o 11 600 EUR. P-50: Rozmer otvoru pri prestupe kábla požiarne deliacou konštrukciou dokumentácia neurčuje; uvažovaný je jadrový vrt D 150 mm na jeden prívodný kábel, teda trieda tesnenia do 0,1 m2. Ak sa prestupy zhotovia ako otvory nad 0,1 m2, súpis sa zvýši približne o 1 023 EUR. P-51: Dĺžku odvodu odmrazovacej vody od vonkajších jednotiek tepelných čerpadiel a odvodu od poistných výtokov zásobníkov dokumentácia neurčuje; uvažované sú 3,00 m na jednotku a 2,00 m na bytovú sústavu. Dvojnásobné dĺžky by súpis zvýšili približne o 840 EUR. P-52: Cenová sústava CENEKON nemá triedu pre prepláchnutie a napustenie sústavy s podlahovým vykurovaním ani pre funkčnú vykurovaciu skúšku podľa STN EN 1264-4; obidva kroky sú preto ocenené hodinovou sadzbou montéra a počet hodín je uvažovaný 2,00 hod na napustenie a 3,00 hod na vykurovaciu skúšku jednej bytovej sústavy. Dvojnásobný počet hodín by súpis zvýšil približne o 2 700 EUR. P-53: Plocha na vyčistenie budovy po montážnych prácach je uvažovaná ako hrubá podlahová plocha, teda zastavaná plocha 742,85 m2 krát štyri podlažia. Ak sa vykáže len čistá podlahová plocha bez konštrukcií (približne 85 %), súpis sa zníži približne o 2 890 EUR. P-54: Objemová hmotnosť zmiešaného stavebného odpadu z montážnych prác je uvažovaná 0,15 t/m3; skutočnú hmotnosť určí váženie na skládke. Dvojnásobná hmotnosť by súpis zvýšila približne o 840 EUR. P-55: Počty tvarovok potrubia spiro (27 kolien DN 125, 44 kolien DN 160, 50 T-kusov a 27 prechodov) sú dopočítané z topológie rozvodu, pretože výkresy tvarovky nekótujú. Odchýlka 20 % by súpis zmenila približne o 490 EUR. P-56: Zvody bleskozvodu sú ocenené izolovaným hliníkovým drôtom AlMgSi Ø 8 mm PVC podľa legendy výkresu bleskozvodu a sú vedené v ochrannej rúrke pod omietkou, ako predpisuje technická správa; hliník so zachytávacou sústavou netvorí galvanický pár, takže náter zvodu odpadá. Variant s neizolovaným drôtom v samotnej ochrannej rúrke by súpis znížil o 113 EUR. P-57: Rozsah ochranného zábradlia okolo otvorených výkopov je uvažovaný po jednej strane ryhy v celej dĺžke, teda 317,30 m; technické správy zaistenie výkopov predpisujú, rozsah neurčujú. Zábradlie po oboch stranách by súpis zvýšilo približne o 2 504 EUR. P-58: Dĺžka pripojovacieho potrubia kondenzátu od zápachových uzávierok vzduchotechniky do kanalizácie je uvažovaná 2,00 m na jednu uzávierku; dokumentácia trasu neurčuje. Dvojnásobná dĺžka by súpis zvýšila približne o 225 EUR. P-59: Doplnenie chladiva R32 nad výrobnú náplň nie je v súpise: priemerná dĺžka chladivovej dvojice na jeden okruh je 21,4 m, čo je na hranici bežnej výrobnej náplne split jednotiek. Ak výrobca zvolenej jednotky predplní kratšiu trasu, doplnenie chladiva by súpis zvýšilo približne o 130 až 250 EUR. P-60: Prívod vzduchu do odvetrávaných miestností je podľa technickej správy riešený bezprahovými dverami, ktoré sú súčasťou stavebnej časti. Ak sa namiesto nich osadia dverové mriežky, súpis vzduchotechniky sa zvýši približne o 1 200 EUR. P-61: Dĺžky vnútorných káblov vychádzajú z počtu obvodov podľa schémy bytového rozvádzača (dva obvody 3x1,5, sedem 3x2,5 a dva 5x2,5) a z trasy odmeranej z pôdorysov silnoprúdu. Uvažuje sa, že každý obvod prejde v priemere polovicou spoločnej trasy a že na každý prístrojový bod pripadá 0,80 m zvislého úseku, ktorý pôdorys nezobrazuje. Plný prechod trasou u každého obvodu by súpis zvýšil približne o 6 500 EUR. P-62: Tepelné izolácie rozvodov vody sú ocenené v katalógových hrúbkach 9 mm pre studenú a 19 mm pre teplú vodu; technická správa uvádza 10 a 20 mm, cenová sústava tieto hrúbky pre dané priemery nemá. Bližšia hrúbka v sústave nie je, cena sa tým nemení. P-63: Komplexné vyskúšanie a zaregulovanie vzduchotechniky je ocenené sadzbou za celé zariadenie, teda 241,21 EUR; počet ventilátorov a meracích bodov cenník neurčuje. Ocenenie podľa hodinovej sadzby, teda 60 hodín, by súpis zvýšilo o 793,79 EUR. P-64: Závesy a objímky potrubí zdravotechniky nie sú samostatnou položkou, pretože montážne položky potrubia obsahujú potrubnú objímku a skrutky na každý meter. Technická správa predpisuje značkový závesný systém; ak sa má oceniť samostatne, doplní sa po cenovej ponuke dodávateľa. P-65: Značenie potrubia podľa STN 13 0072 je ocenené jedným štítkom na každú vodovodnú stúpačku na každom podlaží, spolu 36 kusov; technická správa počet a rozmiestnenie štítkov neurčuje. Hustejšie značenie aj na ležatých rozvodoch a armatúrach by súpis zvýšilo o 199,08 EUR. P-66: Vytýčenie jestvujúcich podzemných vedení je ocenené jedným vytyčovacím bodom na každú z piatich sietí vedených areálom; situácia počet vytyčovacích bodov neurčuje. Vytýčenie po celej dĺžke rýh, teda 23 bodov ako pri nových trasách, by súpis zvýšilo o 486,00 EUR. P-67: Izolačné držiaky prípojníc rozvádzača RE sú ocenené v rozstupe 0,50 m po šírke zostavy skríň, teda 7 kusov; výkres rozstup podopretia neurčuje. Hustejší rozstup 0,35 m, teda 10 kusov, by súpis zvýšil o 93,00 EUR.
D30: Cena bez DPH | J30: =ROUND(J122, 2)
F32: Základ dane | I32: Sadzba dane | J32: Výška dane
D33: DPH | E33: základná | F33: =ROUND((SUM(BE122:BE206)), 2) | I33: 0.23 | J33: =ROUND(((SUM(BE122:BE206))*I33), 2)
E34: znížená | F34: =ROUND((SUM(BF122:BF206)), 2) | I34: 0.19 | J34: =ROUND(((SUM(BF122:BF206))*I34), 2)
E35: zákl. prenesená | F35: =ROUND((SUM(BG122:BG206)), 2) | I35: 0.23 | J35: =0
E36: zníž. prenesená | F36: =ROUND((SUM(BH122:BH206)), 2) | I36: 0.19 | J36: =0
E37: nulová | F37: =ROUND((SUM(BI122:BI206)), 2) | I37: 0 | J37: =0
D39: Cena s DPH | G39: v | H39: EUR | J39: =SUM(J30:J37)
D50: Projektant | G50: Spracovateľ
D61: Dátum a podpis: | F61: Pečiatka | G61: Dátum a podpis: | J61: Pečiatka
D65: Objednávateľ | G65: Zhotoviteľ
D76: Dátum a podpis: | F76: Pečiatka | G76: Dátum a podpis: | J76: Pečiatka
C82: REKAPITULÁCIA ČLENENIA SÚPISU PRÁC
C84: Stavba:
E85: =E7
C86: Objekt:
E87: =E9
C89: Miesto: | F89: =F12 | I89: Dátum: | J89: =IF(J12="","",J12)
C91: Zadávateľ: | F91: =E15 | I91: Projektant: | J91: =E21
C92: Zhotoviteľ: | F92: =IF(E18="","",E18) | I92: Spracovateľ: | J92: =E24
C94: Kód dielu - Popis | J94: Cena celkom [EUR]
C96: Náklady zo súpisu prác | J96: =J122 | AU96: -1
D97: HSV - Práce a dodávky HSV | J97: =J123
D98: 9 - Ostatné konštrukcie a práce, búranie | J98: =J124
D99: 998 - Presun hmôt | J99: =J133
D100: M - Práce a dodávky M | J100: =J136
D101: 21-M - Elektromontáže | J101: =J137
D102: 46-M - Zemné práce pri montážach | J102: =J197
C109: SÚPIS PRÁC
C111: Stavba:
E112: =E7
C113: Objekt:
E114: =E9
C116: Miesto: | F116: =F12 | I116: Dátum: | J116: =IF(J12="","",J12)
C118: Zadávateľ: | F118: =E15 | I118: Projektant: | J118: =E21
C119: Zhotoviteľ: | F119: =IF(E18="","",E18) | I119: Spracovateľ: | J119: =E24
C121: PČ | D121: Typ | E121: Kód | F121: Popis | G121: MJ | H121: Množstvo | I121: J.cena [EUR] | J121: Cena celkom [EUR] | K121: Cenová sústava | N121: DPH | O121: J. Nh [h] | P121: Nh celkom [h] | Q121: J. hmotnosť [t] | R121: Hmotnosť celkom [t] | S121: J. suť [t] | T121: Suť celkom [t]
C122: Náklady súpisu celkom | J122: =BK122 | P122: =P123+P136 | R122: =R123+R136 | T122: =T123+T136 | AT122: D | AU122: -1 | BK122: =BK123+BK136
D123: D | E123: HSV | F123: Práce a dodávky HSV | J123: =BK123 | P123: =P124+P133 | R123: =R124+R133 | T123: =T124+T133 | AR123: 1 | AT123: D | AU123: 0 | AY123: ROZPOCET | BK123: =BK124+BK133
D124: D | E124: 9 | F124: Ostatné konštrukcie a práce, búranie | J124: =BK124 | P124: =SUM(P125:P132) | R124: =SUM(R125:R132) | T124: =SUM(T125:T132) | AR124: 1 | AT124: D | AU124: 1 | AY124: ROZPOCET | BK124: =SUM(BK125:BK132)
C125: 1 | D125: K | E125: 979081111.S | F125: Odvoz sutiny a vybúraných hmôt z demontáže distribučných rozvodov na skládku do 1 km | G125: t | H125: 0.25 | I125: 18.44 | J125: =ROUND(I125*H125,2) | K125: CENEKON 2026/02 | N125: základná | O125: 0 | P125: =O125*H125 | Q125: 0 | R125: =Q125*H125 | S125: 0 | T125: =S125*H125 | AR125: 4 | AT125: K | AU125: 2 | AY125: ROZPOCET | BE125: =IF(N125="základná",J125,0) | BF125: =IF(N125="znížená",J125,0) | BG125: =IF(N125="zákl. prenesená",J125,0) | BH125: =IF(N125="zníž. prenesená",J125,0) | BI125: =IF(N125="nulová",J125,0) | BJ125: 2 | BK125: =ROUND(I125*H125,2) | BL125: 4 | BM125: -899353261
D126: VV | F126: kábel 40,00 m x 0,00517 t/m = 0,21 t | AT126: VV | AU126: 2 | AV126: 2 | AW126: True | AX126: 0 | AY126: ROZPOCET
D127: VV | F127: skriňa 1 ks x 0,040 t = 0,04 t | AT127: VV | AU127: 2 | AV127: 2 | AW127: True | AX127: 0 | AY127: ROZPOCET
D128: VV | F128: 0,21 + 0,04 = 0,25 | H128: 0.25 | AT128: VV | AU128: 2 | AV128: 2 | AW128: True | AX128: 1 | AY128: ROZPOCET
C129: 2 | D129: K | E129: 979081121.S | F129: Odvoz sutiny a vybúraných hmôt z demontáže distribučných rozvodov na skládku za každý ďalší 1 km | G129: t | H129: 2.25 | I129: 0.55 | J129: =ROUND(I129*H129,2) | K129: CENEKON 2026/02 | N129: základná | O129: 0 | P129: =O129*H129 | Q129: 0 | R129: =Q129*H129 | S129: 0 | T129: =S129*H129 | AR129: 4 | AT129: K | AU129: 2 | AY129: ROZPOCET | BE129: =IF(N129="základná",J129,0) | BF129: =IF(N129="znížená",J129,0) | BG129: =IF(N129="zákl. prenesená",J129,0) | BH129: =IF(N129="zníž. prenesená",J129,0) | BI129: =IF(N129="nulová",J129,0) | BJ129: 2 | BK129: =ROUND(I129*H129,2) | BL129: 4 | BM129: 1030845991
D130: VV | F130: 0,25 t x 9 km nad rámec prvého kilometra = 2,25 | H130: 2.25 | AT130: VV | AU130: 2 | AV130: 2 | AW130: True | AX130: 1 | AY130: ROZPOCET
C131: 3 | D131: K | E131: 979089112.S | F131: Poplatok za skládku - drevo, sklo, plasty (17 02), ostatné - plastová skriňa z demontáže (Hliníkový kábel z demontáže sa odovzdáva na recykláciu kovov, poplatok za skládku sa naň nevzťahuje.) | G131: t | H131: 0.04 | I131: 95 | J131: =ROUND(I131*H131,2) | K131: CENEKON 2026/02 | N131: základná | O131: 0 | P131: =O131*H131 | Q131: 0 | R131: =Q131*H131 | S131: 0 | T131: =S131*H131 | AR131: 4 | AT131: K | AU131: 2 | AY131: ROZPOCET | BE131: =IF(N131="základná",J131,0) | BF131: =IF(N131="znížená",J131,0) | BG131: =IF(N131="zákl. prenesená",J131,0) | BH131: =IF(N131="zníž. prenesená",J131,0) | BI131: =IF(N131="nulová",J131,0) | BJ131: 2 | BK131: =ROUND(I131*H131,2) | BL131: 4 | BM131: 2013081768
D132: VV | F132: plastová skriňa SR 1 ks x 0,040 t = 0,04 | H132: 0.04 | AT132: VV | AU132: 2 | AV132: 2 | AW132: True | AX132: 1 | AY132: ROZPOCET
D133: D | E133: 998 | F133: Presun hmôt | J133: =BK133 | P133: =SUM(P134:P135) | R133: =SUM(R134:R135) | T133: =SUM(T134:T135) | AR133: 1 | AT133: D | AU133: 1 | AY133: ROZPOCET | BK133: =SUM(BK134:BK135)
C134: 4 | D134: K | E134: 998921203.S | F134: Presun hmôt pre montáž silnoprúdových rozvodov vo výške nad 7 do 24 m - prípojka NN a distribučné rozvody | G134: % | H134: 72.12 | I134: 0.45 | J134: =ROUND(I134*H134,2) | K134: CENEKON 2026/02 | N134: základná | O134: 0 | P134: =O134*H134 | Q134: 0 | R134: =Q134*H134 | S134: 0 | T134: =S134*H134 | AR134: 4 | AT134: K | AU134: 2 | AY134: ROZPOCET | BE134: =IF(N134="základná",J134,0) | BF134: =IF(N134="znížená",J134,0) | BG134: =IF(N134="zákl. prenesená",J134,0) | BH134: =IF(N134="zníž. prenesená",J134,0) | BI134: =IF(N134="nulová",J134,0) | BJ134: 2 | BK134: =ROUND(I134*H134,2) | BL134: 4 | BM134: 332174294
D135: VV | F135: 0.45 % zo základne oddielu 21-M Prípojka NN a distribučné rozvody: 7211.60 EUR / 100 | H135: 72.12 | AT135: VV | AU135: 2 | AV135: 2 | AW135: True | AX135: 1 | AY135: ROZPOCET
D136: D | E136: M | F136: Práce a dodávky M | J136: =BK136 | P136: =P137+P197 | R136: =R137+R197 | T136: =T137+T197 | AR136: 3 | AT136: D | AU136: 0 | AY136: ROZPOCET | BK136: =BK137+BK197
D137: D | E137: 21-M | F137: Elektromontáže | J137: =BK137 | P137: =SUM(P138:P196) | R137: =SUM(R138:R196) | T137: =SUM(T138:T196) | AR137: 3 | AT137: D | AU137: 1 | AY137: ROZPOCET | BK137: =SUM(BK138:BK196)
C138: 5 | D138: K | E138: 210902368.S | F138: Kábel hliníkový silový NAYY-J 4x240 mm2 uložený pevne - distribučné vedenie NN (montáž) | G138: m | H138: 40 | I138: 9.1 | J138: =ROUND(I138*H138,2) | K138: CENEKON 2026/02 | N138: základná | O138: 0 | P138: =O138*H138 | Q138: 0 | R138: =Q138*H138 | S138: 0 | T138: =S138*H138 | AR138: 64 | AT138: K | AU138: 2 | AY138: ROZPOCET | BE138: =IF(N138="základná",J138,0) | BF138: =IF(N138="znížená",J138,0) | BG138: =IF(N138="zákl. prenesená",J138,0) | BH138: =IF(N138="zníž. prenesená",J138,0) | BI138: =IF(N138="nulová",J138,0) | BJ138: 2 | BK138: =ROUND(I138*H138,2) | BL138: 64 | BM138: -1598050629
D139: VV | F139: 2 x NAYY-J 4x240 v dĺžke trasy 20,0 m podľa situácie distribučnej časti = 40,00 | H139: 40 | AT139: VV | AU139: 2 | AV139: 2 | AW139: True | AX139: 1 | AY139: ROZPOCET
C140: 6 | D140: M | E140: 341110034600.S | F140: Kábel hliníkový NAYY-J 4x240 mm2 | G140: m | H140: 40 | I140: 27.58 | J140: =ROUND(I140*H140,2) | K140: CENEKON 2026/02 | N140: základná | O140: 0 | P140: =O140*H140 | Q140: 0.00517 | R140: =Q140*H140 | S140: 0 | T140: =S140*H140 | AR140: 256 | AT140: M | AU140: 2 | AY140: ROZPOCET | BE140: =IF(N140="základná",J140,0) | BF140: =IF(N140="znížená",J140,0) | BG140: =IF(N140="zákl. prenesená",J140,0) | BH140: =IF(N140="zníž. prenesená",J140,0) | BI140: =IF(N140="nulová",J140,0) | BJ140: 2 | BK140: =ROUND(I140*H140,2) | BL140: 64 | BM140: 555147577
D141: VV | F141: zhodné s montážou distribučného vedenia = 40,00 | H141: 40 | AT141: VV | AU141: 2 | AV141: 2 | AW141: True | AX141: 1 | AY141: ROZPOCET
C142: 7 | D142: K | E142: 210902368.S | F142: Kábel hliníkový silový NAYY-J 4x240 mm2 uložený pevne - prípojka NN od skrine SR k rozvádzaču RE | G142: m | H142: 56 | I142: 9.1 | J142: =ROUND(I142*H142,2) | K142: CENEKON 2026/02 | N142: základná | O142: 0 | P142: =O142*H142 | Q142: 0 | R142: =Q142*H142 | S142: 0 | T142: =S142*H142 | AR142: 64 | AT142: K | AU142: 2 | AY142: ROZPOCET | BE142: =IF(N142="základná",J142,0) | BF142: =IF(N142="znížená",J142,0) | BG142: =IF(N142="zákl. prenesená",J142,0) | BH142: =IF(N142="zníž. prenesená",J142,0) | BI142: =IF(N142="nulová",J142,0) | BJ142: 2 | BK142: =ROUND(I142*H142,2) | BL142: 64 | BM142: 211976465
D143: VV | F143: trasa prípojky 28,00 m podľa situácie 203 | AT143: VV | AU143: 2 | AV143: 2 | AW143: True | AX143: 0 | AY143: ROZPOCET
D144: VV | F144: situácia aj schéma rozvádzača RE uvádzajú 2x NAYY-J 4x240 mm2 | AT144: VV | AU144: 2 | AV144: 2 | AW144: True | AX144: 0 | AY144: ROZPOCET
D145: VV | F145: 2 x 28,00 = 56,00 m | H145: 56 | AT145: VV | AU145: 2 | AV145: 2 | AW145: True | AX145: 1 | AY145: ROZPOCET
C146: 8 | D146: M | E146: 341110034600.S | F146: Kábel hliníkový NAYY-J 4x240 mm2 - prípojka NN | G146: m | H146: 56 | I146: 27.58 | J146: =ROUND(I146*H146,2) | K146: CENEKON 2026/02 | N146: základná | O146: 0 | P146: =O146*H146 | Q146: 0.00517 | R146: =Q146*H146 | S146: 0 | T146: =S146*H146 | AR146: 256 | AT146: M | AU146: 2 | AY146: ROZPOCET | BE146: =IF(N146="základná",J146,0) | BF146: =IF(N146="znížená",J146,0) | BG146: =IF(N146="zákl. prenesená",J146,0) | BH146: =IF(N146="zníž. prenesená",J146,0) | BI146: =IF(N146="nulová",J146,0) | BJ146: 2 | BK146: =ROUND(I146*H146,2) | BL146: 64 | BM146: 844577100
D147: VV | F147: trasa prípojky 28,00 m podľa situácie 203 | AT147: VV | AU147: 2 | AV147: 2 | AW147: True | AX147: 0 | AY147: ROZPOCET
D148: VV | F148: situácia aj schéma rozvádzača RE uvádzajú 2x NAYY-J 4x240 mm2 | AT148: VV | AU148: 2 | AV148: 2 | AW148: True | AX148: 0 | AY148: ROZPOCET
D149: VV | F149: 2 x 28,00 = 56,00 m | H149: 56 | AT149: VV | AU149: 2 | AV149: 2 | AW149: True | AX149: 1 | AY149: ROZPOCET
C150: 9 | D150: M | E150: 286130068100.S | F150: Rúrka HDPE 40/33 uložená v ryhe distribučného vedenia - rezervná chránička | G150: m | H150: 20 | I150: 2.04 | J150: =ROUND(I150*H150,2) | K150: CENEKON 2026/02 | N150: základná | O150: 0 | P150: =O150*H150 | Q150: 0.0004 | R150: =Q150*H150 | S150: 0 | T150: =S150*H150 | AR150: 256 | AT150: M | AU150: 2 | AY150: ROZPOCET | BE150: =IF(N150="základná",J150,0) | BF150: =IF(N150="znížená",J150,0) | BG150: =IF(N150="zákl. prenesená",J150,0) | BH150: =IF(N150="zníž. prenesená",J150,0) | BI150: =IF(N150="nulová",J150,0) | BJ150: 2 | BK150: =ROUND(I150*H150,2) | BL150: 64 | BM150: -2095543954
D151: VV | F151: chránička HDPE 40/33 patrí podľa situácie k trase distribučného vedenia (2x NAYY 4x240 + FeZn 30/4 + HDPE 40/33), dĺžka trasy 20,00 m | H151: 20 | AT151: VV | AU151: 2 | AV151: 2 | AW151: True | AX151: 1 | AY151: ROZPOCET
C152: 10 | D152: K | E152: 210220020.S | F152: Uzemňovacie vedenie v zemi FeZn pásovina do 120 mm2 vrátane izolácie spojov - zemniaci pás v ryhe distribučného vedenia | G152: m | H152: 20 | I152: 2.85 | J152: =ROUND(I152*H152,2) | K152: CENEKON 2026/02 | N152: základná | O152: 0 | P152: =O152*H152 | Q152: 0 | R152: =Q152*H152 | S152: 0 | T152: =S152*H152 | AR152: 64 | AT152: K | AU152: 2 | AY152: ROZPOCET | BE152: =IF(N152="základná",J152,0) | BF152: =IF(N152="znížená",J152,0) | BG152: =IF(N152="zákl. prenesená",J152,0) | BH152: =IF(N152="zníž. prenesená",J152,0) | BI152: =IF(N152="nulová",J152,0) | BJ152: 2 | BK152: =ROUND(I152*H152,2) | BL152: 64 | BM152: 693415635
D153: VV | F153: V-EL-012: situácia kreslí v ryhe distribučného vedenia 2 x NAYY 4x240, zemniaci pás FeZn 30/4 a rúrku HDPE 40/33, dĺžka trasy 20,00 m | H153: 20 | AT153: VV | AU153: 2 | AV153: 2 | AW153: True | AX153: 1 | AY153: ROZPOCET
C154: 11 | D154: M | E154: 354410058800.S | F154: Pásovina uzemňovacia FeZn 30 x 4 mm - zemniaci pás v ryhe distribučného vedenia | G154: kg | H154: 18.84 | I154: 2.48 | J154: =ROUND(I154*H154,2) | K154: CENEKON 2026/02 | N154: základná | O154: 0 | P154: =O154*H154 | Q154: 0.001 | R154: =Q154*H154 | S154: 0 | T154: =S154*H154 | AR154: 256 | AT154: M | AU154: 2 | AY154: ROZPOCET | BE154: =IF(N154="základná",J154,0) | BF154: =IF(N154="znížená",J154,0) | BG154: =IF(N154="zákl. prenesená",J154,0) | BH154: =IF(N154="zníž. prenesená",J154,0) | BI154: =IF(N154="nulová",J154,0) | BJ154: 2 | BK154: =ROUND(I154*H154,2) | BL154: 64 | BM154: 1081134889
D155: VV | F155: pásovina 30 x 4 mm má 0,942 kg/m: 20,00 x 0,942 = 18,84 kg | H155: 18.84 | AT155: VV | AU155: 2 | AV155: 2 | AW155: True | AX155: 1 | AY155: ROZPOCET
C156: 12 | D156: K | E156: 210193007.S | F156: Rozpájacia a istiaca plastová skriňa pilierová typ SR 7 - nová skriňa SR osadená pri fasáde objektu (montáž) | G156: ks | H156: 1 | I156: 69.99 | J156: =ROUND(I156*H156,2) | K156: CENEKON 2026/02 | N156: základná | O156: 0 | P156: =O156*H156 | Q156: 0 | R156: =Q156*H156 | S156: 0 | T156: =S156*H156 | AR156: 64 | AT156: K | AU156: 2 | AY156: ROZPOCET | BE156: =IF(N156="základná",J156,0) | BF156: =IF(N156="znížená",J156,0) | BG156: =IF(N156="zákl. prenesená",J156,0) | BH156: =IF(N156="zníž. prenesená",J156,0) | BI156: =IF(N156="nulová",J156,0) | BJ156: 2 | BK156: =ROUND(I156*H156,2) | BL156: 64 | BM156: 1892091140
D157: VV | F157: 1 ks podľa technickej správy distribučných rozvodov | H157: 1 | AT157: VV | AU157: 2 | AV157: 2 | AW157: True | AX157: 1 | AY157: ROZPOCET
C158: 13 | D158: M | E158: 357110007300.S | F158: Skriňa rozpájacia a istiaca, plastová, pilierová SR 7 DIN1 VV 4x400A/4x160A P2 - nová skriňa SR | G158: ks | H158: 1 | I158: 1946.55 | J158: =ROUND(I158*H158,2) | K158: CENEKON 2026/02 | N158: základná | O158: 0 | P158: =O158*H158 | Q158: 0.043 | R158: =Q158*H158 | S158: 0 | T158: =S158*H158 | AR158: 256 | AT158: M | AU158: 2 | AY158: ROZPOCET | BE158: =IF(N158="základná",J158,0) | BF158: =IF(N158="znížená",J158,0) | BG158: =IF(N158="zákl. prenesená",J158,0) | BH158: =IF(N158="zníž. prenesená",J158,0) | BI158: =IF(N158="nulová",J158,0) | BJ158: 2 | BK158: =ROUND(I158*H158,2) | BL158: 64 | BM158: -1883049439
D159: VV | F159: dodávka k montáži, množstvo prevzaté z montážnej položky: 1 ks | H159: 1 | AT159: VV | AU159: 2 | AV159: 2 | AW159: True | AX159: 1 | AY159: ROZPOCET
C160: 14 | D160: K | E160: 210902365.S | F160: Kábel hliníkový silový uložený pevne - nový úsek prípojkového vedenia pre odberné miesto Krátky rad 17 (montáž) | G160: m | H160: 40 | I160: 4.75 | J160: =ROUND(I160*H160,2) | K160: CENEKON 2026/02 | N160: základná | O160: 0 | P160: =O160*H160 | Q160: 0 | R160: =Q160*H160 | S160: 0 | T160: =S160*H160 | AR160: 64 | AT160: K | AU160: 2 | AY160: ROZPOCET | BE160: =IF(N160="základná",J160,0) | BF160: =IF(N160="znížená",J160,0) | BG160: =IF(N160="zákl. prenesená",J160,0) | BH160: =IF(N160="zníž. prenesená",J160,0) | BI160: =IF(N160="nulová",J160,0) | BJ160: 2 | BK160: =ROUND(I160*H160,2) | BL160: 64 | BM160: 221707702
D161: VV | F161: situácia distribučnej časti kótuje „NAVRH. VEDENIE / NAYY-J 4x95mm2 / DL. TRASY: 40m“ | H161: 40 | AT161: VV | AU161: 2 | AV161: 2 | AW161: True | AX161: 1 | AY161: ROZPOCET
C162: 15 | D162: M | E162: 341110030900.S | F162: Kábel hliníkový 4x95 mm2 - nový úsek prípojkového vedenia pre odberné miesto Krátky rad 17 | G162: m | H162: 40 | I162: 11.22 | J162: =ROUND(I162*H162,2) | K162: CENEKON 2026/02 | N162: základná | O162: 0 | P162: =O162*H162 | Q162: 0.00195 | R162: =Q162*H162 | S162: 0 | T162: =S162*H162 | AR162: 256 | AT162: M | AU162: 2 | AY162: ROZPOCET | BE162: =IF(N162="základná",J162,0) | BF162: =IF(N162="znížená",J162,0) | BG162: =IF(N162="zákl. prenesená",J162,0) | BH162: =IF(N162="zníž. prenesená",J162,0) | BI162: =IF(N162="nulová",J162,0) | BJ162: 2 | BK162: =ROUND(I162*H162,2) | BL162: 64 | BM162: -81284716
D163: VV | F163: situácia distribučnej časti kótuje „NAVRH. VEDENIE / NAYY-J 4x95mm2 / DL. TRASY: 40m“ | H163: 40 | AT163: VV | AU163: 2 | AV163: 2 | AW163: True | AX163: 1 | AY163: ROZPOCET
C164: 16 | D164: K | E164: 210101294.S | F164: Káblová spojka NN pre spojenie jestvujúceho prípojkového vedenia 4x95 mm2 s novým úsekom | G164: ks | H164: 1 | I164: 34.27 | J164: =ROUND(I164*H164,2) | K164: CENEKON 2026/02 | N164: základná | O164: 0 | P164: =O164*H164 | Q164: 0 | R164: =Q164*H164 | S164: 0 | T164: =S164*H164 | AR164: 64 | AT164: K | AU164: 2 | AY164: ROZPOCET | BE164: =IF(N164="základná",J164,0) | BF164: =IF(N164="znížená",J164,0) | BG164: =IF(N164="zákl. prenesená",J164,0) | BH164: =IF(N164="zníž. prenesená",J164,0) | BI164: =IF(N164="nulová",J164,0) | BJ164: 2 | BK164: =ROUND(I164*H164,2) | BL164: 64 | BM164: 269197524
D165: VV | F165: 1 spojka v mieste napojenia podľa TZ kap. 3.3 | H165: 1 | AT165: VV | AU165: 2 | AV165: 2 | AW165: True | AX165: 1 | AY165: ROZPOCET
...

Sheet SO 02 - Zdravotechnika
AT2: {2406abf9-f2fb-4ff8-b577-5ad89a7649c8}
AT3: 1
D4: KRYCÍ LIST SÚPISU PRÁC | M4: v --- nižšie sa nachádzajú doplnkové a pomocné údaje k zostavám --- v | AT4: False
D6: Stavba:
E7: ='Rekapitulácia stavby'!K6
D8: Objekt:
E9: SO 02 - Zdravotechnika
D11: KSO: | I11: CC-SK:
D12: Miesto: | F12: Trnavský kraj | I12: Dátum: | J12: ='Rekapitulácia stavby'!AN8
D14: Zadávateľ: | I14: IČO:
E15: Anonymizované | I15: IČ DPH:
D17: Zhotoviteľ: | I17: IČO: | J17: =IF('Rekapitulácia stavby'!AN13="","",'Rekapitulácia stavby'!AN13)
E18: =IF('Rekapitulácia stavby'!E14="","",'Rekapitulácia stavby'!E14) | I18: IČ DPH: | J18: =IF('Rekapitulácia stavby'!AN14="","",'Rekapitulácia stavby'!AN14)
D20: Projektant: | I20: IČO:
I21: IČ DPH:
D23: Spracovateľ: | I23: IČO:
I24: IČ DPH:
D26: Poznámka:
E27: Presný typ zariaďovacích predmetov určuje podľa technickej správy investor; súpis ich oceňuje v bežnom katalógovom štandarde. Automatická práčka a umývačka riadu sú zariadenia užívateľa; súpis obsahuje ich pripojenie, teda rohový ventil, zápachovú uzávierku s odpadovou súpravou a montáž. Napojenie vodovodnej prípojky na verejný vodovod a kanalizačnej prípojky na verejnú stoku vykonáva prevádzkovateľ sietí a v súpise nie je; vystrojenie vodomernej šachty vrátane fakturačného vodomera DN 50 v súpise je. Obnova povrchov nad ryhami nie je v súpise: spevnené plochy sa budujú nanovo a sú súčasťou dopravnej časti mimo objednaného rozsahu. Tepelné izolácie rozvodov vody sú ocenené v katalógových hrúbkach 9 mm pre studenú a 19 mm pre teplú vodu; technická správa uvádza 10 a 20 mm, cenová sústava tieto hrúbky pre dané priemery nemá. Prestup strešným plášťom pri odvetraní kanalizácie nad strechu vrátane manžety a napojenia na hydroizoláciu je súčasťou strešného plášťa stavebnej časti; v súpise zdravotechniky je vetracia hlavica, nie prestup. Úplné znenie poznámok je na liste Poznámky k rozpočtu. S čím počítame (predpoklady, ktoré si môžete upraviť jedným číslom; druhá varianta je pri každom uvedená): P-1: Zariaďovacie predmety sú ocenené v bežnom katalógovom štandarde; presný typ určuje podľa technickej správy investor. Vyšší štandard vybavenia by cenu zariaďovacích predmetov zvýšil rádovo o jednotky percent. Presnú cenu určí až výber konkrétnych výrobkov objednávateľom. P-2: Vsakovací objekt je ocenený v rozmeroch podľa výkresu 003, hoci technická správa ich označuje za informatívne (chýba hydrogeologický prieskum). Úprava objemu vsakovacích blokov po hydrogeologickom prieskume je druhá varianta; cena sa mení úmerne počtu blokov, jeden blok je 57,76 EUR. P-3: Vykurovanie je spracované znovu z projektovej dokumentácie; pracovný výkaz výmer objednávateľa slúžil len ako kontrola rozsahu. Nadviazanie na pracovný výkaz objednávateľa je možné na vyžiadanie, bez zmeny ceny. P-4: Súpis je dodaný vo formáte KROS Export Komplet 2.0 na import do CENKROSu; práce a služby sú vedené ako typ K, materiály a výrobky ako typ M. Slepé výkazy výmer bez cien boli dodané s predchádzajúcou verziou rozpočtu a platia bez zmeny. P-5: Technológia výťahu nie je v rozsahu; elektro obsahuje prívod a rozvádzač RV. Doplnenie technológie výťahu je druhá varianta; ocení sa po dodaní ponuky výrobcu. Cenu určí ponuka výrobcu výťahu. P-6: Búracie práce a demontáže jestvujúcich rozvodov sú súčasťou stavebnej časti, ktorú spracováva objednávateľ. Doplnenie demontáží profesií je druhá varianta; ocení sa po dodaní výkresu jestvujúceho stavu. Cenu určí rozsah podľa výkresu jestvujúceho stavu. P-7: Odvodnenie plochej strechy je vonkajšími žľabmi a zvodovými rúrami podľa legendy výkresu strechy; klampiarske práce sú súčasťou stavebnej časti a dažďová kanalizácia na ne nadväzuje deviatimi prípojmi v zemi. Variant s vnútornými strešnými vtokmi je vyčíslený pri rozpore R-3 (+4 924 EUR). P-8: Skládka pre prebytočný výkopok je uvažovaná do 10 km; skutočnú vzdialenosť určí zhotoviteľ. Vzdialenejšia skládka je druhá varianta; každý ďalší kilometer je 0,55 EUR na tonu. P-9: Vetracie hlavice vzduchotechniky sú uvažované 0,50 m nad strechou; výkres výšku nekótuje. Vyššie vyvedenie hlavíc nad strechu by súpis zvýšilo do 100 EUR. P-10: Dimenzie medených rozvodov vykurovania nie sú v dokumentácii uvedené; uvažované D 22 mm od hydraulického modulu k rozdeľovaču a D 15 mm k rebríkovým telesám. Jednotná dimenzia D 22 mm by súpis zmenila do 1 300 EUR. P-12: Vnútorné rozvody vody sú podľa označení na pôdorysoch rozdelené na DN 15 (60 %) a DN 20 (40 %). Celý rozvod v DN 20 by súpis zvýšil do 900 EUR. P-13: Vodorovná vnútorná kanalizácia je podľa označení na pôdorysoch rozdelená na DN 110 (30 %) a DN 50 (70 %). Vyšší podiel DN 110 by súpis zvýšil do 1 500 EUR. P-14: Objem elektrických zásobníkových ohrievačov pre nebytové priestory nie je určený; uvažovaný objem 80 l. Zásobníky s objemom 120 l by súpis zvýšili do 600 EUR. P-15: Dĺžka káblov CHKE-V 5x6 mm2 k podružným rozvádzačom je odvodená z geometrie objektu (priemerná vzdialenosť po chodbe pri rovnomernom rozmiestnení 38 rozvádzačov). Meranie podľa skutočnej trasy po dodaní realizačnej dokumentácie je druhá varianta; odchýlka 10 % dĺžky znamená 798 EUR na kábli a 230 EUR na pospájaní. P-16: Jestvujúce distribučné vedenie NN sa vyťahuje z ryhy nového vedenia; samostatný výkop pre demontáž sa nevykazuje. Samostatný výkop pre demontáž 20 m by súpis zvýšil orientačne do 200 EUR. P-17: Veľkostný typ jestvujúcej istiacej a rozpojovacej skrine SR dokumentácia neuvádza; pre demontáž je uvažovaný rovnaký typ SR 7 ako nová skriňa. Menší typ skrine by súpis znížil o 8 EUR. P-18: Schémy rozvádzačov kreslia pri každom podružnom rozvádzači prípojnicu HUP s vodičom CYA 16 mm2; v súpise je 38 prípojníc a vodič vedený súbežne s prívodom každého rozvádzača. Spoločná prípojnica na podlaží namiesto prípojnice pri každom rozvádzači by súpis znížila približne o 2 000 EUR. P-19: Dĺžka doplnkového pospájania na jedno miesto (kúpeľňa, kuchyňa, strojovňa) je uvažovaná 5,00 m. Dlhšie trasy doplnkového pospájania by súpis zvýšili do 300 EUR. P-20: Vybavenie výťahovej šachty elektroinštaláciou (dve svietidlá, spínač a servisná zásuvka) vychádza z požiadaviek na obsluhu šachty; vlastná technológia výťahu v súpise nie je. Ak vybavenie výťahovej šachty dodá výrobca výťahu, súpis sa zníži o 270 EUR. P-21: Projekt predpisuje káble CHKE-R; cenová sústava obsahuje ekvivalent CHKE-V s rovnakým prierezom, ktorým je položka ocenená. Doložená ponuka na pôvodný typ CHKE-R je druhá varianta; rozdiel sa prejaví v cene materiálu. Cenu určí ponuka dodávateľa káblov. P-22: Dĺžky vývodov z rozvádzača RE (CENTRAL STOP, RV, SV1, SV2) sú odvodené z geometrie objektu rovnako ako dĺžky prívodov k podružným rozvádzačom. Meranie vývodov podľa skutočnej trasy je druhá varianta; odchýlka 10 % dĺžky znamená 55 EUR. P-23: Dĺžka káblového žľabu je odvodená z chodbového rozvodu po dĺžke objektu na každom podlaží a zvislej stúpačky od rozvádzača RE. Káblový žľab aj vo vetvách k jednotlivým rozvádzačom by súpis zvýšil do 4 500 EUR. P-24: Cenová sústava obsahuje najbližšiu výzbroj istiacej skrine SR 7; presný typ predpísaný technickou správou sa doloží ponukou dodávateľa. Doložená ponuka na presný typ skrine HASMA je druhá varianta. Cenu určí ponuka dodávateľa skríň. P-25: Zvody bleskozvodu sú zabudované do zatepľovacieho systému a montujú sa spolu s fasádou; lešenie pre ne je súčasťou stavebnej časti. Samostatné lešenie alebo montážna plošina pre zvody by súpis zvýšili o 1 500 až 3 000 EUR. P-27: Podiel ručného výkopu káblovej ryhy v súbehu so sieťami je uvažovaný 10 % dĺžky. Vyšší podiel ručného výkopu by súpis zvýšil do 600 EUR. P-29: Počet zemniacich tyčí pre uzemnenie skrine SR a rozvádzača RE je uvažovaný tri tyče po 2 m na zariadenie. Doplnenie zemniacich tyčí podľa skutočne nameraného odporu je druhá varianta; jedna tyč s montážou je 64 EUR. P-30: Počet vodovodných stúpačiek je uvažovaný deväť, rovnako ako hlavných kanalizačných stúpačiek. Iný počet vodovodných stúpačiek by zmenil cenu upchávok do 400 EUR. P-31: Hĺbka ryhy areálovej splaškovej kanalizácie je uvažovaná 1,50 m; dokumentácia hĺbku neuvádza. Šírka ryhy 1,10 m, lôžko 0,17 m3/bm a obsyp 0,52 m3/bm sú prevzaté z tabuľky v detaile uloženia potrubia. Hĺbka ryhy 1,80 m by výkop, paženie a zásyp zvýšila približne o 900 EUR. P-32: Dĺžka odvodu kondenzátu od jednej kazetovej jednotky je uvažovaná 10,00 m. Kratšie trasy odvodu kondenzátu by súpis znížili do 300 EUR. P-33: Výkon elektrických konvektorov pre zázemie nájomných priestorov dokumentácia neuvádza; uvažovaný je 1 000 W na miestnosť. Pracovný výkaz výmer objednávateľa uvažuje konvektory 500 W; menší výkon by súpis znížil približne o 250 EUR. Konvektory s výkonom 1 500 W by súpis zvýšili o 102 EUR. P-34: Rozsah oceľovej podpernej konštrukcie kondenzačných jednotiek na streche upresní statická časť, ktorá nie je súčasťou odovzdanej dokumentácie; položka je ocenená ako strešná pozinkovaná konzola na jednu jednotku. Rámová konštrukcia podľa statiky namiesto strešnej konzoly by súpis zvýšila o 150 až 1 700 EUR. P-35: Zriadenie prestupov jestvujúcimi železobetónovými stropmi pripravuje zhotoviteľ stavebnej časti podľa koordinačných výkresov profesií; v tomto súpise je len ich utesnenie. Jadrové vrty v našom súpise, 128 prestupov, by súpis zvýšili orientačne o 3 000 až 5 000 EUR. P-36: Doba montáže šiestich profesií je uvažovaná 6 mesiacov; harmonogram stavby v podkladoch nie je. Vychádza z nej prenájom buniek a mobilného WC. Deväť mesiacov montáže namiesto šiestich by zariadenie staveniska zvýšilo o 1 894 EUR. P-37: Počet kontajnerov na odpad z montážnych prác je uvažovaný štyri. Šesť kontajnerov namiesto štyroch by súpis zvýšilo o 220 EUR. P-38: Vzdialenosť mimostaveniskovej dopravy je uvažovaná do 50 km. Mimostavenisková doprava na 100 km by súpis zvýšila o 866 EUR. P-39: Skrine elektromerového rozvádzača RE sú ocenené v rade OEZ QA55 s krytím IP55 v rozmeroch podľa výkresu 210 (1 ks 800x400x1800 mm a 2 ks 1200x400x1800 mm) vrátane podstavcov, horných krytov a montážnych panelov; výkres predpisuje výrobcu OEZ a krytie IP65, IP55 je najvyššie krytie radových rozvádzačových skríň tohto výrobcu v cenovej sústave. Horný kryt skrine je v cenovej sústave len vo ventilovanom vyhotovení. Atypická skriňa IP65 na zákazku by súpis zvýšila o 600 až 1 500 EUR. P-40: Ovládanie kazetových klimatizačných jednotiek je uvažované infračerveným diaľkovým ovládačom, ktorý je súčasťou dodávky jednotky; technická správa pripúšťa aj nástenné káblové ovládače, tie by súpis zvýšili o 12 ovládačov s montážou. Káblové ovládače klimatizácie cenová sústava neobsahuje, cenu určí ponuka dodávateľa jednotiek. P-41: Prípojnicový systém rozvádzača RE je ocenený piatimi medenými pásmi 30 x 5 mm (L1, L2, L3, N, PE) po šírke zostavy skríň, spolu 16,00 m, so zaťažiteľnosťou 379 až 450 A. Výkres rozvádzača uvádza pri hlavnom ističi dve hodnoty, 630 A a 380 A, a súpis je zostavený na nižšiu z nich. Vyhotovenie na plných 630 A znamená zdvojenie fázových pásov, čo by súpis zvýšilo o 359,14 EUR. P-42: Tepelné izolácie medených rozvodov vykurovania sú ocenené hrúbkou 20 mm pre potrubie D 22 a 19 mm pre D 15, pretože rozvody vedú v podlahovej konštrukcii a v šachtách; voľne vedené úseky by podľa technickej správy mali hrúbku 25 až 30 mm. Voľne vedené úseky v hrúbke 25 až 30 mm by pri celej dĺžke 266,10 m súpis zvýšili približne o 2 100 EUR. P-43: Vodorovné trasy vnútornej kanalizácie sú ocenené ako potrubie HT z PP v celej dĺžke; ak sa zvodová časť zhotoví z PVC KG podľa technickej správy, cena sa zníži približne o 26 EUR. P-44: Hĺbka ryhy areálového vodovodu je uvažovaná 1,20 m; technická správa uvádza len šírku ryhy 60 cm, lôžko 15 cm a obsyp 30 cm, hĺbku neuvádza. Hĺbka ryhy vodovodu 1,50 m by výkop, paženie, zásyp a odvoz zvýšila približne o 600 EUR. P-45: Revízne šachty sú ocenené ako prefabrikované: dodávka dna s kynetou, skruží, kónusu a vyrovnávacieho prstenca a osadenie jednotlivých dielcov. Zhotovenie šachiet s obložením dna betónom na mieste namiesto prefabrikovaného dna by súpis zvýšilo približne o 4 800 EUR. P-46: Napojenie vodovodnej prípojky na verejný vodovod a zaústenie kanalizačnej prípojky do verejnej stoky vykonáva prevádzkovateľ verejnej siete na náklady investora; dokumentácia neuvádza dimenziu ani materiál verejných potrubí, preto tieto práce v súpise nie sú. Vystrojenie vodomernej šachty vrátane fakturačného vodomeru DN 50 v súpise je. Navŕtavací pás alebo T-kus so zemnou súpravou v našom súpise by ho zvýšil o 300 až 800 EUR podľa dimenzie verejného radu. P-47: Revízne šachty sú zostavené z dielcov, ktoré cenová sústava ponúka: dno s kynetou výšky 700 mm, kónus 1000/600 výšky 576 mm a vyrovnávací prstenec do 100 mm. Výkres kótuje dno 680 mm a kónus 630 mm; rozdiel 34 mm na šachtu vyrovná vyrovnávací prstenec a maltové lôžka spojov. Dielce šachiet presne podľa výkresu na zákazku by ich cenu zvýšili o 10 až 15 %. P-48: Zvislé trasy sú predĺžené o ležatý zvod 0,80 m pod podlahou 1.NP, o 0,50 m k odbočke na poslednom podlaží a o 1,00 m vyvedenia kanalizačného odvetrania nad strechu; dokumentácia tieto rozmery nekótuje. Bez prídavkov zvislých trás by sa súpis znížil približne o 1 900 EUR. P-49: Podklad pod vonkajšie jednotky tepelných čerpadiel (betónová pätka alebo rámový podstavec) dokumentácia nepredpisuje; technická správa uvádza antivibračné silentbloky len pri kondenzačných jednotkách klimatizácie, ktoré sú v súpise. Podklad pod tepelné čerpadlá je preto uvažovaný ako súčasť stavebnej časti. Rámový podstavec výrobcu pod 27 vonkajších jednotiek by súpis zvýšil približne o 11 600 EUR. P-50: Rozmer otvoru pri prestupe kábla požiarne deliacou konštrukciou dokumentácia neurčuje; uvažovaný je jadrový vrt D 150 mm na jeden prívodný kábel, teda trieda tesnenia do 0,1 m2. Ak sa prestupy zhotovia ako otvory nad 0,1 m2, súpis sa zvýši približne o 1 023 EUR. P-51: Dĺžku odvodu odmrazovacej vody od vonkajších jednotiek tepelných čerpadiel a odvodu od poistných výtokov zásobníkov dokumentácia neurčuje; uvažované sú 3,00 m na jednotku a 2,00 m na bytovú sústavu. Dvojnásobné dĺžky by súpis zvýšili približne o 840 EUR. P-52: Cenová sústava CENEKON nemá triedu pre prepláchnutie a napustenie sústavy s podlahovým vykurovaním ani pre funkčnú vykurovaciu skúšku podľa STN EN 1264-4; obidva kroky sú preto ocenené hodinovou sadzbou montéra a počet hodín je uvažovaný 2,00 hod na napustenie a 3,00 hod na vykurovaciu skúšku jednej bytovej sústavy. Dvojnásobný počet hodín by súpis zvýšil približne o 2 700 EUR. P-53: Plocha na vyčistenie budovy po montážnych prácach je uvažovaná ako hrubá podlahová plocha, teda zastavaná plocha 742,85 m2 krát štyri podlažia. Ak sa vykáže len čistá podlahová plocha bez konštrukcií (približne 85 %), súpis sa zníži približne o 2 890 EUR. P-54: Objemová hmotnosť zmiešaného stavebného odpadu z montážnych prác je uvažovaná 0,15 t/m3; skutočnú hmotnosť určí váženie na skládke. Dvojnásobná hmotnosť by súpis zvýšila približne o 840 EUR. P-55: Počty tvarovok potrubia spiro (27 kolien DN 125, 44 kolien DN 160, 50 T-kusov a 27 prechodov) sú dopočítané z topológie rozvodu, pretože výkresy tvarovky nekótujú. Odchýlka 20 % by súpis zmenila približne o 490 EUR. P-56: Zvody bleskozvodu sú ocenené izolovaným hliníkovým drôtom AlMgSi Ø 8 mm PVC podľa legendy výkresu bleskozvodu a sú vedené v ochrannej rúrke pod omietkou, ako predpisuje technická správa; hliník so zachytávacou sústavou netvorí galvanický pár, takže náter zvodu odpadá. Variant s neizolovaným drôtom v samotnej ochrannej rúrke by súpis znížil o 113 EUR. P-57: Rozsah ochranného zábradlia okolo otvorených výkopov je uvažovaný po jednej strane ryhy v celej dĺžke, teda 317,30 m; technické správy zaistenie výkopov predpisujú, rozsah neurčujú. Zábradlie po oboch stranách by súpis zvýšilo približne o 2 504 EUR. P-58: Dĺžka pripojovacieho potrubia kondenzátu od zápachových uzávierok vzduchotechniky do kanalizácie je uvažovaná 2,00 m na jednu uzávierku; dokumentácia trasu neurčuje. Dvojnásobná dĺžka by súpis zvýšila približne o 225 EUR. P-59: Doplnenie chladiva R32 nad výrobnú náplň nie je v súpise: priemerná dĺžka chladivovej dvojice na jeden okruh je 21,4 m, čo je na hranici bežnej výrobnej náplne split jednotiek. Ak výrobca zvolenej jednotky predplní kratšiu trasu, doplnenie chladiva by súpis zvýšilo približne o 130 až 250 EUR. P-60: Prívod vzduchu do odvetrávaných miestností je podľa technickej správy riešený bezprahovými dverami, ktoré sú súčasťou stavebnej časti. Ak sa namiesto nich osadia dverové mriežky, súpis vzduchotechniky sa zvýši približne o 1 200 EUR. P-61: Dĺžky vnútorných káblov vychádzajú z počtu obvodov podľa schémy bytového rozvádzača (dva obvody 3x1,5, sedem 3x2,5 a dva 5x2,5) a z trasy odmeranej z pôdorysov silnoprúdu. Uvažuje sa, že každý obvod prejde v priemere polovicou spoločnej trasy a že na každý prístrojový bod pripadá 0,80 m zvislého úseku, ktorý pôdorys nezobrazuje. Plný prechod trasou u každého obvodu by súpis zvýšil približne o 6 500 EUR. P-62: Tepelné izolácie rozvodov vody sú ocenené v katalógových hrúbkach 9 mm pre studenú a 19 mm pre teplú vodu; technická správa uvádza 10 a 20 mm, cenová sústava tieto hrúbky pre dané priemery nemá. Bližšia hrúbka v sústave nie je, cena sa tým nemení. P-63: Komplexné vyskúšanie a zaregulovanie vzduchotechniky je ocenené sadzbou za celé zariadenie, teda 241,21 EUR; počet ventilátorov a meracích bodov cenník neurčuje. Ocenenie podľa hodinovej sadzby, teda 60 hodín, by súpis zvýšilo o 793,79 EUR. P-64: Závesy a objímky potrubí zdravotechniky nie sú samostatnou položkou, pretože montážne položky potrubia obsahujú potrubnú objímku a skrutky na každý meter. Technická správa predpisuje značkový závesný systém; ak sa má oceniť samostatne, doplní sa po cenovej ponuke dodávateľa. P-65: Značenie potrubia podľa STN 13 0072 je ocenené jedným štítkom na každú vodovodnú stúpačku na každom podlaží, spolu 36 kusov; technická správa počet a rozmiestnenie štítkov neurčuje. Hustejšie značenie aj na ležatých rozvodoch a armatúrach by súpis zvýšilo o 199,08 EUR. P-66: Vytýčenie jestvujúcich podzemných vedení je ocenené jedným vytyčovacím bodom na každú z piatich sietí vedených areálom; situácia počet vytyčovacích bodov neurčuje. Vytýčenie po celej dĺžke rýh, teda 23 bodov ako pri nových trasách, by súpis zvýšilo o 486,00 EUR. P-67: Izolačné držiaky prípojníc rozvádzača RE sú ocenené v rozstupe 0,50 m po šírke zostavy skríň, teda 7 kusov; výkres rozstup podopretia neurčuje. Hustejší rozstup 0,35 m, teda 10 kusov, by súpis zvýšil o 93,00 EUR.
D30: Cena bez DPH | J30: =ROUND(J129, 2)
F32: Základ dane | I32: Sadzba dane | J32: Výška dane
D33: DPH | E33: základná | F33: =ROUND((SUM(BE129:BE483)), 2) | I33: 0.23 | J33: =ROUND(((SUM(BE129:BE483))*I33), 2)
E34: znížená | F34: =ROUND((SUM(BF129:BF483)), 2) | I34: 0.19 | J34: =ROUND(((SUM(BF129:BF483))*I34), 2)
E35: zákl. prenesená | F35: =ROUND((SUM(BG129:BG483)), 2) | I35: 0.23 | J35: =0
E36: zníž. prenesená | F36: =ROUND((SUM(BH129:BH483)), 2) | I36: 0.19 | J36: =0
E37: nulová | F37: =ROUND((SUM(BI129:BI483)), 2) | I37: 0 | J37: =0
D39: Cena s DPH | G39: v | H39: EUR | J39: =SUM(J30:J37)
D50: Projektant | G50: Spracovateľ
D61: Dátum a podpis: | F61: Pečiatka | G61: Dátum a podpis: | J61: Pečiatka
D65: Objednávateľ | G65: Zhotoviteľ
D76: Dátum a podpis: | F76: Pečiatka | G76: Dátum a podpis: | J76: Pečiatka
C82: REKAPITULÁCIA ČLENENIA SÚPISU PRÁC
C84: Stavba:
E85: =E7
C86: Objekt:
E87: =E9
C89: Miesto: | F89: =F12 | I89: Dátum: | J89: =IF(J12="","",J12)
C91: Zadávateľ: | F91: =E15 | I91: Projektant: | J91: =E21
C92: Zhotoviteľ: | F92: =IF(E18="","",E18) | I92: Spracovateľ: | J92: =E24
C94: Kód dielu - Popis | J94: Cena celkom [EUR]
C96: Náklady zo súpisu prác | J96: =J129 | AU96: -1
D97: HSV - Práce a dodávky HSV | J97: =J130
D98: 1 - Zemné práce | J98: =J131
D99: 4 - Vodorovné konštrukcie | J99: =J176
D100: 8 - Rúrové vedenie | J100: =J197
D101: 9 - Ostatné konštrukcie a práce, búranie | J101: =J268
D102: 998 - Presun hmôt | J102: =J277
D103: PSV - Práce a dodávky PSV | J103: =J288
D104: 713 - Izolácie tepelné | J104: =J289
D105: 721 - Zdravotechnika - vnútorná kanalizácia | J105: =J306
D106: 722 - Zdravotechnika - vnútorný vodovod | J106: =J331
D107: 725 - Zdravotechnika - zariaďovacie predmety | J107: =J387
D108: M - Práce a dodávky M | J108: =J468
D109: 23-M - Montáže potrubia | J109: =J469
C116: SÚPIS PRÁC
C118: Stavba:
E119: =E7
C120: Objekt:
E121: =E9
C123: Miesto: | F123: =F12 | I123: Dátum: | J123: =IF(J12="","",J12)
C125: Zadávateľ: | F125: =E15 | I125: Projektant: | J125: =E21
C126: Zhotoviteľ: | F126: =IF(E18="","",E18) | I126: Spracovateľ: | J126: =E24
C128: PČ | D128: Typ | E128: Kód | F128: Popis | G128: MJ | H128: Množstvo | I128: J.cena [EUR] | J128: Cena celkom [EUR] | K128: Cenová sústava | N128: DPH | O128: J. Nh [h] | P128: Nh celkom [h] | Q128: J. hmotnosť [t] | R128: Hmotnosť celkom [t] | S128: J. suť [t] | T128: Suť celkom [t]
C129: Náklady súpisu celkom | J129: =BK129 | P129: =P130+P288+P468 | R129: =R130+R288+R468 | T129: =T130+T288+T468 | AT129: D | AU129: -1 | BK129: =BK130+BK288+BK468
D130: D | E130: HSV | F130: Práce a dodávky HSV | J130: =BK130 | P130: =P131+P176+P197+P268+P277 | R130: =R131+R176+R197+R268+R277 | T130: =T131+T176+T197+T268+T277 | AR130: 1 | AT130: D | AU130: 0 | AY130: ROZPOCET | BK130: =BK131+BK176+BK197+BK268+BK277
D131: D | E131: 1 | F131: Zemné práce | J131: =BK131 | P131: =SUM(P132:P175) | R131: =SUM(R132:R175) | T131: =SUM(T132:T175) | AR131: 1 | AT131: D | AU131: 1 | AY131: ROZPOCET | BK131: =SUM(BK132:BK175)
C132: 1 | D132: K | E132: 132251202.S | F132: Výkop ryhy šírky nad 600 do 2000 mm strojne v hornine tr. 3, objem nad 100 do 1000 m3 - ryhy areálového vodovodu a splaškovej kanalizácie | G132: m3 | H132: 205.53 | I132: 20.06 | J132: =ROUND(I132*H132,2) | K132: CENEKON 2026/02 | N132: základná | O132: 0 | P132: =O132*H132 | Q132: 0 | R132: =Q132*H132 | S132: 0 | T132: =S132*H132 | AR132: 4 | AT132: K | AU132: 2 | AY132: ROZPOCET | BE132: =IF(N132="základná",J132,0) | BF132: =IF(N132="znížená",J132,0) | BG132: =IF(N132="zákl. prenesená",J132,0) | BH132: =IF(N132="zníž. prenesená",J132,0) | BI132: =IF(N132="nulová",J132,0) | BJ132: 2 | BK132: =ROUND(I132*H132,2) | BL132: 4 | BM132: 543797348
D133: VV | F133: vodovod: 54,30 x 0,80 x 1,20 = 52,13 m3 (šírka ryhy 800 mm podľa detailu uloženia, dĺžka vrátane odbočky k podzemnému hydrantu 1,40 m) | AT133: VV | AU133: 2 | AV133: 2 | AW133: True | AX133: 0 | AY133: ROZPOCET
D134: VV | F134: splašková kanalizácia: 92,97 x 1,10 x 1,50 = 153,40 m3 | AT134: VV | AU134: 2 | AV134: 2 | AW134: True | AX134: 0 | AY134: ROZPOCET
D135: VV | F135: spolu 205,53 m3 | H135: 205.53 | AT135: VV | AU135: 2 | AV135: 2 | AW135: True | AX135: 1 | AY135: ROZPOCET
C136: 2 | D136: K | E136: 130251101.S | F136: Výkop jamy v obmedzenom priestore strojne v hornine tr. 3, objem nad 30 do 60 m3 - jamy revíznych šachiet a vodomernej šachty | G136: m3 | H136: 48.96 | I136: 45.35 | J136: =ROUND(I136*H136,2) | K136: CENEKON 2026/02 | N136: základná | O136: 0 | P136: =O136*H136 | Q136: 0 | R136: =Q136*H136 | S136: 0 | T136: =S136*H136 | AR136: 4 | AT136: K | AU136: 2 | AY136: ROZPOCET | BE136: =IF(N136="základná",J136,0) | BF136: =IF(N136="znížená",J136,0) | BG136: =IF(N136="zákl. prenesená",J136,0) | BH136: =IF(N136="zníž. prenesená",J136,0) | BI136: =IF(N136="nulová",J136,0) | BJ136: 2 | BK136: =ROUND(I136*H136,2) | BL136: 4 | BM136: -1227434903
D137: VV | F137: pôdorys jamy 2,20 x 2,20 = 4,84 m2 | AT137: VV | AU137: 2 | AV137: 2 | AW137: True | AX137: 0 | AY137: ROZPOCET
D138: VV | F138: hĺbka jamy = hĺbka ryhy 1,50 + 0,15 (niveleta vnútri dnového dielca) + 0,15 (lôžko) = 1,80 m | AT138: VV | AU138: 2 | AV138: 2 | AW138: True | AX138: 0 | AY138: ROZPOCET
D139: VV | F139: 5 x 4,84 x 1,80 = 43.56 m3 | AT139: VV | AU139: 2 | AV139: 2 | AW139: True | AX139: 0 | AY139: ROZPOCET
D140: VV | F140: jama vodomernej šachty 1,80 x 1,50 x 2,00 = 5,40 m3 | AT140: VV | AU140: 2 | AV140: 2 | AW140: True | AX140: 0 | AY140: ROZPOCET
D141: VV | F141: spolu 48.96 m3 | H141: 48.96 | AT141: VV | AU141: 2 | AV141: 2 | AW141: True | AX141: 1 | AY141: ROZPOCET
C142: 3 | D142: K | E142: 151101101.S | F142: Paženie a rozopretie stien rýh pre podzemné vedenie, príložné, hĺbky do 2 m | G142: m2 | H142: 409.23 | I142: 5.83 | J142: =ROUND(I142*H142,2) | K142: CENEKON 2026/02 | N142: základná | O142: 0 | P142: =O142*H142 | Q142: 0.00091 | R142: =Q142*H142 | S142: 0 | T142: =S142*H142 | AR142: 4 | AT142: K | AU142: 2 | AY142: ROZPOCET | BE142: =IF(N142="základná",J142,0) | BF142: =IF(N142="znížená",J142,0) | BG142: =IF(N142="zákl. prenesená",J142,0) | BH142: =IF(N142="zníž. prenesená",J142,0) | BI142: =IF(N142="nulová",J142,0) | BJ142: 2 | BK142: =ROUND(I142*H142,2) | BL142: 4 | BM142: 510570415
D143: VV | F143: vodovod: 2 x 54,30 x 1,20 = 130,32 m2 | AT143: VV | AU143: 2 | AV143: 2 | AW143: True | AX143: 0 | AY143: ROZPOCET
D144: VV | F144: kanalizácia: 2 x 92,97 x 1,50 = 278,91 m2 | AT144: VV | AU144: 2 | AV144: 2 | AW144: True | AX144: 0 | AY144: ROZPOCET
D145: VV | F145: spolu 409,23 m2 | H145: 409.23 | AT145: VV | AU145: 2 | AV145: 2 | AW145: True | AX145: 1 | AY145: ROZPOCET
C146: 4 | D146: K | E146: 151101111.S | F146: Odstránenie paženia rýh pre podzemné vedenie, príložné, hĺbky do 2 m | G146: m2 | H146: 409.23 | I146: 3.75 | J146: =ROUND(I146*H146,2) | K146: CENEKON 2026/02 | N146: základná | O146: 0 | P146: =O146*H146 | Q146: 0 | R146: =Q146*H146 | S146: 0 | T146: =S146*H146 | AR146: 4 | AT146: K | AU146: 2 | AY146: ROZPOCET | BE146: =IF(N146="základná",J146,0) | BF146: =IF(N146="znížená",J146,0) | BG146: =IF(N146="zákl. prenesená",J146,0) | BH146: =IF(N146="zníž. prenesená",J146,0) | BI146: =IF(N146="nulová",J146,0) | BJ146: 2 | BK146: =ROUND(I146*H146,2) | BL146: 4 | BM146: 2128927333
D147: VV | F147: zhodné s pažením = 409,23 m2 | H147: 409.23 | AT147: VV | AU147: 2 | AV147: 2 | AW147: True | AX147: 1 | AY147: ROZPOCET
C148: 5 | D148: K | E148: 151101101.S | F148: Paženie a rozopretie stien jám pre podzemné vedenie, príložné do 2 m - jamy revíznych šachiet a vodomernej šachty | G148: m2 | H148: 92.4 | I148: 5.83 | J148: =ROUND(I148*H148,2) | K148: CENEKON 2026/02 | N148: základná | O148: 0 | P148: =O148*H148 | Q148: 0.00091 | R148: =Q148*H148 | S148: 0 | T148: =S148*H148 | AR148: 4 | AT148: K | AU148: 2 | AY148: ROZPOCET | BE148: =IF(N148="základná",J148,0) | BF148: =IF(N148="znížená",J148,0) | BG148: =IF(N148="zákl. prenesená",J148,0) | BH148: =IF(N148="zníž. prenesená",J148,0) | BI148: =IF(N148="nulová",J148,0) | BJ148: 2 | BK148: =ROUND(I148*H148,2) | BL148: 4 | BM148: 1664630161
D149: VV | F149: jamy 5 revíznych šachiet hĺbky 1,80 m: 5 x 8,80 x 1,80 = 79,20 m2 | AT149: VV | AU149: 2 | AV149: 2 | AW149: True | AX149: 0 | AY149: ROZPOCET
D150: VV | F150: jama vodomernej šachty hĺbky 2,00 m: 6,60 x 2,00 = 13,20 m2 | AT150: VV | AU150: 2 | AV150: 2 | AW150: True | AX150: 0 | AY150: ROZPOCET
D151: VV | F151: obe hĺbky patria do triedy do 2 m | AT151: VV | AU151: 2 | AV151: 2 | AW151: True | AX151: 0 | AY151: ROZPOCET
D152: VV | F152: spolu 92,40 m2 | H152: 92.4 | AT152: VV | AU152: 2 | AV152: 2 | AW152: True | AX152: 1 | AY152: ROZPOCET
C153: 6 | D153: K | E153: 151101111.S | F153: Odstránenie paženia jám pre podzemné vedenie, príložné hĺbky do 2 m - jamy revíznych šachiet a vodomernej šachty | G153: m2 | H153: 92.4 | I153: 3.75 | J153: =ROUND(I153*H153,2) | K153: CENEKON 2026/02 | N153: základná | O153: 0 | P153: =O153*H153 | Q153: 0 | R153: =Q153*H153 | S153: 0 | T153: =S153*H153 | AR153: 4 | AT153: K | AU153: 2 | AY153: ROZPOCET | BE153: =IF(N153="základná",J153,0) | BF153: =IF(N153="znížená",J153,0) | BG153: =IF(N153="zákl. prenesená",J153,0) | BH153: =IF(N153="zníž. prenesená",J153,0) | BI153: =IF(N153="nulová",J153,0) | BJ153: 2 | BK153: =ROUND(I153*H153,2) | BL153: 4 | BM153: 1177568409
D154: VV | F154: zhodné s pažením jám = 92.40 m2 | H154: 92.4 | AT154: VV | AU154: 2 | AV154: 2 | AW154: True | AX154: 1 | AY154: ROZPOCET
C155: 7 | D155: K | E155: 175101101.S | F155: Obsyp potrubia sypaninou z vhodných hornín tr. 1 až 4 bez prehodenia sypaniny | G155: m3 | H155: 64.96 | I155: 25.25 | J155: =ROUND(I155*H155,2) | K155: CENEKON 2026/02 | N155: základná | O155: 0 | P155: =O155*H155 | Q155: 0 | R155: =Q155*H155 | S155: 0 | T155: =S155*H155 | AR155: 4 | AT155: K | AU155: 2 | AY155: ROZPOCET | BE155: =IF(N155="základná",J155,0) | BF155: =IF(N155="znížená",J155,0) | BG155: =IF(N155="zákl. prenesená",J155,0) | BH155: =IF(N155="zníž. prenesená",J155,0) | BI155: =IF(N155="nulová",J155,0) | BJ155: 2 | BK155: =ROUND(I155*H155,2) | BL155: 4 | BM155: 1831833695
D156: VV | F156: vodovod: 54,30 x 0,306 m3/bm = 16,62 m3 | AT156: VV | AU156: 2 | AV156: 2 | AW156: True | AX156: 0 | AY156: ROZPOCET
D157: VV | F157: kanalizácia: 92,97 x 0,52 m3/bm = 48,34 m3 | AT157: VV | AU157: 2 | AV157: 2 | AW157: True | AX157: 0 | AY157: ROZPOCET
D158: VV | F158: spolu 64,96 m3 | H158: 64.96 | AT158: VV | AU158: 2 | AV158: 2 | AW158: True | AX158: 1 | AY158: ROZPOCET
C159: 8 | D159: K | E159: 174101002.S | F159: Zásyp sypaninou so zhutnením jám, šachiet a rýh, objem nad 100 do 1000 m3 | G159: m3 | H159: 150.8 | I159: 4.91 | J159: =ROUND(I159*H159,2) | K159: CENEKON 2026/02 | N159: základná | O159: 0 | P159: =O159*H159 | Q159: 0 | R159: =Q159*H159 | S159: 0 | T159: =S159*H159 | AR159: 4 | AT159: K | AU159: 2 | AY159: ROZPOCET | BE159: =IF(N159="základná",J159,0) | BF159: =IF(N159="znížená",J159,0) | BG159: =IF(N159="zákl. prenesená",J159,0) | BH159: =IF(N159="zníž. prenesená",J159,0) | BI159: =IF(N159="nulová",J159,0) | BJ159: 2 | BK159: =ROUND(I159*H159,2) | BL159: 4 | BM159: 1609238207
D160: VV | F160: ryhy vodovodu: 52,13 - 6,52 - 16,94 = 28,67 m3 | AT160: VV | AU160: 2 | AV160: 2 | AW160: True | AX160: 0 | AY160: ROZPOCET
D161: VV | F161: ryhy kanalizácie: 153,40 - 15,80 - 51,13 = 86,47 m3 | AT161: VV | AU161: 2 | AV161: 2 | AW161: True | AX161: 0 | AY161: ROZPOCET
D162: VV | F162: jamy šachiet: 43,56 - 9,03 (objem šachiet) - 1,92 (lôžka) = 32,61 m3 | AT162: VV | AU162: 2 | AV162: 2 | AW162: True | AX162: 0 | AY162: ROZPOCET
D163: VV | F163: jama vodomernej šachty: 5,40 - 0,41 lôžko - 1,94 šachta = 3,05 m3 | AT163: VV | AU163: 2 | AV163: 2 | AW163: True | AX163: 0 | AY163: ROZPOCET
D164: VV | F164: spolu 150,80 m3 | H164: 150.8 | AT164: VV | AU164: 2 | AV164: 2 | AW164: True | AX164: 1 | AY164: ROZPOCET
C165: 9 | D165: K | E165: 162501122.S | F165: Vodorovné premiestnenie prebytočného výkopku po spevnenej ceste na vzdialenosť do 3000 m | G165: m3 | H165: 38.73 | I165: 4.31 | J165: =ROUND(I165*H165,2) | K165: CENEKON 2026/02 | N165: základná | O165: 0 | P165: =O165*H165 | Q165: 0 | R165: =Q165*H165 | S165: 0 | T165: =S165*H165 | AR165: 4 | AT165: K | AU165: 2 | AY165: ROZPOCET | BE165: =IF(N165="základná",J165,0) | BF165: =IF(N165="znížená",J165,0) | BG165: =IF(N165="zákl. prenesená",J165,0) | BH165: =IF(N165="zníž. prenesená",J165,0) | BI165: =IF(N165="nulová",J165,0) | BJ165: 2 | BK165: =ROUND(I165*H165,2) | BL165: 4 | BM165: 1238604387
...

Sheet SO 03 - Vykurovanie a chladenie
AT2: {2c76266c-5cbd-47e6-a420-b3bdf9869bfd}
AT3: 1
D4: KRYCÍ LIST SÚPISU PRÁC | M4: v --- nižšie sa nachádzajú doplnkové a pomocné údaje k zostavám --- v | AT4: False
D6: Stavba:
E7: ='Rekapitulácia stavby'!K6
D8: Objekt:
E9: SO 03 - Vykurovanie a chladenie
D11: KSO: | I11: CC-SK:
D12: Miesto: | F12: Trnavský kraj | I12: Dátum: | J12: ='Rekapitulácia stavby'!AN8
D14: Zadávateľ: | I14: IČO:
E15: Anonymizované | I15: IČ DPH:
D17: Zhotoviteľ: | I17: IČO: | J17: =IF('Rekapitulácia stavby'!AN13="","",'Rekapitulácia stavby'!AN13)
E18: =IF('Rekapitulácia stavby'!E14="","",'Rekapitulácia stavby'!E14) | I18: IČ DPH: | J18: =IF('Rekapitulácia stavby'!AN14="","",'Rekapitulácia stavby'!AN14)
D20: Projektant: | I20: IČO:
I21: IČ DPH:
D23: Spracovateľ: | I23: IČO:
I24: IČ DPH:
D26: Poznámka:
E27: Elektrické zásobníkové ohrievače teplej vody pre nebytové priestory sú vykázané v súpise zdravotechniky, aby sa nezapočítali dvakrát. Silnoprúdové napájanie technológie vykurovania a chladenia je vykázané v súpise elektroinštalácie; komunikačné prepojenie vnútornej a vonkajšej jednotky klimatizácie je súčasťou tohto súpisu. Oceľová podperná konštrukcia kondenzačných jednotiek na streche vychádza zo statickej časti, ktorá nebola súčasťou odovzdaných podkladov. Zabezpečovacie armatúry tepelného čerpadla (poistný ventil, spätný ventil, guľový uzáver, tlakomer) sú súčasťou montážneho materiálu položky montáže tepelného čerpadla; samostatne sa nevykazujú, okrem poistného ventilu prídavnej expanznej nádoby, ktorá je nad rámec vybavenia hydraulického modulu a je vykázaná samostatne, aby sa nezapočítali dvakrát. Regulácia vykurovacej sústavy je podľa technickej správy ekvitermická, súčasť tepelného čerpadla; okruhy podlahového vykurovania sa regulujú šróbením na rozdeľovači, samostatné termoelektrické hlavice projekt nenavrhuje. Poter nad podlahovým vykurovaním vrátane plastifikačnej prísady (podľa cenovej sústavy 0,24 kg na m2 pri hrúbke poteru 67 mm, teda približne 346 kg) je súčasťou stavebnej časti, ktorú spracováva objednávateľ. Chladivové rozvody na streche sú predizolované rúrky s vlastným povrchovým plášťom, samostatná UV ochrana izolácie preto v súpise nie je. Tepelné izolácie medených rozvodov vykurovania sú ocenené hrúbkou 20 mm pre potrubie D 22 a 19 mm pre potrubie D 15; sú to najbližšie katalógové hrúbky k 20 mm, ktoré predpisuje technická správa pre potrubie v podlahe. Úplné znenie poznámok je na liste Poznámky k rozpočtu. S čím počítame (predpoklady, ktoré si môžete upraviť jedným číslom; druhá varianta je pri každom uvedená): P-1: Zariaďovacie predmety sú ocenené v bežnom katalógovom štandarde; presný typ určuje podľa technickej správy investor. Vyšší štandard vybavenia by cenu zariaďovacích predmetov zvýšil rádovo o jednotky percent. Presnú cenu určí až výber konkrétnych výrobkov objednávateľom. P-2: Vsakovací objekt je ocenený v rozmeroch podľa výkresu 003, hoci technická správa ich označuje za informatívne (chýba hydrogeologický prieskum). Úprava objemu vsakovacích blokov po hydrogeologickom prieskume je druhá varianta; cena sa mení úmerne počtu blokov, jeden blok je 57,76 EUR. P-3: Vykurovanie je spracované znovu z projektovej dokumentácie; pracovný výkaz výmer objednávateľa slúžil len ako kontrola rozsahu. Nadviazanie na pracovný výkaz objednávateľa je možné na vyžiadanie, bez zmeny ceny. P-4: Súpis je dodaný vo formáte KROS Export Komplet 2.0 na import do CENKROSu; práce a služby sú vedené ako typ K, materiály a výrobky ako typ M. Slepé výkazy výmer bez cien boli dodané s predchádzajúcou verziou rozpočtu a platia bez zmeny. P-5: Technológia výťahu nie je v rozsahu; elektro obsahuje prívod a rozvádzač RV. Doplnenie technológie výťahu je druhá varianta; ocení sa po dodaní ponuky výrobcu. Cenu určí ponuka výrobcu výťahu. P-6: Búracie práce a demontáže jestvujúcich rozvodov sú súčasťou stavebnej časti, ktorú spracováva objednávateľ. Doplnenie demontáží profesií je druhá varianta; ocení sa po dodaní výkresu jestvujúceho stavu. Cenu určí rozsah podľa výkresu jestvujúceho stavu. P-7: Odvodnenie plochej strechy je vonkajšími žľabmi a zvodovými rúrami podľa legendy výkresu strechy; klampiarske práce sú súčasťou stavebnej časti a dažďová kanalizácia na ne nadväzuje deviatimi prípojmi v zemi. Variant s vnútornými strešnými vtokmi je vyčíslený pri rozpore R-3 (+4 924 EUR). P-8: Skládka pre prebytočný výkopok je uvažovaná do 10 km; skutočnú vzdialenosť určí zhotoviteľ. Vzdialenejšia skládka je druhá varianta; každý ďalší kilometer je 0,55 EUR na tonu. P-9: Vetracie hlavice vzduchotechniky sú uvažované 0,50 m nad strechou; výkres výšku nekótuje. Vyššie vyvedenie hlavíc nad strechu by súpis zvýšilo do 100 EUR. P-10: Dimenzie medených rozvodov vykurovania nie sú v dokumentácii uvedené; uvažované D 22 mm od hydraulického modulu k rozdeľovaču a D 15 mm k rebríkovým telesám. Jednotná dimenzia D 22 mm by súpis zmenila do 1 300 EUR. P-12: Vnútorné rozvody vody sú podľa označení na pôdorysoch rozdelené na DN 15 (60 %) a DN 20 (40 %). Celý rozvod v DN 20 by súpis zvýšil do 900 EUR. P-13: Vodorovná vnútorná kanalizácia je podľa označení na pôdorysoch rozdelená na DN 110 (30 %) a DN 50 (70 %). Vyšší podiel DN 110 by súpis zvýšil do 1 500 EUR. P-14: Objem elektrických zásobníkových ohrievačov pre nebytové priestory nie je určený; uvažovaný objem 80 l. Zásobníky s objemom 120 l by súpis zvýšili do 600 EUR. P-15: Dĺžka káblov CHKE-V 5x6 mm2 k podružným rozvádzačom je odvodená z geometrie objektu (priemerná vzdialenosť po chodbe pri rovnomernom rozmiestnení 38 rozvádzačov). Meranie podľa skutočnej trasy po dodaní realizačnej dokumentácie je druhá varianta; odchýlka 10 % dĺžky znamená 798 EUR na kábli a 230 EUR na pospájaní. P-16: Jestvujúce distribučné vedenie NN sa vyťahuje z ryhy nového vedenia; samostatný výkop pre demontáž sa nevykazuje. Samostatný výkop pre demontáž 20 m by súpis zvýšil orientačne do 200 EUR. P-17: Veľkostný typ jestvujúcej istiacej a rozpojovacej skrine SR dokumentácia neuvádza; pre demontáž je uvažovaný rovnaký typ SR 7 ako nová skriňa. Menší typ skrine by súpis znížil o 8 EUR. P-18: Schémy rozvádzačov kreslia pri každom podružnom rozvádzači prípojnicu HUP s vodičom CYA 16 mm2; v súpise je 38 prípojníc a vodič vedený súbežne s prívodom každého rozvádzača. Spoločná prípojnica na podlaží namiesto prípojnice pri každom rozvádzači by súpis znížila približne o 2 000 EUR. P-19: Dĺžka doplnkového pospájania na jedno miesto (kúpeľňa, kuchyňa, strojovňa) je uvažovaná 5,00 m. Dlhšie trasy doplnkového pospájania by súpis zvýšili do 300 EUR. P-20: Vybavenie výťahovej šachty elektroinštaláciou (dve svietidlá, spínač a servisná zásuvka) vychádza z požiadaviek na obsluhu šachty; vlastná technológia výťahu v súpise nie je. Ak vybavenie výťahovej šachty dodá výrobca výťahu, súpis sa zníži o 270 EUR. P-21: Projekt predpisuje káble CHKE-R; cenová sústava obsahuje ekvivalent CHKE-V s rovnakým prierezom, ktorým je položka ocenená. Doložená ponuka na pôvodný typ CHKE-R je druhá varianta; rozdiel sa prejaví v cene materiálu. Cenu určí ponuka dodávateľa káblov. P-22: Dĺžky vývodov z rozvádzača RE (CENTRAL STOP, RV, SV1, SV2) sú odvodené z geometrie objektu rovnako ako dĺžky prívodov k podružným rozvádzačom. Meranie vývodov podľa skutočnej trasy je druhá varianta; odchýlka 10 % dĺžky znamená 55 EUR. P-23: Dĺžka káblového žľabu je odvodená z chodbového rozvodu po dĺžke objektu na každom podlaží a zvislej stúpačky od rozvádzača RE. Káblový žľab aj vo vetvách k jednotlivým rozvádzačom by súpis zvýšil do 4 500 EUR. P-24: Cenová sústava obsahuje najbližšiu výzbroj istiacej skrine SR 7; presný typ predpísaný technickou správou sa doloží ponukou dodávateľa. Doložená ponuka na presný typ skrine HASMA je druhá varianta. Cenu určí ponuka dodávateľa skríň. P-25: Zvody bleskozvodu sú zabudované do zatepľovacieho systému a montujú sa spolu s fasádou; lešenie pre ne je súčasťou stavebnej časti. Samostatné lešenie alebo montážna plošina pre zvody by súpis zvýšili o 1 500 až 3 000 EUR. P-27: Podiel ručného výkopu káblovej ryhy v súbehu so sieťami je uvažovaný 10 % dĺžky. Vyšší podiel ručného výkopu by súpis zvýšil do 600 EUR. P-29: Počet zemniacich tyčí pre uzemnenie skrine SR a rozvádzača RE je uvažovaný tri tyče po 2 m na zariadenie. Doplnenie zemniacich tyčí podľa skutočne nameraného odporu je druhá varianta; jedna tyč s montážou je 64 EUR. P-30: Počet vodovodných stúpačiek je uvažovaný deväť, rovnako ako hlavných kanalizačných stúpačiek. Iný počet vodovodných stúpačiek by zmenil cenu upchávok do 400 EUR. P-31: Hĺbka ryhy areálovej splaškovej kanalizácie je uvažovaná 1,50 m; dokumentácia hĺbku neuvádza. Šírka ryhy 1,10 m, lôžko 0,17 m3/bm a obsyp 0,52 m3/bm sú prevzaté z tabuľky v detaile uloženia potrubia. Hĺbka ryhy 1,80 m by výkop, paženie a zásyp zvýšila približne o 900 EUR. P-32: Dĺžka odvodu kondenzátu od jednej kazetovej jednotky je uvažovaná 10,00 m. Kratšie trasy odvodu kondenzátu by súpis znížili do 300 EUR. P-33: Výkon elektrických konvektorov pre zázemie nájomných priestorov dokumentácia neuvádza; uvažovaný je 1 000 W na miestnosť. Pracovný výkaz výmer objednávateľa uvažuje konvektory 500 W; menší výkon by súpis znížil približne o 250 EUR. Konvektory s výkonom 1 500 W by súpis zvýšili o 102 EUR. P-34: Rozsah oceľovej podpernej konštrukcie kondenzačných jednotiek na streche upresní statická časť, ktorá nie je súčasťou odovzdanej dokumentácie; položka je ocenená ako strešná pozinkovaná konzola na jednu jednotku. Rámová konštrukcia podľa statiky namiesto strešnej konzoly by súpis zvýšila o 150 až 1 700 EUR. P-35: Zriadenie prestupov jestvujúcimi železobetónovými stropmi pripravuje zhotoviteľ stavebnej časti podľa koordinačných výkresov profesií; v tomto súpise je len ich utesnenie. Jadrové vrty v našom súpise, 128 prestupov, by súpis zvýšili orientačne o 3 000 až 5 000 EUR. P-36: Doba montáže šiestich profesií je uvažovaná 6 mesiacov; harmonogram stavby v podkladoch nie je. Vychádza z nej prenájom buniek a mobilného WC. Deväť mesiacov montáže namiesto šiestich by zariadenie staveniska zvýšilo o 1 894 EUR. P-37: Počet kontajnerov na odpad z montážnych prác je uvažovaný štyri. Šesť kontajnerov namiesto štyroch by súpis zvýšilo o 220 EUR. P-38: Vzdialenosť mimostaveniskovej dopravy je uvažovaná do 50 km. Mimostavenisková doprava na 100 km by súpis zvýšila o 866 EUR. P-39: Skrine elektromerového rozvádzača RE sú ocenené v rade OEZ QA55 s krytím IP55 v rozmeroch podľa výkresu 210 (1 ks 800x400x1800 mm a 2 ks 1200x400x1800 mm) vrátane podstavcov, horných krytov a montážnych panelov; výkres predpisuje výrobcu OEZ a krytie IP65, IP55 je najvyššie krytie radových rozvádzačových skríň tohto výrobcu v cenovej sústave. Horný kryt skrine je v cenovej sústave len vo ventilovanom vyhotovení. Atypická skriňa IP65 na zákazku by súpis zvýšila o 600 až 1 500 EUR. P-40: Ovládanie kazetových klimatizačných jednotiek je uvažované infračerveným diaľkovým ovládačom, ktorý je súčasťou dodávky jednotky; technická správa pripúšťa aj nástenné káblové ovládače, tie by súpis zvýšili o 12 ovládačov s montážou. Káblové ovládače klimatizácie cenová sústava neobsahuje, cenu určí ponuka dodávateľa jednotiek. P-41: Prípojnicový systém rozvádzača RE je ocenený piatimi medenými pásmi 30 x 5 mm (L1, L2, L3, N, PE) po šírke zostavy skríň, spolu 16,00 m, so zaťažiteľnosťou 379 až 450 A. Výkres rozvádzača uvádza pri hlavnom ističi dve hodnoty, 630 A a 380 A, a súpis je zostavený na nižšiu z nich. Vyhotovenie na plných 630 A znamená zdvojenie fázových pásov, čo by súpis zvýšilo o 359,14 EUR. P-42: Tepelné izolácie medených rozvodov vykurovania sú ocenené hrúbkou 20 mm pre potrubie D 22 a 19 mm pre D 15, pretože rozvody vedú v podlahovej konštrukcii a v šachtách; voľne vedené úseky by podľa technickej správy mali hrúbku 25 až 30 mm. Voľne vedené úseky v hrúbke 25 až 30 mm by pri celej dĺžke 266,10 m súpis zvýšili približne o 2 100 EUR. P-43: Vodorovné trasy vnútornej kanalizácie sú ocenené ako potrubie HT z PP v celej dĺžke; ak sa zvodová časť zhotoví z PVC KG podľa technickej správy, cena sa zníži približne o 26 EUR. P-44: Hĺbka ryhy areálového vodovodu je uvažovaná 1,20 m; technická správa uvádza len šírku ryhy 60 cm, lôžko 15 cm a obsyp 30 cm, hĺbku neuvádza. Hĺbka ryhy vodovodu 1,50 m by výkop, paženie, zásyp a odvoz zvýšila približne o 600 EUR. P-45: Revízne šachty sú ocenené ako prefabrikované: dodávka dna s kynetou, skruží, kónusu a vyrovnávacieho prstenca a osadenie jednotlivých dielcov. Zhotovenie šachiet s obložením dna betónom na mieste namiesto prefabrikovaného dna by súpis zvýšilo približne o 4 800 EUR. P-46: Napojenie vodovodnej prípojky na verejný vodovod a zaústenie kanalizačnej prípojky do verejnej stoky vykonáva prevádzkovateľ verejnej siete na náklady investora; dokumentácia neuvádza dimenziu ani materiál verejných potrubí, preto tieto práce v súpise nie sú. Vystrojenie vodomernej šachty vrátane fakturačného vodomeru DN 50 v súpise je. Navŕtavací pás alebo T-kus so zemnou súpravou v našom súpise by ho zvýšil o 300 až 800 EUR podľa dimenzie verejného radu. P-47: Revízne šachty sú zostavené z dielcov, ktoré cenová sústava ponúka: dno s kynetou výšky 700 mm, kónus 1000/600 výšky 576 mm a vyrovnávací prstenec do 100 mm. Výkres kótuje dno 680 mm a kónus 630 mm; rozdiel 34 mm na šachtu vyrovná vyrovnávací prstenec a maltové lôžka spojov. Dielce šachiet presne podľa výkresu na zákazku by ich cenu zvýšili o 10 až 15 %. P-48: Zvislé trasy sú predĺžené o ležatý zvod 0,80 m pod podlahou 1.NP, o 0,50 m k odbočke na poslednom podlaží a o 1,00 m vyvedenia kanalizačného odvetrania nad strechu; dokumentácia tieto rozmery nekótuje. Bez prídavkov zvislých trás by sa súpis znížil približne o 1 900 EUR. P-49: Podklad pod vonkajšie jednotky tepelných čerpadiel (betónová pätka alebo rámový podstavec) dokumentácia nepredpisuje; technická správa uvádza antivibračné silentbloky len pri kondenzačných jednotkách klimatizácie, ktoré sú v súpise. Podklad pod tepelné čerpadlá je preto uvažovaný ako súčasť stavebnej časti. Rámový podstavec výrobcu pod 27 vonkajších jednotiek by súpis zvýšil približne o 11 600 EUR. P-50: Rozmer otvoru pri prestupe kábla požiarne deliacou konštrukciou dokumentácia neurčuje; uvažovaný je jadrový vrt D 150 mm na jeden prívodný kábel, teda trieda tesnenia do 0,1 m2. Ak sa prestupy zhotovia ako otvory nad 0,1 m2, súpis sa zvýši približne o 1 023 EUR. P-51: Dĺžku odvodu odmrazovacej vody od vonkajších jednotiek tepelných čerpadiel a odvodu od poistných výtokov zásobníkov dokumentácia neurčuje; uvažované sú 3,00 m na jednotku a 2,00 m na bytovú sústavu. Dvojnásobné dĺžky by súpis zvýšili približne o 840 EUR. P-52: Cenová sústava CENEKON nemá triedu pre prepláchnutie a napustenie sústavy s podlahovým vykurovaním ani pre funkčnú vykurovaciu skúšku podľa STN EN 1264-4; obidva kroky sú preto ocenené hodinovou sadzbou montéra a počet hodín je uvažovaný 2,00 hod na napustenie a 3,00 hod na vykurovaciu skúšku jednej bytovej sústavy. Dvojnásobný počet hodín by súpis zvýšil približne o 2 700 EUR. P-53: Plocha na vyčistenie budovy po montážnych prácach je uvažovaná ako hrubá podlahová plocha, teda zastavaná plocha 742,85 m2 krát štyri podlažia. Ak sa vykáže len čistá podlahová plocha bez konštrukcií (približne 85 %), súpis sa zníži približne o 2 890 EUR. P-54: Objemová hmotnosť zmiešaného stavebného odpadu z montážnych prác je uvažovaná 0,15 t/m3; skutočnú hmotnosť určí váženie na skládke. Dvojnásobná hmotnosť by súpis zvýšila približne o 840 EUR. P-55: Počty tvarovok potrubia spiro (27 kolien DN 125, 44 kolien DN 160, 50 T-kusov a 27 prechodov) sú dopočítané z topológie rozvodu, pretože výkresy tvarovky nekótujú. Odchýlka 20 % by súpis zmenila približne o 490 EUR. P-56: Zvody bleskozvodu sú ocenené izolovaným hliníkovým drôtom AlMgSi Ø 8 mm PVC podľa legendy výkresu bleskozvodu a sú vedené v ochrannej rúrke pod omietkou, ako predpisuje technická správa; hliník so zachytávacou sústavou netvorí galvanický pár, takže náter zvodu odpadá. Variant s neizolovaným drôtom v samotnej ochrannej rúrke by súpis znížil o 113 EUR. P-57: Rozsah ochranného zábradlia okolo otvorených výkopov je uvažovaný po jednej strane ryhy v celej dĺžke, teda 317,30 m; technické správy zaistenie výkopov predpisujú, rozsah neurčujú. Zábradlie po oboch stranách by súpis zvýšilo približne o 2 504 EUR. P-58: Dĺžka pripojovacieho potrubia kondenzátu od zápachových uzávierok vzduchotechniky do kanalizácie je uvažovaná 2,00 m na jednu uzávierku; dokumentácia trasu neurčuje. Dvojnásobná dĺžka by súpis zvýšila približne o 225 EUR. P-59: Doplnenie chladiva R32 nad výrobnú náplň nie je v súpise: priemerná dĺžka chladivovej dvojice na jeden okruh je 21,4 m, čo je na hranici bežnej výrobnej náplne split jednotiek. Ak výrobca zvolenej jednotky predplní kratšiu trasu, doplnenie chladiva by súpis zvýšilo približne o 130 až 250 EUR. P-60: Prívod vzduchu do odvetrávaných miestností je podľa technickej správy riešený bezprahovými dverami, ktoré sú súčasťou stavebnej časti. Ak sa namiesto nich osadia dverové mriežky, súpis vzduchotechniky sa zvýši približne o 1 200 EUR. P-61: Dĺžky vnútorných káblov vychádzajú z počtu obvodov podľa schémy bytového rozvádzača (dva obvody 3x1,5, sedem 3x2,5 a dva 5x2,5) a z trasy odmeranej z pôdorysov silnoprúdu. Uvažuje sa, že každý obvod prejde v priemere polovicou spoločnej trasy a že na každý prístrojový bod pripadá 0,80 m zvislého úseku, ktorý pôdorys nezobrazuje. Plný prechod trasou u každého obvodu by súpis zvýšil približne o 6 500 EUR. P-62: Tepelné izolácie rozvodov vody sú ocenené v katalógových hrúbkach 9 mm pre studenú a 19 mm pre teplú vodu; technická správa uvádza 10 a 20 mm, cenová sústava tieto hrúbky pre dané priemery nemá. Bližšia hrúbka v sústave nie je, cena sa tým nemení. P-63: Komplexné vyskúšanie a zaregulovanie vzduchotechniky je ocenené sadzbou za celé zariadenie, teda 241,21 EUR; počet ventilátorov a meracích bodov cenník neurčuje. Ocenenie podľa hodinovej sadzby, teda 60 hodín, by súpis zvýšilo o 793,79 EUR. P-64: Závesy a objímky potrubí zdravotechniky nie sú samostatnou položkou, pretože montážne položky potrubia obsahujú potrubnú objímku a skrutky na každý meter. Technická správa predpisuje značkový závesný systém; ak sa má oceniť samostatne, doplní sa po cenovej ponuke dodávateľa. P-65: Značenie potrubia podľa STN 13 0072 je ocenené jedným štítkom na každú vodovodnú stúpačku na každom podlaží, spolu 36 kusov; technická správa počet a rozmiestnenie štítkov neurčuje. Hustejšie značenie aj na ležatých rozvodoch a armatúrach by súpis zvýšilo o 199,08 EUR. P-66: Vytýčenie jestvujúcich podzemných vedení je ocenené jedným vytyčovacím bodom na každú z piatich sietí vedených areálom; situácia počet vytyčovacích bodov neurčuje. Vytýčenie po celej dĺžke rýh, teda 23 bodov ako pri nových trasách, by súpis zvýšilo o 486,00 EUR. P-67: Izolačné držiaky prípojníc rozvádzača RE sú ocenené v rozstupe 0,50 m po šírke zostavy skríň, teda 7 kusov; výkres rozstup podopretia neurčuje. Hustejší rozstup 0,35 m, teda 10 kusov, by súpis zvýšil o 93,00 EUR.
D30: Cena bez DPH | J30: =ROUND(J130, 2)
F32: Základ dane | I32: Sadzba dane | J32: Výška dane
D33: DPH | E33: základná | F33: =ROUND((SUM(BE130:BE287)), 2) | I33: 0.23 | J33: =ROUND(((SUM(BE130:BE287))*I33), 2)
E34: znížená | F34: =ROUND((SUM(BF130:BF287)), 2) | I34: 0.19 | J34: =ROUND(((SUM(BF130:BF287))*I34), 2)
E35: zákl. prenesená | F35: =ROUND((SUM(BG130:BG287)), 2) | I35: 0.23 | J35: =0
E36: zníž. prenesená | F36: =ROUND((SUM(BH130:BH287)), 2) | I36: 0.19 | J36: =0
E37: nulová | F37: =ROUND((SUM(BI130:BI287)), 2) | I37: 0 | J37: =0
D39: Cena s DPH | G39: v | H39: EUR | J39: =SUM(J30:J37)
D50: Projektant | G50: Spracovateľ
D61: Dátum a podpis: | F61: Pečiatka | G61: Dátum a podpis: | J61: Pečiatka
D65: Objednávateľ | G65: Zhotoviteľ
D76: Dátum a podpis: | F76: Pečiatka | G76: Dátum a podpis: | J76: Pečiatka
C82: REKAPITULÁCIA ČLENENIA SÚPISU PRÁC
C84: Stavba:
E85: =E7
C86: Objekt:
E87: =E9
C89: Miesto: | F89: =F12 | I89: Dátum: | J89: =IF(J12="","",J12)
C91: Zadávateľ: | F91: =E15 | I91: Projektant: | J91: =E21
C92: Zhotoviteľ: | F92: =IF(E18="","",E18) | I92: Spracovateľ: | J92: =E24
C94: Kód dielu - Popis | J94: Cena celkom [EUR]
C96: Náklady zo súpisu prác | J96: =J130 | AU96: -1
D97: HSV - Práce a dodávky HSV | J97: =J131
D98: 998 - Presun hmôt | J98: =J132
D99: PSV - Práce a dodávky PSV | J99: =J147
D100: 713 - Izolácie tepelné | J100: =J148
D101: 721 - Zdravotechnika - vnútorná kanalizácia | J101: =J157
D102: 722 - Zdravotechnika - vnútorný vodovod | J102: =J174
D103: 732 - Ústredné kúrenie - strojovne | J103: =J179
D104: 733 - Ústredné kúrenie - rozvodné potrubie | J104: =J192
D105: 735 - Ústredné kúrenie - vykurovacie telesá | J105: =J213
D106: 762 - Konštrukcie tesárske | J106: =J242
D107: 769 - Diel 769 | J107: =J248
D108: M - Práce a dodávky M | J108: =J276
D109: 21-M - Elektromontáže | J109: =J277
D110: 23-M - Montáže potrubia | J110: =J283
C117: SÚPIS PRÁC
C119: Stavba:
E120: =E7
C121: Objekt:
E122: =E9
C124: Miesto: | F124: =F12 | I124: Dátum: | J124: =IF(J12="","",J12)
C126: Zadávateľ: | F126: =E15 | I126: Projektant: | J126: =E21
C127: Zhotoviteľ: | F127: =IF(E18="","",E18) | I127: Spracovateľ: | J127: =E24
C129: PČ | D129: Typ | E129: Kód | F129: Popis | G129: MJ | H129: Množstvo | I129: J.cena [EUR] | J129: Cena celkom [EUR] | K129: Cenová sústava | N129: DPH | O129: J. Nh [h] | P129: Nh celkom [h] | Q129: J. hmotnosť [t] | R129: Hmotnosť celkom [t] | S129: J. suť [t] | T129: Suť celkom [t]
C130: Náklady súpisu celkom | J130: =BK130 | P130: =P131+P147+P276 | R130: =R131+R147+R276 | T130: =T131+T147+T276 | AT130: D | AU130: -1 | BK130: =BK131+BK147+BK276
D131: D | E131: HSV | F131: Práce a dodávky HSV | J131: =BK131 | P131: =P132 | R131: =R132 | T131: =T132 | AR131: 1 | AT131: D | AU131: 0 | AY131: ROZPOCET | BK131: =BK132
D132: D | E132: 998 | F132: Presun hmôt | J132: =BK132 | P132: =SUM(P133:P146) | R132: =SUM(R133:R146) | T132: =SUM(T133:T146) | AR132: 1 | AT132: D | AU132: 1 | AY132: ROZPOCET | BK132: =SUM(BK133:BK146)
C133: 1 | D133: K | E133: 998732202.S | F133: Presun hmôt pre strojovne v objektoch výšky nad 6 do 12 m (Cenová sústava ponúka presun hmôt pre strojovne len do výšky 12 m; objekt má 15,70 m. Ocenená je najvyššia dostupná trieda, vyššiu sústava pre tento oddiel neobsahuje.) | G133: % | H133: 3487.71 | I133: 1.15 | J133: =ROUND(I133*H133,2) | K133: CENEKON 2026/02 | N133: základná | O133: 0 | P133: =O133*H133 | Q133: 0 | R133: =Q133*H133 | S133: 0 | T133: =S133*H133 | AR133: 4 | AT133: K | AU133: 2 | AY133: ROZPOCET | BE133: =IF(N133="základná",J133,0) | BF133: =IF(N133="znížená",J133,0) | BG133: =IF(N133="zákl. prenesená",J133,0) | BH133: =IF(N133="zníž. prenesená",J133,0) | BI133: =IF(N133="nulová",J133,0) | BJ133: 2 | BK133: =ROUND(I133*H133,2) | BL133: 4 | BM133: -1692586481
D134: VV | F134: 1.15 % zo základne oddielu 732 Strojovne: 348771.42 EUR / 100 | H134: 3487.71 | AT134: VV | AU134: 2 | AV134: 2 | AW134: True | AX134: 1 | AY134: ROZPOCET
C135: 2 | D135: K | E135: 998733203.S | F135: Presun hmôt pre rozvody potrubia v objektoch výšky nad 6 do 24 m | G135: % | H135: 86.9 | I135: 1.5 | J135: =ROUND(I135*H135,2) | K135: CENEKON 2026/02 | N135: základná | O135: 0 | P135: =O135*H135 | Q135: 0 | R135: =Q135*H135 | S135: 0 | T135: =S135*H135 | AR135: 4 | AT135: K | AU135: 2 | AY135: ROZPOCET | BE135: =IF(N135="základná",J135,0) | BF135: =IF(N135="znížená",J135,0) | BG135: =IF(N135="zákl. prenesená",J135,0) | BH135: =IF(N135="zníž. prenesená",J135,0) | BI135: =IF(N135="nulová",J135,0) | BJ135: 2 | BK135: =ROUND(I135*H135,2) | BL135: 4 | BM135: 660047575
D136: VV | F136: 1.5 % zo základne oddielu 733 Rozvody potrubia: 8689.69 EUR / 100 | H136: 86.9 | AT136: VV | AU136: 2 | AV136: 2 | AW136: True | AX136: 1 | AY136: ROZPOCET
C137: 3 | D137: K | E137: 998713203.S | F137: Presun hmôt pre izolácie tepelné v objektoch výšky nad 12 do 24 m | G137: % | H137: 23.01 | I137: 1.55 | J137: =ROUND(I137*H137,2) | K137: CENEKON 2026/02 | N137: základná | O137: 0 | P137: =O137*H137 | Q137: 0 | R137: =Q137*H137 | S137: 0 | T137: =S137*H137 | AR137: 4 | AT137: K | AU137: 2 | AY137: ROZPOCET | BE137: =IF(N137="základná",J137,0) | BF137: =IF(N137="znížená",J137,0) | BG137: =IF(N137="zákl. prenesená",J137,0) | BH137: =IF(N137="zníž. prenesená",J137,0) | BI137: =IF(N137="nulová",J137,0) | BJ137: 2 | BK137: =ROUND(I137*H137,2) | BL137: 4 | BM137: 1349811547
D138: VV | F138: 1.55 % zo základne oddielu 713 Izolácie tepelné: 2300.74 EUR / 100 | H138: 23.01 | AT138: VV | AU138: 2 | AV138: 2 | AW138: True | AX138: 1 | AY138: ROZPOCET
C139: 4 | D139: K | E139: 998735203.S | F139: Presun hmôt pre vykurovacie telesá v objektoch výšky nad 12 do 24 m | G139: % | H139: 965.7 | I139: 1.65 | J139: =ROUND(I139*H139,2) | K139: CENEKON 2026/02 | N139: základná | O139: 0 | P139: =O139*H139 | Q139: 0 | R139: =Q139*H139 | S139: 0 | T139: =S139*H139 | AR139: 4 | AT139: K | AU139: 2 | AY139: ROZPOCET | BE139: =IF(N139="základná",J139,0) | BF139: =IF(N139="znížená",J139,0) | BG139: =IF(N139="zákl. prenesená",J139,0) | BH139: =IF(N139="zníž. prenesená",J139,0) | BI139: =IF(N139="nulová",J139,0) | BJ139: 2 | BK139: =ROUND(I139*H139,2) | BL139: 4 | BM139: 996812103
D140: VV | F140: 1.65 % zo základne oddielu 735 Vykurovacie telesá a podlahové vykurovanie: 96570.29 EUR / 100 | H140: 965.7 | AT140: VV | AU140: 2 | AV140: 2 | AW140: True | AX140: 1 | AY140: ROZPOCET
C141: 5 | D141: K | E141: 998769203.S | F141: Presun hmôt pre montáž vzduchotechnických zariadení vo výške nad 7 do 24 m | G141: % | H141: 412.57 | I141: 1.8 | J141: =ROUND(I141*H141,2) | K141: CENEKON 2026/02 | N141: základná | O141: 0 | P141: =O141*H141 | Q141: 0 | R141: =Q141*H141 | S141: 0 | T141: =S141*H141 | AR141: 4 | AT141: K | AU141: 2 | AY141: ROZPOCET | BE141: =IF(N141="základná",J141,0) | BF141: =IF(N141="znížená",J141,0) | BG141: =IF(N141="zákl. prenesená",J141,0) | BH141: =IF(N141="zníž. prenesená",J141,0) | BI141: =IF(N141="nulová",J141,0) | BJ141: 2 | BK141: =ROUND(I141*H141,2) | BL141: 4 | BM141: -596422943
D142: VV | F142: 1.8 % zo základne oddielu 769 Montáže vzduchotechnických zariadení: 41257.46 EUR / 100 | H142: 412.57 | AT142: VV | AU142: 2 | AV142: 2 | AW142: True | AX142: 1 | AY142: ROZPOCET
C143: 6 | D143: K | E143: 998721203.S | F143: Presun hmôt pre vnútornú kanalizáciu v objektoch výšky nad 12 do 24 m | G143: % | H143: 22.77 | I143: 1.1 | J143: =ROUND(I143*H143,2) | K143: CENEKON 2026/02 | N143: základná | O143: 0 | P143: =O143*H143 | Q143: 0 | R143: =Q143*H143 | S143: 0 | T143: =S143*H143 | AR143: 4 | AT143: K | AU143: 2 | AY143: ROZPOCET | BE143: =IF(N143="základná",J143,0) | BF143: =IF(N143="znížená",J143,0) | BG143: =IF(N143="zákl. prenesená",J143,0) | BH143: =IF(N143="zníž. prenesená",J143,0) | BI143: =IF(N143="nulová",J143,0) | BJ143: 2 | BK143: =ROUND(I143*H143,2) | BL143: 4 | BM143: 95802844
D144: VV | F144: 1.1 % zo základne oddielu 721 Vnútorná kanalizácia: 2276.76 EUR / 100 | H144: 22.77 | AT144: VV | AU144: 2 | AV144: 2 | AW144: True | AX144: 1 | AY144: ROZPOCET
C145: 7 | D145: K | E145: 998921203.S | F145: Presun hmôt pre montáž silnoprúdových rozvodov vo výške nad 7 do 24 m | G145: % | H145: 5.17 | I145: 0.45 | J145: =ROUND(I145*H145,2) | K145: CENEKON 2026/02 | N145: základná | O145: 0 | P145: =O145*H145 | Q145: 0 | R145: =Q145*H145 | S145: 0 | T145: =S145*H145 | AR145: 4 | AT145: K | AU145: 2 | AY145: ROZPOCET | BE145: =IF(N145="základná",J145,0) | BF145: =IF(N145="znížená",J145,0) | BG145: =IF(N145="zákl. prenesená",J145,0) | BH145: =IF(N145="zníž. prenesená",J145,0) | BI145: =IF(N145="nulová",J145,0) | BJ145: 2 | BK145: =ROUND(I145*H145,2) | BL145: 4 | BM145: -1038112452
D146: VV | F146: 0.45 % zo základne oddielu 21-M Elektromontáže: 517.44 EUR / 100 | H146: 5.17 | AT146: VV | AU146: 2 | AV146: 2 | AW146: True | AX146: 1 | AY146: ROZPOCET
D147: D | E147: PSV | F147: Práce a dodávky PSV | J147: =BK147 | P147: =P148+P157+P174+P179+P192+P213+P242+P248 | R147: =R148+R157+R174+R179+R192+R213+R242+R248 | T147: =T148+T157+T174+T179+T192+T213+T242+T248 | AR147: 2 | AT147: D | AU147: 0 | AY147: ROZPOCET | BK147: =BK148+BK157+BK174+BK179+BK192+BK213+BK242+BK248
D148: D | E148: 713 | F148: Izolácie tepelné | J148: =BK148 | P148: =SUM(P149:P156) | R148: =SUM(R149:R156) | T148: =SUM(T149:T156) | AR148: 2 | AT148: D | AU148: 1 | AY148: ROZPOCET | BK148: =SUM(BK149:BK156)
C149: 8 | D149: K | E149: 713412112.S | F149: Montáž izolácie tepelnej potrubia puzdrami, potrubie DN 20 - medené rozvody vykurovania D 22 mm | G149: m | H149: 128.94 | I149: 4.82 | J149: =ROUND(I149*H149,2) | K149: CENEKON 2026/02 | N149: základná | O149: 0 | P149: =O149*H149 | Q149: 0 | R149: =Q149*H149 | S149: 0 | T149: =S149*H149 | AR149: 16 | AT149: K | AU149: 2 | AY149: ROZPOCET | BE149: =IF(N149="základná",J149,0) | BF149: =IF(N149="znížená",J149,0) | BG149: =IF(N149="zákl. prenesená",J149,0) | BH149: =IF(N149="zníž. prenesená",J149,0) | BI149: =IF(N149="nulová",J149,0) | BJ149: 2 | BK149: =ROUND(I149*H149,2) | BL149: 16 | BM149: 406774793
D150: VV | F150: zhodné s dĺžkou potrubia D 22, V-UK-005 = 128,94 | H150: 128.94 | AT150: VV | AU150: 2 | AV150: 2 | AW150: True | AX150: 1 | AY150: ROZPOCET
C151: 9 | D151: M | E151: 283310030000.S | F151: Izolačné púzdro s hliníkovou fóliou, vnútorný priemer 21 mm, hrúbka 20 mm | G151: m | H151: 128.94 | I151: 3.62 | J151: =ROUND(I151*H151,2) | K151: CENEKON 2026/02 | N151: základná | O151: 0 | P151: =O151*H151 | Q151: 0.00019 | R151: =Q151*H151 | S151: 0 | T151: =S151*H151 | AR151: 32 | AT151: M | AU151: 2 | AY151: ROZPOCET | BE151: =IF(N151="základná",J151,0) | BF151: =IF(N151="znížená",J151,0) | BG151: =IF(N151="zákl. prenesená",J151,0) | BH151: =IF(N151="zníž. prenesená",J151,0) | BI151: =IF(N151="nulová",J151,0) | BJ151: 2 | BK151: =ROUND(I151*H151,2) | BL151: 16 | BM151: -1970233160
D152: VV | F152: zhodné s dĺžkou potrubia D 22, V-UK-005 = 128,94 | H152: 128.94 | AT152: VV | AU152: 2 | AV152: 2 | AW152: True | AX152: 1 | AY152: ROZPOCET
C153: 10 | D153: K | E153: 713412111.S | F153: Montáž izolácie tepelnej potrubia puzdrami, potrubie DN 15 - medené rozvody vykurovania D 15 mm | G153: m | H153: 137.16 | I153: 4.63 | J153: =ROUND(I153*H153,2) | K153: CENEKON 2026/02 | N153: základná | O153: 0 | P153: =O153*H153 | Q153: 0 | R153: =Q153*H153 | S153: 0 | T153: =S153*H153 | AR153: 16 | AT153: K | AU153: 2 | AY153: ROZPOCET | BE153: =IF(N153="základná",J153,0) | BF153: =IF(N153="znížená",J153,0) | BG153: =IF(N153="zákl. prenesená",J153,0) | BH153: =IF(N153="zníž. prenesená",J153,0) | BI153: =IF(N153="nulová",J153,0) | BJ153: 2 | BK153: =ROUND(I153*H153,2) | BL153: 16 | BM153: 1256979894
D154: VV | F154: zhodné s dĺžkou potrubia D 15, V-UK-006 = 137,16 | H154: 137.16 | AT154: VV | AU154: 2 | AV154: 2 | AW154: True | AX154: 1 | AY154: ROZPOCET
C155: 11 | D155: M | E155: 283310028000.S | F155: Izolačná trubica elastomérová 15 x 19 mm | G155: m | H155: 137.16 | I155: 4.21 | J155: =ROUND(I155*H155,2) | K155: CENEKON 2026/02 | N155: základná | O155: 0 | P155: =O155*H155 | Q155: 9e-05 | R155: =Q155*H155 | S155: 0 | T155: =S155*H155 | AR155: 32 | AT155: M | AU155: 2 | AY155: ROZPOCET | BE155: =IF(N155="základná",J155,0) | BF155: =IF(N155="znížená",J155,0) | BG155: =IF(N155="zákl. prenesená",J155,0) | BH155: =IF(N155="zníž. prenesená",J155,0) | BI155: =IF(N155="nulová",J155,0) | BJ155: 2 | BK155: =ROUND(I155*H155,2) | BL155: 16 | BM155: 842880400
D156: VV | F156: zhodné s dĺžkou potrubia D 15, V-UK-006 = 137,16 | H156: 137.16 | AT156: VV | AU156: 2 | AV156: 2 | AW156: True | AX156: 1 | AY156: ROZPOCET
D157: D | E157: 721 | F157: Zdravotechnika - vnútorná kanalizácia | J157: =BK157 | P157: =SUM(P158:P173) | R157: =SUM(R158:R173) | T157: =SUM(T158:T173) | AR157: 2 | AT157: D | AU157: 1 | AY157: ROZPOCET | BK157: =SUM(BK158:BK173)
C158: 12 | D158: K | E158: 721175015.S | F158: Montáž zápachového uzáveru na odvod kondenzátu od kazetových jednotiek | G158: ks | H158: 12 | I158: 11.1 | J158: =ROUND(I158*H158,2) | K158: CENEKON 2026/02 | N158: základná | O158: 0 | P158: =O158*H158 | Q158: 0 | R158: =Q158*H158 | S158: 0 | T158: =S158*H158 | AR158: 16 | AT158: K | AU158: 2 | AY158: ROZPOCET | BE158: =IF(N158="základná",J158,0) | BF158: =IF(N158="znížená",J158,0) | BG158: =IF(N158="zákl. prenesená",J158,0) | BH158: =IF(N158="zníž. prenesená",J158,0) | BI158: =IF(N158="nulová",J158,0) | BJ158: 2 | BK158: =ROUND(I158*H158,2) | BL158: 16 | BM158: 1137226759
D159: VV | F159: 1 ks na každú z 12 kazetových jednotiek | H159: 12 | AT159: VV | AU159: 2 | AV159: 2 | AW159: True | AX159: 1 | AY159: ROZPOCET
C160: 13 | D160: M | E160: 551620015300.S | F160: Zápachová uzávierka kondenzačná DN 40 pre vetranie a klimatizáciu | G160: ks | H160: 12 | I160: 46.03 | J160: =ROUND(I160*H160,2) | K160: CENEKON 2026/02 | N160: základná | O160: 0 | P160: =O160*H160 | Q160: 0.00023 | R160: =Q160*H160 | S160: 0 | T160: =S160*H160 | AR160: 32 | AT160: M | AU160: 2 | AY160: ROZPOCET | BE160: =IF(N160="základná",J160,0) | BF160: =IF(N160="znížená",J160,0) | BG160: =IF(N160="zákl. prenesená",J160,0) | BH160: =IF(N160="zníž. prenesená",J160,0) | BI160: =IF(N160="nulová",J160,0) | BJ160: 2 | BK160: =ROUND(I160*H160,2) | BL160: 16 | BM160: 664918079
D161: VV | F161: 1 ks na každú z 12 kazetových jednotiek | H161: 12 | AT161: VV | AU161: 2 | AV161: 2 | AW161: True | AX161: 1 | AY161: ROZPOCET
C162: 14 | D162: K | E162: 721175006.S | F162: Montáž PVC potrubia na odvod kondenzátu D 20 mm od kazetových klimatizačných jednotiek | G162: m | H162: 120 | I162: 4.99 | J162: =ROUND(I162*H162,2) | K162: CENEKON 2026/02 | N162: základná | O162: 0 | P162: =O162*H162 | Q162: 0 | R162: =Q162*H162 | S162: 0 | T162: =S162*H162 | AR162: 16 | AT162: K | AU162: 2 | AY162: ROZPOCET | BE162: =IF(N162="základná",J162,0) | BF162: =IF(N162="znížená",J162,0) | BG162: =IF(N162="zákl. prenesená",J162,0) | BH162: =IF(N162="zníž. prenesená",J162,0) | BI162: =IF(N162="nulová",J162,0) | BJ162: 2 | BK162: =ROUND(I162*H162,2) | BL162: 16 | BM162: -258561521
D163: VV | F163: 12 kazetových jednotiek x 10,00 m po podhľade k najbližšiemu odpadu = 120,00 | H163: 120 | AT163: VV | AU163: 2 | AV163: 2 | AW163: True | AX163: 1 | AY163: ROZPOCET
C164: 15 | D164: M | E164: 286120017030.S | F164: Hadica PVC pre odvod kondenzátu D 20 mm | G164: m | H164: 120 | I164: 1.25 | J164: =ROUND(I164*H164,2) | K164: CENEKON 2026/02 | N164: základná | O164: 0 | P164: =O164*H164 | Q164: 0.00041 | R164: =Q164*H164 | S164: 0 | T164: =S164*H164 | AR164: 32 | AT164: M | AU164: 2 | AY164: ROZPOCET | BE164: =IF(N164="základná",J164,0) | BF164: =IF(N164="znížená",J164,0) | BG164: =IF(N164="zákl. prenesená",J164,0) | BH164: =IF(N164="zníž. prenesená",J164,0) | BI164: =IF(N164="nulová",J164,0) | BJ164: 2 | BK164: =ROUND(I164*H164,2) | BL164: 16 | BM164: -152561292
D165: VV | F165: dodávka k montáži: 12 jednotiek x 10,00 m = 120,00 | H165: 120 | AT165: VV | AU165: 2 | AV165: 2 | AW165: True | AX165: 1 | AY165: ROZPOCET
...

Sheet SO 04 - Vzduchotechnika
AT2: {59ba7e6f-7648-4848-a28b-ca27bbfb8b1e}
AT3: 1
D4: KRYCÍ LIST SÚPISU PRÁC | M4: v --- nižšie sa nachádzajú doplnkové a pomocné údaje k zostavám --- v | AT4: False
D6: Stavba:
E7: ='Rekapitulácia stavby'!K6
D8: Objekt:
E9: SO 04 - Vzduchotechnika
D11: KSO: | I11: CC-SK:
D12: Miesto: | F12: Trnavský kraj | I12: Dátum: | J12: ='Rekapitulácia stavby'!AN8
D14: Zadávateľ: | I14: IČO:
E15: Anonymizované | I15: IČ DPH:
D17: Zhotoviteľ: | I17: IČO: | J17: =IF('Rekapitulácia stavby'!AN13="","",'Rekapitulácia stavby'!AN13)
E18: =IF('Rekapitulácia stavby'!E14="","",'Rekapitulácia stavby'!E14) | I18: IČ DPH: | J18: =IF('Rekapitulácia stavby'!AN14="","",'Rekapitulácia stavby'!AN14)
D20: Projektant: | I20: IČO:
I21: IČ DPH:
D23: Spracovateľ: | I23: IČO:
I24: IČ DPH:
D26: Poznámka:
E27: Digestory sú podľa legendy výkresov dodávkou investora (podľa jeho výberu) a v rozpočte nie sú; ich spätná klapka je súčasťou digestora. Prierez potrubia DN 160 (0,020 m2) a DN 125 (0,012 m2) je menší ako 0,04 m2, preto podľa technickej správy požiarnej bezpečnosti (str. 4) nie je v mieste prestupu potrebná požiarna klapka; prestupy sa iba utesňujú protipožiarnou upchávkou - tie sú v súpise požiarnej ochrany. Prívod vzduchu do odvetrávaných miestností rieši technická správa bezprahovými dverami, alternatívne dverovými mriežkami. Bezprahové dvere sú súčasťou stavebnej časti, preto v súpise vzduchotechniky prívodné prvky nie sú. Prestup strešným plášťom pri stúpačkách vzduchotechniky vrátane manžety a napojenia na hydroizoláciu je súčasťou strešného plášťa stavebnej časti; v súpise vzduchotechniky je výfuková hlavica, nie prestup. Úplné znenie poznámok je na liste Poznámky k rozpočtu. S čím počítame (predpoklady, ktoré si môžete upraviť jedným číslom; druhá varianta je pri každom uvedená): P-1: Zariaďovacie predmety sú ocenené v bežnom katalógovom štandarde; presný typ určuje podľa technickej správy investor. Vyšší štandard vybavenia by cenu zariaďovacích predmetov zvýšil rádovo o jednotky percent. Presnú cenu určí až výber konkrétnych výrobkov objednávateľom. P-2: Vsakovací objekt je ocenený v rozmeroch podľa výkresu 003, hoci technická správa ich označuje za informatívne (chýba hydrogeologický prieskum). Úprava objemu vsakovacích blokov po hydrogeologickom prieskume je druhá varianta; cena sa mení úmerne počtu blokov, jeden blok je 57,76 EUR. P-3: Vykurovanie je spracované znovu z projektovej dokumentácie; pracovný výkaz výmer objednávateľa slúžil len ako kontrola rozsahu. Nadviazanie na pracovný výkaz objednávateľa je možné na vyžiadanie, bez zmeny ceny. P-4: Súpis je dodaný vo formáte KROS Export Komplet 2.0 na import do CENKROSu; práce a služby sú vedené ako typ K, materiály a výrobky ako typ M. Slepé výkazy výmer bez cien boli dodané s predchádzajúcou verziou rozpočtu a platia bez zmeny. P-5: Technológia výťahu nie je v rozsahu; elektro obsahuje prívod a rozvádzač RV. Doplnenie technológie výťahu je druhá varianta; ocení sa po dodaní ponuky výrobcu. Cenu určí ponuka výrobcu výťahu. P-6: Búracie práce a demontáže jestvujúcich rozvodov sú súčasťou stavebnej časti, ktorú spracováva objednávateľ. Doplnenie demontáží profesií je druhá varianta; ocení sa po dodaní výkresu jestvujúceho stavu. Cenu určí rozsah podľa výkresu jestvujúceho stavu. P-7: Odvodnenie plochej strechy je vonkajšími žľabmi a zvodovými rúrami podľa legendy výkresu strechy; klampiarske práce sú súčasťou stavebnej časti a dažďová kanalizácia na ne nadväzuje deviatimi prípojmi v zemi. Variant s vnútornými strešnými vtokmi je vyčíslený pri rozpore R-3 (+4 924 EUR). P-8: Skládka pre prebytočný výkopok je uvažovaná do 10 km; skutočnú vzdialenosť určí zhotoviteľ. Vzdialenejšia skládka je druhá varianta; každý ďalší kilometer je 0,55 EUR na tonu. P-9: Vetracie hlavice vzduchotechniky sú uvažované 0,50 m nad strechou; výkres výšku nekótuje. Vyššie vyvedenie hlavíc nad strechu by súpis zvýšilo do 100 EUR. P-10: Dimenzie medených rozvodov vykurovania nie sú v dokumentácii uvedené; uvažované D 22 mm od hydraulického modulu k rozdeľovaču a D 15 mm k rebríkovým telesám. Jednotná dimenzia D 22 mm by súpis zmenila do 1 300 EUR. P-12: Vnútorné rozvody vody sú podľa označení na pôdorysoch rozdelené na DN 15 (60 %) a DN 20 (40 %). Celý rozvod v DN 20 by súpis zvýšil do 900 EUR. P-13: Vodorovná vnútorná kanalizácia je podľa označení na pôdorysoch rozdelená na DN 110 (30 %) a DN 50 (70 %). Vyšší podiel DN 110 by súpis zvýšil do 1 500 EUR. P-14: Objem elektrických zásobníkových ohrievačov pre nebytové priestory nie je určený; uvažovaný objem 80 l. Zásobníky s objemom 120 l by súpis zvýšili do 600 EUR. P-15: Dĺžka káblov CHKE-V 5x6 mm2 k podružným rozvádzačom je odvodená z geometrie objektu (priemerná vzdialenosť po chodbe pri rovnomernom rozmiestnení 38 rozvádzačov). Meranie podľa skutočnej trasy po dodaní realizačnej dokumentácie je druhá varianta; odchýlka 10 % dĺžky znamená 798 EUR na kábli a 230 EUR na pospájaní. P-16: Jestvujúce distribučné vedenie NN sa vyťahuje z ryhy nového vedenia; samostatný výkop pre demontáž sa nevykazuje. Samostatný výkop pre demontáž 20 m by súpis zvýšil orientačne do 200 EUR. P-17: Veľkostný typ jestvujúcej istiacej a rozpojovacej skrine SR dokumentácia neuvádza; pre demontáž je uvažovaný rovnaký typ SR 7 ako nová skriňa. Menší typ skrine by súpis znížil o 8 EUR. P-18: Schémy rozvádzačov kreslia pri každom podružnom rozvádzači prípojnicu HUP s vodičom CYA 16 mm2; v súpise je 38 prípojníc a vodič vedený súbežne s prívodom každého rozvádzača. Spoločná prípojnica na podlaží namiesto prípojnice pri každom rozvádzači by súpis znížila približne o 2 000 EUR. P-19: Dĺžka doplnkového pospájania na jedno miesto (kúpeľňa, kuchyňa, strojovňa) je uvažovaná 5,00 m. Dlhšie trasy doplnkového pospájania by súpis zvýšili do 300 EUR. P-20: Vybavenie výťahovej šachty elektroinštaláciou (dve svietidlá, spínač a servisná zásuvka) vychádza z požiadaviek na obsluhu šachty; vlastná technológia výťahu v súpise nie je. Ak vybavenie výťahovej šachty dodá výrobca výťahu, súpis sa zníži o 270 EUR. P-21: Projekt predpisuje káble CHKE-R; cenová sústava obsahuje ekvivalent CHKE-V s rovnakým prierezom, ktorým je položka ocenená. Doložená ponuka na pôvodný typ CHKE-R je druhá varianta; rozdiel sa prejaví v cene materiálu. Cenu určí ponuka dodávateľa káblov. P-22: Dĺžky vývodov z rozvádzača RE (CENTRAL STOP, RV, SV1, SV2) sú odvodené z geometrie objektu rovnako ako dĺžky prívodov k podružným rozvádzačom. Meranie vývodov podľa skutočnej trasy je druhá varianta; odchýlka 10 % dĺžky znamená 55 EUR. P-23: Dĺžka káblového žľabu je odvodená z chodbového rozvodu po dĺžke objektu na každom podlaží a zvislej stúpačky od rozvádzača RE. Káblový žľab aj vo vetvách k jednotlivým rozvádzačom by súpis zvýšil do 4 500 EUR. P-24: Cenová sústava obsahuje najbližšiu výzbroj istiacej skrine SR 7; presný typ predpísaný technickou správou sa doloží ponukou dodávateľa. Doložená ponuka na presný typ skrine HASMA je druhá varianta. Cenu určí ponuka dodávateľa skríň. P-25: Zvody bleskozvodu sú zabudované do zatepľovacieho systému a montujú sa spolu s fasádou; lešenie pre ne je súčasťou stavebnej časti. Samostatné lešenie alebo montážna plošina pre zvody by súpis zvýšili o 1 500 až 3 000 EUR. P-27: Podiel ručného výkopu káblovej ryhy v súbehu so sieťami je uvažovaný 10 % dĺžky. Vyšší podiel ručného výkopu by súpis zvýšil do 600 EUR. P-29: Počet zemniacich tyčí pre uzemnenie skrine SR a rozvádzača RE je uvažovaný tri tyče po 2 m na zariadenie. Doplnenie zemniacich tyčí podľa skutočne nameraného odporu je druhá varianta; jedna tyč s montážou je 64 EUR. P-30: Počet vodovodných stúpačiek je uvažovaný deväť, rovnako ako hlavných kanalizačných stúpačiek. Iný počet vodovodných stúpačiek by zmenil cenu upchávok do 400 EUR. P-31: Hĺbka ryhy areálovej splaškovej kanalizácie je uvažovaná 1,50 m; dokumentácia hĺbku neuvádza. Šírka ryhy 1,10 m, lôžko 0,17 m3/bm a obsyp 0,52 m3/bm sú prevzaté z tabuľky v detaile uloženia potrubia. Hĺbka ryhy 1,80 m by výkop, paženie a zásyp zvýšila približne o 900 EUR. P-32: Dĺžka odvodu kondenzátu od jednej kazetovej jednotky je uvažovaná 10,00 m. Kratšie trasy odvodu kondenzátu by súpis znížili do 300 EUR. P-33: Výkon elektrických konvektorov pre zázemie nájomných priestorov dokumentácia neuvádza; uvažovaný je 1 000 W na miestnosť. Pracovný výkaz výmer objednávateľa uvažuje konvektory 500 W; menší výkon by súpis znížil približne o 250 EUR. Konvektory s výkonom 1 500 W by súpis zvýšili o 102 EUR. P-34: Rozsah oceľovej podpernej konštrukcie kondenzačných jednotiek na streche upresní statická časť, ktorá nie je súčasťou odovzdanej dokumentácie; položka je ocenená ako strešná pozinkovaná konzola na jednu jednotku. Rámová konštrukcia podľa statiky namiesto strešnej konzoly by súpis zvýšila o 150 až 1 700 EUR. P-35: Zriadenie prestupov jestvujúcimi železobetónovými stropmi pripravuje zhotoviteľ stavebnej časti podľa koordinačných výkresov profesií; v tomto súpise je len ich utesnenie. Jadrové vrty v našom súpise, 128 prestupov, by súpis zvýšili orientačne o 3 000 až 5 000 EUR. P-36: Doba montáže šiestich profesií je uvažovaná 6 mesiacov; harmonogram stavby v podkladoch nie je. Vychádza z nej prenájom buniek a mobilného WC. Deväť mesiacov montáže namiesto šiestich by zariadenie staveniska zvýšilo o 1 894 EUR. P-37: Počet kontajnerov na odpad z montážnych prác je uvažovaný štyri. Šesť kontajnerov namiesto štyroch by súpis zvýšilo o 220 EUR. P-38: Vzdialenosť mimostaveniskovej dopravy je uvažovaná do 50 km. Mimostavenisková doprava na 100 km by súpis zvýšila o 866 EUR. P-39: Skrine elektromerového rozvádzača RE sú ocenené v rade OEZ QA55 s krytím IP55 v rozmeroch podľa výkresu 210 (1 ks 800x400x1800 mm a 2 ks 1200x400x1800 mm) vrátane podstavcov, horných krytov a montážnych panelov; výkres predpisuje výrobcu OEZ a krytie IP65, IP55 je najvyššie krytie radových rozvádzačových skríň tohto výrobcu v cenovej sústave. Horný kryt skrine je v cenovej sústave len vo ventilovanom vyhotovení. Atypická skriňa IP65 na zákazku by súpis zvýšila o 600 až 1 500 EUR. P-40: Ovládanie kazetových klimatizačných jednotiek je uvažované infračerveným diaľkovým ovládačom, ktorý je súčasťou dodávky jednotky; technická správa pripúšťa aj nástenné káblové ovládače, tie by súpis zvýšili o 12 ovládačov s montážou. Káblové ovládače klimatizácie cenová sústava neobsahuje, cenu určí ponuka dodávateľa jednotiek. P-41: Prípojnicový systém rozvádzača RE je ocenený piatimi medenými pásmi 30 x 5 mm (L1, L2, L3, N, PE) po šírke zostavy skríň, spolu 16,00 m, so zaťažiteľnosťou 379 až 450 A. Výkres rozvádzača uvádza pri hlavnom ističi dve hodnoty, 630 A a 380 A, a súpis je zostavený na nižšiu z nich. Vyhotovenie na plných 630 A znamená zdvojenie fázových pásov, čo by súpis zvýšilo o 359,14 EUR. P-42: Tepelné izolácie medených rozvodov vykurovania sú ocenené hrúbkou 20 mm pre potrubie D 22 a 19 mm pre D 15, pretože rozvody vedú v podlahovej konštrukcii a v šachtách; voľne vedené úseky by podľa technickej správy mali hrúbku 25 až 30 mm. Voľne vedené úseky v hrúbke 25 až 30 mm by pri celej dĺžke 266,10 m súpis zvýšili približne o 2 100 EUR. P-43: Vodorovné trasy vnútornej kanalizácie sú ocenené ako potrubie HT z PP v celej dĺžke; ak sa zvodová časť zhotoví z PVC KG podľa technickej správy, cena sa zníži približne o 26 EUR. P-44: Hĺbka ryhy areálového vodovodu je uvažovaná 1,20 m; technická správa uvádza len šírku ryhy 60 cm, lôžko 15 cm a obsyp 30 cm, hĺbku neuvádza. Hĺbka ryhy vodovodu 1,50 m by výkop, paženie, zásyp a odvoz zvýšila približne o 600 EUR. P-45: Revízne šachty sú ocenené ako prefabrikované: dodávka dna s kynetou, skruží, kónusu a vyrovnávacieho prstenca a osadenie jednotlivých dielcov. Zhotovenie šachiet s obložením dna betónom na mieste namiesto prefabrikovaného dna by súpis zvýšilo približne o 4 800 EUR. P-46: Napojenie vodovodnej prípojky na verejný vodovod a zaústenie kanalizačnej prípojky do verejnej stoky vykonáva prevádzkovateľ verejnej siete na náklady investora; dokumentácia neuvádza dimenziu ani materiál verejných potrubí, preto tieto práce v súpise nie sú. Vystrojenie vodomernej šachty vrátane fakturačného vodomeru DN 50 v súpise je. Navŕtavací pás alebo T-kus so zemnou súpravou v našom súpise by ho zvýšil o 300 až 800 EUR podľa dimenzie verejného radu. P-47: Revízne šachty sú zostavené z dielcov, ktoré cenová sústava ponúka: dno s kynetou výšky 700 mm, kónus 1000/600 výšky 576 mm a vyrovnávací prstenec do 100 mm. Výkres kótuje dno 680 mm a kónus 630 mm; rozdiel 34 mm na šachtu vyrovná vyrovnávací prstenec a maltové lôžka spojov. Dielce šachiet presne podľa výkresu na zákazku by ich cenu zvýšili o 10 až 15 %. P-48: Zvislé trasy sú predĺžené o ležatý zvod 0,80 m pod podlahou 1.NP, o 0,50 m k odbočke na poslednom podlaží a o 1,00 m vyvedenia kanalizačného odvetrania nad strechu; dokumentácia tieto rozmery nekótuje. Bez prídavkov zvislých trás by sa súpis znížil približne o 1 900 EUR. P-49: Podklad pod vonkajšie jednotky tepelných čerpadiel (betónová pätka alebo rámový podstavec) dokumentácia nepredpisuje; technická správa uvádza antivibračné silentbloky len pri kondenzačných jednotkách klimatizácie, ktoré sú v súpise. Podklad pod tepelné čerpadlá je preto uvažovaný ako súčasť stavebnej časti. Rámový podstavec výrobcu pod 27 vonkajších jednotiek by súpis zvýšil približne o 11 600 EUR. P-50: Rozmer otvoru pri prestupe kábla požiarne deliacou konštrukciou dokumentácia neurčuje; uvažovaný je jadrový vrt D 150 mm na jeden prívodný kábel, teda trieda tesnenia do 0,1 m2. Ak sa prestupy zhotovia ako otvory nad 0,1 m2, súpis sa zvýši približne o 1 023 EUR. P-51: Dĺžku odvodu odmrazovacej vody od vonkajších jednotiek tepelných čerpadiel a odvodu od poistných výtokov zásobníkov dokumentácia neurčuje; uvažované sú 3,00 m na jednotku a 2,00 m na bytovú sústavu. Dvojnásobné dĺžky by súpis zvýšili približne o 840 EUR. P-52: Cenová sústava CENEKON nemá triedu pre prepláchnutie a napustenie sústavy s podlahovým vykurovaním ani pre funkčnú vykurovaciu skúšku podľa STN EN 1264-4; obidva kroky sú preto ocenené hodinovou sadzbou montéra a počet hodín je uvažovaný 2,00 hod na napustenie a 3,00 hod na vykurovaciu skúšku jednej bytovej sústavy. Dvojnásobný počet hodín by súpis zvýšil približne o 2 700 EUR. P-53: Plocha na vyčistenie budovy po montážnych prácach je uvažovaná ako hrubá podlahová plocha, teda zastavaná plocha 742,85 m2 krát štyri podlažia. Ak sa vykáže len čistá podlahová plocha bez konštrukcií (približne 85 %), súpis sa zníži približne o 2 890 EUR. P-54: Objemová hmotnosť zmiešaného stavebného odpadu z montážnych prác je uvažovaná 0,15 t/m3; skutočnú hmotnosť určí váženie na skládke. Dvojnásobná hmotnosť by súpis zvýšila približne o 840 EUR. P-55: Počty tvarovok potrubia spiro (27 kolien DN 125, 44 kolien DN 160, 50 T-kusov a 27 prechodov) sú dopočítané z topológie rozvodu, pretože výkresy tvarovky nekótujú. Odchýlka 20 % by súpis zmenila približne o 490 EUR. P-56: Zvody bleskozvodu sú ocenené izolovaným hliníkovým drôtom AlMgSi Ø 8 mm PVC podľa legendy výkresu bleskozvodu a sú vedené v ochrannej rúrke pod omietkou, ako predpisuje technická správa; hliník so zachytávacou sústavou netvorí galvanický pár, takže náter zvodu odpadá. Variant s neizolovaným drôtom v samotnej ochrannej rúrke by súpis znížil o 113 EUR. P-57: Rozsah ochranného zábradlia okolo otvorených výkopov je uvažovaný po jednej strane ryhy v celej dĺžke, teda 317,30 m; technické správy zaistenie výkopov predpisujú, rozsah neurčujú. Zábradlie po oboch stranách by súpis zvýšilo približne o 2 504 EUR. P-58: Dĺžka pripojovacieho potrubia kondenzátu od zápachových uzávierok vzduchotechniky do kanalizácie je uvažovaná 2,00 m na jednu uzávierku; dokumentácia trasu neurčuje. Dvojnásobná dĺžka by súpis zvýšila približne o 225 EUR. P-59: Doplnenie chladiva R32 nad výrobnú náplň nie je v súpise: priemerná dĺžka chladivovej dvojice na jeden okruh je 21,4 m, čo je na hranici bežnej výrobnej náplne split jednotiek. Ak výrobca zvolenej jednotky predplní kratšiu trasu, doplnenie chladiva by súpis zvýšilo približne o 130 až 250 EUR. P-60: Prívod vzduchu do odvetrávaných miestností je podľa technickej správy riešený bezprahovými dverami, ktoré sú súčasťou stavebnej časti. Ak sa namiesto nich osadia dverové mriežky, súpis vzduchotechniky sa zvýši približne o 1 200 EUR. P-61: Dĺžky vnútorných káblov vychádzajú z počtu obvodov podľa schémy bytového rozvádzača (dva obvody 3x1,5, sedem 3x2,5 a dva 5x2,5) a z trasy odmeranej z pôdorysov silnoprúdu. Uvažuje sa, že každý obvod prejde v priemere polovicou spoločnej trasy a že na každý prístrojový bod pripadá 0,80 m zvislého úseku, ktorý pôdorys nezobrazuje. Plný prechod trasou u každého obvodu by súpis zvýšil približne o 6 500 EUR. P-62: Tepelné izolácie rozvodov vody sú ocenené v katalógových hrúbkach 9 mm pre studenú a 19 mm pre teplú vodu; technická správa uvádza 10 a 20 mm, cenová sústava tieto hrúbky pre dané priemery nemá. Bližšia hrúbka v sústave nie je, cena sa tým nemení. P-63: Komplexné vyskúšanie a zaregulovanie vzduchotechniky je ocenené sadzbou za celé zariadenie, teda 241,21 EUR; počet ventilátorov a meracích bodov cenník neurčuje. Ocenenie podľa hodinovej sadzby, teda 60 hodín, by súpis zvýšilo o 793,79 EUR. P-64: Závesy a objímky potrubí zdravotechniky nie sú samostatnou položkou, pretože montážne položky potrubia obsahujú potrubnú objímku a skrutky na každý meter. Technická správa predpisuje značkový závesný systém; ak sa má oceniť samostatne, doplní sa po cenovej ponuke dodávateľa. P-65: Značenie potrubia podľa STN 13 0072 je ocenené jedným štítkom na každú vodovodnú stúpačku na každom podlaží, spolu 36 kusov; technická správa počet a rozmiestnenie štítkov neurčuje. Hustejšie značenie aj na ležatých rozvodoch a armatúrach by súpis zvýšilo o 199,08 EUR. P-66: Vytýčenie jestvujúcich podzemných vedení je ocenené jedným vytyčovacím bodom na každú z piatich sietí vedených areálom; situácia počet vytyčovacích bodov neurčuje. Vytýčenie po celej dĺžke rýh, teda 23 bodov ako pri nových trasách, by súpis zvýšilo o 486,00 EUR. P-67: Izolačné držiaky prípojníc rozvádzača RE sú ocenené v rozstupe 0,50 m po šírke zostavy skríň, teda 7 kusov; výkres rozstup podopretia neurčuje. Hustejší rozstup 0,35 m, teda 10 kusov, by súpis zvýšil o 93,00 EUR.
D30: Cena bez DPH | J30: =ROUND(J122, 2)
F32: Základ dane | I32: Sadzba dane | J32: Výška dane
D33: DPH | E33: základná | F33: =ROUND((SUM(BE122:BE200)), 2) | I33: 0.23 | J33: =ROUND(((SUM(BE122:BE200))*I33), 2)
E34: znížená | F34: =ROUND((SUM(BF122:BF200)), 2) | I34: 0.19 | J34: =ROUND(((SUM(BF122:BF200))*I34), 2)
E35: zákl. prenesená | F35: =ROUND((SUM(BG122:BG200)), 2) | I35: 0.23 | J35: =0
E36: zníž. prenesená | F36: =ROUND((SUM(BH122:BH200)), 2) | I36: 0.19 | J36: =0
E37: nulová | F37: =ROUND((SUM(BI122:BI200)), 2) | I37: 0 | J37: =0
D39: Cena s DPH | G39: v | H39: EUR | J39: =SUM(J30:J37)
D50: Projektant | G50: Spracovateľ
D61: Dátum a podpis: | F61: Pečiatka | G61: Dátum a podpis: | J61: Pečiatka
D65: Objednávateľ | G65: Zhotoviteľ
D76: Dátum a podpis: | F76: Pečiatka | G76: Dátum a podpis: | J76: Pečiatka
C82: REKAPITULÁCIA ČLENENIA SÚPISU PRÁC
C84: Stavba:
E85: =E7
C86: Objekt:
E87: =E9
C89: Miesto: | F89: =F12 | I89: Dátum: | J89: =IF(J12="","",J12)
C91: Zadávateľ: | F91: =E15 | I91: Projektant: | J91: =E21
C92: Zhotoviteľ: | F92: =IF(E18="","",E18) | I92: Spracovateľ: | J92: =E24
C94: Kód dielu - Popis | J94: Cena celkom [EUR]
C96: Náklady zo súpisu prác | J96: =J122 | AU96: -1
D97: HSV - Práce a dodávky HSV | J97: =J123
D98: 998 - Presun hmôt | J98: =J124
D99: PSV - Práce a dodávky PSV | J99: =J131
D100: 713 - Izolácie tepelné | J100: =J132
D101: 721 - Zdravotechnika - vnútorná kanalizácia | J101: =J139
D102: 769 - Diel 769 | J102: =J148
C109: SÚPIS PRÁC
C111: Stavba:
E112: =E7
C113: Objekt:
E114: =E9
C116: Miesto: | F116: =F12 | I116: Dátum: | J116: =IF(J12="","",J12)
C118: Zadávateľ: | F118: =E15 | I118: Projektant: | J118: =E21
C119: Zhotoviteľ: | F119: =IF(E18="","",E18) | I119: Spracovateľ: | J119: =E24
C121: PČ | D121: Typ | E121: Kód | F121: Popis | G121: MJ | H121: Množstvo | I121: J.cena [EUR] | J121: Cena celkom [EUR] | K121: Cenová sústava | N121: DPH | O121: J. Nh [h] | P121: Nh celkom [h] | Q121: J. hmotnosť [t] | R121: Hmotnosť celkom [t] | S121: J. suť [t] | T121: Suť celkom [t]
C122: Náklady súpisu celkom | J122: =BK122 | P122: =P123+P131 | R122: =R123+R131 | T122: =T123+T131 | AT122: D | AU122: -1 | BK122: =BK123+BK131
D123: D | E123: HSV | F123: Práce a dodávky HSV | J123: =BK123 | P123: =P124 | R123: =R124 | T123: =T124 | AR123: 1 | AT123: D | AU123: 0 | AY123: ROZPOCET | BK123: =BK124
D124: D | E124: 998 | F124: Presun hmôt | J124: =BK124 | P124: =SUM(P125:P130) | R124: =SUM(R125:R130) | T124: =SUM(T125:T130) | AR124: 1 | AT124: D | AU124: 1 | AY124: ROZPOCET | BK124: =SUM(BK125:BK130)
C125: 1 | D125: K | E125: 998769203.S | F125: Presun hmôt pre montáž vzduchotechnických zariadení vo výške nad 7 do 24 m | G125: % | H125: 167.85 | I125: 1.8 | J125: =ROUND(I125*H125,2) | K125: CENEKON 2026/02 | N125: základná | O125: 0 | P125: =O125*H125 | Q125: 0 | R125: =Q125*H125 | S125: 0 | T125: =S125*H125 | AR125: 4 | AT125: K | AU125: 2 | AY125: ROZPOCET | BE125: =IF(N125="základná",J125,0) | BF125: =IF(N125="znížená",J125,0) | BG125: =IF(N125="zákl. prenesená",J125,0) | BH125: =IF(N125="zníž. prenesená",J125,0) | BI125: =IF(N125="nulová",J125,0) | BJ125: 2 | BK125: =ROUND(I125*H125,2) | BL125: 4 | BM125: -596422943
D126: VV | F126: 1.8 % zo základne oddielu 769 Montáže vzduchotechnických zariadení: 16784.59 EUR / 100 | H126: 167.85 | AT126: VV | AU126: 2 | AV126: 2 | AW126: True | AX126: 1 | AY126: ROZPOCET
C127: 2 | D127: K | E127: 998713203.S | F127: Presun hmôt pre izolácie tepelné v objektoch výšky nad 12 do 24 m | G127: % | H127: 7.37 | I127: 1.55 | J127: =ROUND(I127*H127,2) | K127: CENEKON 2026/02 | N127: základná | O127: 0 | P127: =O127*H127 | Q127: 0 | R127: =Q127*H127 | S127: 0 | T127: =S127*H127 | AR127: 4 | AT127: K | AU127: 2 | AY127: ROZPOCET | BE127: =IF(N127="základná",J127,0) | BF127: =IF(N127="znížená",J127,0) | BG127: =IF(N127="zákl. prenesená",J127,0) | BH127: =IF(N127="zníž. prenesená",J127,0) | BI127: =IF(N127="nulová",J127,0) | BJ127: 2 | BK127: =ROUND(I127*H127,2) | BL127: 4 | BM127: 1349811547
D128: VV | F128: 1.55 % zo základne oddielu 713 Izolácie tepelné: 736.58 EUR / 100 | H128: 7.37 | AT128: VV | AU128: 2 | AV128: 2 | AW128: True | AX128: 1 | AY128: ROZPOCET
C129: 3 | D129: K | E129: 998721203.S | F129: Presun hmôt pre vnútornú kanalizáciu v objektoch výšky nad 12 do 24 m | G129: % | H129: 12.53 | I129: 1.1 | J129: =ROUND(I129*H129,2) | K129: CENEKON 2026/02 | N129: základná | O129: 0 | P129: =O129*H129 | Q129: 0 | R129: =Q129*H129 | S129: 0 | T129: =S129*H129 | AR129: 4 | AT129: K | AU129: 2 | AY129: ROZPOCET | BE129: =IF(N129="základná",J129,0) | BF129: =IF(N129="znížená",J129,0) | BG129: =IF(N129="zákl. prenesená",J129,0) | BH129: =IF(N129="zníž. prenesená",J129,0) | BI129: =IF(N129="nulová",J129,0) | BJ129: 2 | BK129: =ROUND(I129*H129,2) | BL129: 4 | BM129: 95802844
D130: VV | F130: 1.1 % zo základne oddielu 721 Vnútorná kanalizácia: 1252.98 EUR / 100 | H130: 12.53 | AT130: VV | AU130: 2 | AV130: 2 | AW130: True | AX130: 1 | AY130: ROZPOCET
D131: D | E131: PSV | F131: Práce a dodávky PSV | J131: =BK131 | P131: =P132+P139+P148 | R131: =R132+R139+R148 | T131: =T132+T139+T148 | AR131: 2 | AT131: D | AU131: 0 | AY131: ROZPOCET | BK131: =BK132+BK139+BK148
D132: D | E132: 713 | F132: Izolácie tepelné | J132: =BK132 | P132: =SUM(P133:P138) | R132: =SUM(R133:R138) | T132: =SUM(T133:T138) | AR132: 2 | AT132: D | AU132: 1 | AY132: ROZPOCET | BK132: =SUM(BK133:BK138)
C133: 4 | D133: K | E133: 713411121.S | F133: Montáž tepelnej izolácie potrubia pásmi s Al fóliou, jednovrstvová - stúpacie potrubia nad strechou a 1 m pod strechou | G133: m2 | H133: 13.57 | I133: 15.22 | J133: =ROUND(I133*H133,2) | K133: CENEKON 2026/02 | N133: základná | O133: 0 | P133: =O133*H133 | Q133: 0.00021 | R133: =Q133*H133 | S133: 0 | T133: =S133*H133 | AR133: 16 | AT133: K | AU133: 2 | AY133: ROZPOCET | BE133: =IF(N133="základná",J133,0) | BF133: =IF(N133="znížená",J133,0) | BG133: =IF(N133="zákl. prenesená",J133,0) | BH133: =IF(N133="zníž. prenesená",J133,0) | BI133: =IF(N133="nulová",J133,0) | BJ133: 2 | BK133: =ROUND(I133*H133,2) | BL133: 16 | BM133: 92469771
D134: VV | F134: izolovaná dĺžka na stúpačku: 0,50 nad strechou + 1,00 pod strechou = 1,50 m | AT134: VV | AU134: 2 | AV134: 2 | AW134: True | AX134: 0 | AY134: ROZPOCET
D135: VV | F135: 18 stúpačiek x 1,50 = 27,00 m | AT135: VV | AU135: 2 | AV135: 2 | AW135: True | AX135: 0 | AY135: ROZPOCET
D136: VV | F136: povrch DN 160: 27,00 x 3,1416 x 0,160 = 13,57 m2 | H136: 13.57 | AT136: VV | AU136: 2 | AV136: 2 | AW136: True | AX136: 1 | AY136: ROZPOCET
C137: 5 | D137: M | E137: 283320008400.S | F137: Izolačný samolepiaci pás z kaučukovej peny hr. 19 mm (Hrúbka 19 mm s AL polepom podľa technickej správy vzduchotechniky.) | G137: m2 | H137: 13.57 | I137: 39.06 | J137: =ROUND(I137*H137,2) | K137: CENEKON 2026/02 | N137: základná | O137: 0 | P137: =O137*H137 | Q137: 0.00054 | R137: =Q137*H137 | S137: 0 | T137: =S137*H137 | AR137: 32 | AT137: M | AU137: 2 | AY137: ROZPOCET | BE137: =IF(N137="základná",J137,0) | BF137: =IF(N137="znížená",J137,0) | BG137: =IF(N137="zákl. prenesená",J137,0) | BH137: =IF(N137="zníž. prenesená",J137,0) | BI137: =IF(N137="nulová",J137,0) | BJ137: 2 | BK137: =ROUND(I137*H137,2) | BL137: 16 | BM137: -1797551239
D138: VV | F138: zhodné s montážou izolácie, V-VZT-007 = 13,57 | H138: 13.57 | AT138: VV | AU138: 2 | AV138: 2 | AW138: True | AX138: 1 | AY138: ROZPOCET
D139: D | E139: 721 | F139: Zdravotechnika - vnútorná kanalizácia | J139: =BK139 | P139: =SUM(P140:P147) | R139: =SUM(R140:R147) | T139: =SUM(T140:T147) | AR139: 2 | AT139: D | AU139: 1 | AY139: ROZPOCET | BK139: =SUM(BK140:BK147)
C140: 6 | D140: K | E140: 721175015.S | F140: Montáž zápachového uzáveru na odvod kondenzátu z päty stúpacieho potrubia | G140: ks | H140: 18 | I140: 11.1 | J140: =ROUND(I140*H140,2) | K140: CENEKON 2026/02 | N140: základná | O140: 0 | P140: =O140*H140 | Q140: 0 | R140: =Q140*H140 | S140: 0 | T140: =S140*H140 | AR140: 16 | AT140: K | AU140: 2 | AY140: ROZPOCET | BE140: =IF(N140="základná",J140,0) | BF140: =IF(N140="znížená",J140,0) | BG140: =IF(N140="zákl. prenesená",J140,0) | BH140: =IF(N140="zníž. prenesená",J140,0) | BI140: =IF(N140="nulová",J140,0) | BJ140: 2 | BK140: =ROUND(I140*H140,2) | BL140: 16 | BM140: 795974409
D141: VV | F141: 1 ks na každú z 18 stúpačiek | H141: 18 | AT141: VV | AU141: 2 | AV141: 2 | AW141: True | AX141: 1 | AY141: ROZPOCET
C142: 7 | D142: M | E142: 551620015300.S | F142: Zápachová uzávierka kondenzačná DN 40 pre vetranie a klimatizáciu | G142: ks | H142: 18 | I142: 46.03 | J142: =ROUND(I142*H142,2) | K142: CENEKON 2026/02 | N142: základná | O142: 0 | P142: =O142*H142 | Q142: 0.00023 | R142: =Q142*H142 | S142: 0 | T142: =S142*H142 | AR142: 32 | AT142: M | AU142: 2 | AY142: ROZPOCET | BE142: =IF(N142="základná",J142,0) | BF142: =IF(N142="znížená",J142,0) | BG142: =IF(N142="zákl. prenesená",J142,0) | BH142: =IF(N142="zníž. prenesená",J142,0) | BI142: =IF(N142="nulová",J142,0) | BJ142: 2 | BK142: =ROUND(I142*H142,2) | BL142: 16 | BM142: 664918079
D143: VV | F143: 1 ks na každú z 18 stúpačiek | H143: 18 | AT143: VV | AU143: 2 | AV143: 2 | AW143: True | AX143: 1 | AY143: ROZPOCET
C144: 8 | D144: K | E144: 721175006.S | F144: Montáž PVC potrubia na odvod kondenzátu D 20 mm - pripojenie zápachových uzávierok do kanalizácie | G144: m | H144: 36 | I144: 4.99 | J144: =ROUND(I144*H144,2) | K144: CENEKON 2026/02 | N144: základná | O144: 0 | P144: =O144*H144 | Q144: 0 | R144: =Q144*H144 | S144: 0 | T144: =S144*H144 | AR144: 16 | AT144: K | AU144: 2 | AY144: ROZPOCET | BE144: =IF(N144="základná",J144,0) | BF144: =IF(N144="znížená",J144,0) | BG144: =IF(N144="zákl. prenesená",J144,0) | BH144: =IF(N144="zníž. prenesená",J144,0) | BI144: =IF(N144="nulová",J144,0) | BJ144: 2 | BK144: =ROUND(I144*H144,2) | BL144: 16 | BM144: 163076595
D145: VV | F145: 18 zápachových uzávierok x 2,00 m k najbližšiemu zvodu kanalizácie = 36,00 m | H145: 36 | AT145: VV | AU145: 2 | AV145: 2 | AW145: True | AX145: 1 | AY145: ROZPOCET
C146: 9 | D146: M | E146: 286120017030.S | F146: Hadica PVC pre odvod kondenzátu D 20 mm - pripojenie zápachových uzávierok | G146: m | H146: 36 | I146: 1.25 | J146: =ROUND(I146*H146,2) | K146: CENEKON 2026/02 | N146: základná | O146: 0 | P146: =O146*H146 | Q146: 0.00012 | R146: =Q146*H146 | S146: 0 | T146: =S146*H146 | AR146: 32 | AT146: M | AU146: 2 | AY146: ROZPOCET | BE146: =IF(N146="základná",J146,0) | BF146: =IF(N146="znížená",J146,0) | BG146: =IF(N146="zákl. prenesená",J146,0) | BH146: =IF(N146="zníž. prenesená",J146,0) | BI146: =IF(N146="nulová",J146,0) | BJ146: 2 | BK146: =ROUND(I146*H146,2) | BL146: 16 | BM146: -1334540072
D147: VV | F147: dodávka k montážnej položke = 36,00 m | H147: 36 | AT147: VV | AU147: 2 | AV147: 2 | AW147: True | AX147: 1 | AY147: ROZPOCET
D148: D | E148: 769 | F148: Diel 769 | J148: =BK148 | P148: =SUM(P149:P200) | R148: =SUM(R149:R200) | T148: =SUM(T149:T200) | AR148: 2 | AT148: D | AU148: 1 | AY148: ROZPOCET | BK148: =SUM(BK149:BK200)
C149: 10 | D149: K | E149: 769011010.S | F149: Montáž nástenného odsávacieho ventilátora VENT1 veľkosť 150 na stenu vrátane zapojenia na potrubie | G149: ks | H149: 27 | I149: 13.2 | J149: =ROUND(I149*H149,2) | K149: CENEKON 2026/02 | N149: základná | O149: 0 | P149: =O149*H149 | Q149: 0 | R149: =Q149*H149 | S149: 0 | T149: =S149*H149 | AR149: 16 | AT149: K | AU149: 2 | AY149: ROZPOCET | BE149: =IF(N149="základná",J149,0) | BF149: =IF(N149="znížená",J149,0) | BG149: =IF(N149="zákl. prenesená",J149,0) | BH149: =IF(N149="zníž. prenesená",J149,0) | BI149: =IF(N149="nulová",J149,0) | BJ149: 2 | BK149: =ROUND(I149*H149,2) | BL149: 16 | BM149: -274052602
D150: VV | F150: 9 bytov x 3 podlažia (2.NP, 3.NP, 4.NP) = 27 | H150: 27 | AT150: VV | AU150: 2 | AV150: 2 | AW150: True | AX150: 1 | AY150: ROZPOCET
C151: 11 | D151: M | E151: 429110001100.S | F151: Ventilátor VENT1 - malý axiálny tichý s časovým dobehom, prietok 120 až 239 m3/h (požadovaných 140 m3/h), 230 V/1f/50 Hz (Parametre podľa legendy výkresov: Q = 140 m3/h, príkon 15 W, spätná klapka, ovládanie od svetla s dobehom.) | G151: ks | H151: 27 | I151: 175.1 | J151: =ROUND(I151*H151,2) | K151: CENEKON 2026/02 | N151: základná | O151: 0 | P151: =O151*H151 | Q151: 0.00077 | R151: =Q151*H151 | S151: 0 | T151: =S151*H151 | AR151: 32 | AT151: M | AU151: 2 | AY151: ROZPOCET | BE151: =IF(N151="základná",J151,0) | BF151: =IF(N151="znížená",J151,0) | BG151: =IF(N151="zákl. prenesená",J151,0) | BH151: =IF(N151="zníž. prenesená",J151,0) | BI151: =IF(N151="nulová",J151,0) | BJ151: 2 | BK151: =ROUND(I151*H151,2) | BL151: 16 | BM151: 547593154
D152: VV | F152: 9 bytov x 3 podlažia = 27 | H152: 27 | AT152: VV | AU152: 2 | AV152: 2 | AW152: True | AX152: 1 | AY152: ROZPOCET
C153: 12 | D153: K | E153: 769011005.S | F153: Montáž nástenného odsávacieho ventilátora VENT2 veľkosť 120 na stenu vrátane zapojenia na potrubie | G153: ks | H153: 20 | I153: 10.36 | J153: =ROUND(I153*H153,2) | K153: CENEKON 2026/02 | N153: základná | O153: 0 | P153: =O153*H153 | Q153: 0 | R153: =Q153*H153 | S153: 0 | T153: =S153*H153 | AR153: 16 | AT153: K | AU153: 2 | AY153: ROZPOCET | BE153: =IF(N153="základná",J153,0) | BF153: =IF(N153="znížená",J153,0) | BG153: =IF(N153="zákl. prenesená",J153,0) | BH153: =IF(N153="zníž. prenesená",J153,0) | BI153: =IF(N153="nulová",J153,0) | BJ153: 2 | BK153: =ROUND(I153*H153,2) | BL153: 16 | BM153: -224468707
D154: VV | F154: hygienické miestnosti nebytových priestorov na 1.NP = 20 | H154: 20 | AT154: VV | AU154: 2 | AV154: 2 | AW154: True | AX154: 1 | AY154: ROZPOCET
C155: 13 | D155: M | E155: 429110000100.S | F155: Ventilátor VENT2 - malý axiálny tichý s časovým dobehom, prietok do 119 m3/h (požadovaných 90 m3/h), 230 V/1f/50 Hz (Parametre podľa legendy výkresov: Q = 90 m3/h, príkon 14 W, spätná klapka, ovládanie od svetla s dobehom.) | G155: ks | H155: 20 | I155: 176.07 | J155: =ROUND(I155*H155,2) | K155: CENEKON 2026/02 | N155: základná | O155: 0 | P155: =O155*H155 | Q155: 0.00057 | R155: =Q155*H155 | S155: 0 | T155: =S155*H155 | AR155: 32 | AT155: M | AU155: 2 | AY155: ROZPOCET | BE155: =IF(N155="základná",J155,0) | BF155: =IF(N155="znížená",J155,0) | BG155: =IF(N155="zákl. prenesená",J155,0) | BH155: =IF(N155="zníž. prenesená",J155,0) | BI155: =IF(N155="nulová",J155,0) | BJ155: 2 | BK155: =ROUND(I155*H155,2) | BL155: 16 | BM155: -1896767308
D156: VV | F156: hygienické miestnosti nebytových priestorov na 1.NP = 20 | H156: 20 | AT156: VV | AU156: 2 | AV156: 2 | AW156: True | AX156: 1 | AY156: ROZPOCET
C157: 14 | D157: K | E157: 769021006.S | F157: Montáž kruhového potrubia spiro DN 160 | G157: m | H157: 216.82 | I157: 6.55 | J157: =ROUND(I157*H157,2) | K157: CENEKON 2026/02 | N157: základná | O157: 0 | P157: =O157*H157 | Q157: 0 | R157: =Q157*H157 | S157: 0 | T157: =S157*H157 | AR157: 16 | AT157: K | AU157: 2 | AY157: ROZPOCET | BE157: =IF(N157="základná",J157,0) | BF157: =IF(N157="znížená",J157,0) | BG157: =IF(N157="zákl. prenesená",J157,0) | BH157: =IF(N157="zníž. prenesená",J157,0) | BI157: =IF(N157="nulová",J157,0) | BJ157: 2 | BK157: =ROUND(I157*H157,2) | BL157: 16 | BM157: 1584217641
D158: VV | F158: stúpacie potrubia od 1.NP (6 ks): 11,69 x 6 = 70,14 | H158: 70.14 | AT158: VV | AU158: 2 | AV158: 2 | AW158: True | AX158: 0 | AY158: ROZPOCET
D159: VV | F159: stúpacie potrubia od 2.NP (12 ks): 8,59 x 12 = 103,08 | H159: 103.08 | AT159: VV | AU159: 2 | AV159: 2 | AW159: True | AX159: 0 | AY159: ROZPOCET
D160: VV | F160: vodorovné rozvody 1.NP: 43,60 | AT160: VV | AU160: 2 | AV160: 2 | AW160: True | AX160: 0 | AY160: ROZPOCET
D161: VV | F161: spolu 216,82 | H161: 216.82 | AT161: VV | AU161: 2 | AV161: 2 | AW161: True | AX161: 1 | AY161: ROZPOCET
C162: 15 | D162: M | E162: 429810000500.S | F162: Potrubie kruhové spiro DN 160 z pozinkovaného plechu | G162: m | H162: 216.82 | I162: 5.29 | J162: =ROUND(I162*H162,2) | K162: CENEKON 2026/02 | N162: základná | O162: 0 | P162: =O162*H162 | Q162: 0.0009 | R162: =Q162*H162 | S162: 0 | T162: =S162*H162 | AR162: 32 | AT162: M | AU162: 2 | AY162: ROZPOCET | BE162: =IF(N162="základná",J162,0) | BF162: =IF(N162="znížená",J162,0) | BG162: =IF(N162="zákl. prenesená",J162,0) | BH162: =IF(N162="zníž. prenesená",J162,0) | BI162: =IF(N162="nulová",J162,0) | BJ162: 2 | BK162: =ROUND(I162*H162,2) | BL162: 16 | BM162: 1777561229
D163: VV | F163: zhodné s montážou DN 160, V-VZT-003 = 216,82 | H163: 216.82 | AT163: VV | AU163: 2 | AV163: 2 | AW163: True | AX163: 1 | AY163: ROZPOCET
C164: 16 | D164: K | E164: 769021003.S | F164: Montáž kruhového potrubia spiro DN 125 - odvod od digestorov | G164: m | H164: 36.75 | I164: 5.84 | J164: =ROUND(I164*H164,2) | K164: CENEKON 2026/02 | N164: základná | O164: 0 | P164: =O164*H164 | Q164: 0 | R164: =Q164*H164 | S164: 0 | T164: =S164*H164 | AR164: 16 | AT164: K | AU164: 2 | AY164: ROZPOCET | BE164: =IF(N164="základná",J164,0) | BF164: =IF(N164="znížená",J164,0) | BG164: =IF(N164="zákl. prenesená",J164,0) | BH164: =IF(N164="zníž. prenesená",J164,0) | BI164: =IF(N164="nulová",J164,0) | BJ164: 2 | BK164: =ROUND(I164*H164,2) | BL164: 16 | BM164: -2063114132
D165: VV | F165: V-VZT-004: odmerané z výkresu 2.NP po bytoch: 1,32+2,52+1,65+0,98+1,18+1,67+1,32+0,78+0,83 = 12,25 m | AT165: VV | AU165: 2 | AV165: 2 | AW165: True | AX165: 0 | AY165: ROZPOCET
...

Sheet SO 05 - Dažďová kanalizácia...
AT2: {46ff05dd-4363-456a-bc78-d7f6b201cb12}
AT3: 1
D4: KRYCÍ LIST SÚPISU PRÁC | M4: v --- nižšie sa nachádzajú doplnkové a pomocné údaje k zostavám --- v | AT4: False
D6: Stavba:
E7: ='Rekapitulácia stavby'!K6
D8: Objekt:
E9: SO 05 - Dažďová kanalizácia a vsakovací objekt
D11: KSO: | I11: CC-SK:
D12: Miesto: | F12: Trnavský kraj | I12: Dátum: | J12: ='Rekapitulácia stavby'!AN8
D14: Zadávateľ: | I14: IČO:
E15: Anonymizované | I15: IČ DPH:
D17: Zhotoviteľ: | I17: IČO: | J17: =IF('Rekapitulácia stavby'!AN13="","",'Rekapitulácia stavby'!AN13)
E18: =IF('Rekapitulácia stavby'!E14="","",'Rekapitulácia stavby'!E14) | I18: IČ DPH: | J18: =IF('Rekapitulácia stavby'!AN14="","",'Rekapitulácia stavby'!AN14)
D20: Projektant: | I20: IČO:
I21: IČ DPH:
D23: Spracovateľ: | I23: IČO:
I24: IČ DPH:
D26: Poznámka:
