Workbook

Sheet Rekapitulácia stavby
A1: Export Komplet | BA1: 2.0 | BB1: ZAMOK | BT1: False | BU1: False | BV1: {0129c38e-96ac-406c-8508-de4134c6d1ee}
BS2: 0,01 | BT2: 23
BS3: 0,01 | BT3: 19
D4: REKAPITULÁCIA STAVBY | AS4: v --- nižšie sa nachádzajú doplnkové a pomocné údaje k zostavám --- v | BS4: 0,001
D5: Kód: | K5: R1 | BS5: 0,01
D6: Stavba: | K6: Polyfunkčný dom - prestavba, Trnavský kraj | BS6: 0,01
D7: KSO: | AK7: CC-SK: | BS7: 0,01
D8: Miesto: | K8: Trnavský kraj | AK8: Dátum: | AN8: 09/2026 | BS8: 0,01
BS9: 0,01
D10: Zadávateľ: | AK10: IČO: | BS10: 0,01
E11: Anonymizované | AK11: IČ DPH: | BS11: 0,01
BS12: 0,01
D13: Zhotoviteľ: | AK13: IČO: | BS13: 0,01
AK14: IČ DPH: | BS14: 0,01
BS15: False
D16: Projektant: | AK16: IČO: | BS16: False
AK17: IČ DPH: | BS17: True
BS18: 0,01
D19: Spracovateľ: | AK19: IČO: | BS19: 0,01
AK20: IČ DPH: | BS20: True
D22: Poznámka:
E23: Úplné znenie poznámok je na liste Poznámky k rozpočtu. Poznámky k rozpočtu: Sadzba DPH 23 % podľa zákona č. 222/2004 Z. z. Ak sú obidve strany platiteľmi DPH, uplatňuje sa prenos daňovej povinnosti podľa § 69 ods. 12 písm. j); posudzuje ho platiteľ podľa skutočného plnenia. Rozpočet slúži ako podklad pre cenovú ponuku, konečnú kontrolu a schválenie vykonáva objednávateľ. Množstvá vychádzajú z podkladov odovzdaných objednávateľom. Pri zmene alebo upresnení dokumentácie je potrebné rozpočet aktualizovať. Súpis je spracovaný pre šesť profesií: elektroinštalácia NN vrátane distribučnej časti a bleskozvodu, zdravotechnika, vykurovanie a chladenie, vzduchotechnika, dažďová kanalizácia a požiarna ochrana. Stavebná časť a statika nie sú jeho súčasťou. Ceny sú v EUR bez DPH v cenovej sústave CENEKON 2026/02. Sadzba DPH pre stavebné práce na Slovensku je 23 %. Položky, ktoré cenová sústava CENEKON 2026/02 neobsahuje, sú ocenené z prieskumu trhu podľa zverejnených cenníkov slovenských dodávateľov a ocenených výkazov výmer verejných zákaziek; pri každej takej položke je v poznámke uvedené, čo cena obsahuje. Ide o zariadenie staveniska, dopravu a osadenie stavebných buniek, kontajner na odpad, mimostaveniskovú dopravu, nasadenie autožeriavu vrátane pristavenia a viazača bremien, medené prípojnice elektromerového rozvádzača, strešné konzoly kondenzačných jednotiek, fotoluminiscenčné tabuľky únikových ciest, východiskovú revíziu elektroinštalácie, komplexné vyskúšanie vzduchotechniky a dokončovacie kroky vykurovania (napustenie a odvzdušnenie sústav, funkčná vykurovacia skúška). R-1: Súhrnná správa obsahuje vety z inej stavby; kde ju prebíja profesijná časť alebo výkres, platí výkres. Na cenu to nemá vplyv, súpis sa tým nemení. R-2: Vetranie je riešené podtlakovo nástennými ventilátormi podľa projektu vzduchotechniky; lokálna rekuperácia zo súhrnnej správy by súpis zvýšila o 13 259,64 EUR. R-3: Odvodnenie plochej strechy je vonkajšími žľabmi a zvodovými rúrami; variant s vnútornými strešnými vtokmi by súpis zvýšil o 4 924,00 EUR. R-4: Počet nebytových priestorov je 11 (A až K) podľa pôdorysu a rozvádzačov RSA až RSK; variant s deviatimi priestormi by súpis znížil o 2 080,78 EUR. R-5: Trasy vonkajšieho vedenia NN sú v situácii distribučnej časti kótované tri: distribučné vedenie od trafostanice po skriňu SR 20 m (2 káble NAYY 4x240 spolu so zemniacim pásom a rezervnou rúrkou HDPE 40/33), prípojka od skrine SR po elektromerový rozvádzač RE 28 m (2 káble NAYY 4x240) a nový úsek prípojkového vedenia pre odberné miesto Krátky rad 17 40 m (NAYY-J 4x95). Všetky tri sú v súpise; variant, v ktorom by sa oceňovala len prípojka 28 m, by súpis znížil o 3 604,46 EUR. R-6: Požiarne klapky vzduchotechnika nevyžaduje - prierez potrubia DN 160 je 0,020 m2, teda pod 0,04 m2 podľa technickej správy požiarnej ochrany; prestupy sa iba utesňujú. Variant s klapkami by súpis zvýšil najmenej o 2 114,28 EUR za montáž a o dodávku klapiek. R-7: Dĺžka hadice hydrantového navijáka - technická správa zdravotechniky uvádza 25 m, technická správa požiarnej ochrany 30 m; hydrantové systémy sú ocenené s hadicou 30 m podľa požiarneho riešenia. Prevedenie s hadicou 25 m cenová sústava neponúka, cena sa tým nemení. R-8: Dimenzia areálového vodovodu - situácia kótuje horný úsek po odbočku k hydrantu HDPE DN 80 d90x8,2 a dolný úsek k objektu HDPE DN 50 d63x3,8, technická správa uvádza prívod vody do objektu D90x8,2. Súpis ide podľa situácie, ktorá je adresnejšia; variant s celou trasou v D 90 by súpis zvýšil o 233,53 EUR. R-9: Schéma rozvádzača nebytového priestoru kreslí vývod ku vonkajšej jednotke klimatizácie ako štvorpólový s káblom 5x2,5 mm2, kým technická správa chladenia predpisuje jednotky s výkonom 4,7 a 9,5 kW, ktoré sa vyrábajú v jednofázovom prevedení. Súpis ide za oboma dokumentmi: prívod je 5x2,5 mm2 podľa schémy, jednotky sú jednofázové podľa technickej správy. Trojfázové jednotky cenová sústava ponúka až od 14 kW pre sedem a viac vnútorných jednotiek, čo projektu nezodpovedá; taká zostava by súpis zvýšila približne o 38 665 EUR. Doprava sypkých materiálov zemných prác je v ich jednotkových cenách. Doprava materiálu profesií na stavbu, odvoz výkopku a pristavenie buniek a žeriavu sú samostatné položky: doprava materiálu a buniek je počítaná na vzdialenosť do 50 km, odvoz výkopku na skládku do 10 km.
D26: Cena bez DPH | AK26: =ROUND(AG94,2)
L28: Sadzba dane | W28: Základ dane | AK28: Výška dane
D29: DPH | F29: základná | L29: 0.23 | W29: =ROUND(AZ94, 2) | AK29: =ROUND(AV94, 2)
F30: znížená | L30: 0.19 | W30: =ROUND(BA94, 2) | AK30: =ROUND(AW94, 2)
F31: zákl. prenesená | L31: 0.23 | W31: =ROUND(BB94, 2) | AK31: 0
F32: zníž. prenesená | L32: 0.19 | W32: =ROUND(BC94, 2) | AK32: 0
F33: nulová | L33: 0 | W33: =ROUND(BD94, 2) | AK33: 0
D35: Cena s DPH | T35: v | X35: EUR | AK35: =SUM(AK26:AK33)
D49: Projektant | AH49: Spracovateľ
D60: Dátum a podpis: | V60: Pečiatka | AH60: Dátum a podpis: | AM60: Pečiatka
D64: Objednávateľ | AH64: Zhotoviteľ
D75: Dátum a podpis: | V75: Pečiatka | AH75: Dátum a podpis: | AM75: Pečiatka
C82: REKAPITULÁCIA OBJEKTOV STAVBY A SÚPISOV PRÁC
C84: Kód: | L84: =K5
C85: Stavba: | L85: =K6
C87: Miesto: | L87: =IF(K8="","",K8) | AI87: Dátum: | AM87: =IF(AN8= "","",AN8)
C89: Zadávateľ: | L89: =IF(E11= "","",E11) | AI89: Projektant: | AM89: =IF(E17="","",E17) | AS89: Informatívne údaje z listov zákaziek
C90: Zhotoviteľ: | L90: =IF(E14="","",E14) | AI90: Spracovateľ: | AM90: =IF(E20="","",E20)
...

Sheet SO 01 - Elektroinštalácia NN
AT2: {ca2ef71a-9448-4794-89fb-e8c81eba2a69}
AT3: 1
D4: KRYCÍ LIST SÚPISU PRÁC | M4: v --- nižšie sa nachádzajú doplnkové a pomocné údaje k zostavám --- v | AT4: False
D6: Stavba:
E7: ='Rekapitulácia stavby'!K6
D8: Objekt:
E9: SO 01 - Elektroinštalácia NN
D11: KSO: | I11: CC-SK:
D12: Miesto: | F12: Trnavský kraj | I12: Dátum: | J12: ='Rekapitulácia stavby'!AN8
D14: Zadávateľ: | I14: IČO:
E15: Anonymizované | I15: IČ DPH:
D17: Zhotoviteľ: | I17: IČO: | J17: =IF('Rekapitulácia stavby'!AN13="","",'Rekapitulácia stavby'!AN13)
E18: =IF('Rekapitulácia stavby'!E14="","",'Rekapitulácia stavby'!E14) | I18: IČ DPH: | J18: =IF('Rekapitulácia stavby'!AN14="","",'Rekapitulácia stavby'!AN14)
D20: Projektant: | I20: IČO:
I21: IČ DPH:
D23: Spracovateľ: | I23: IČO:
I24: IČ DPH:
D26: Poznámka:
E27: Dĺžky káblových trás sú odmerané z pôdorysov silnoprúdu (mierka 1:50) farebným rozborom kresby; trasy 2.NP, 3.NP a 4.NP sú zhodné. Slaboprúdové rozvody (STA, videovrátnik, dáta, EZS) nie sú súčasťou odovzdanej dokumentácie a v súpise nie sú. Elektromerový rozvádzač RE 630 A je atypická zostava troch skríň s 39 elektromerovými miestami; v súpise je rozpísaný po skriniach a po výzbroji podľa schémy. Búracie práce a demontáže v objekte sú súčasťou stavebnej časti, ktorú spracováva objednávateľ; demontáž jestvujúceho distribučného vedenia NN a skrine SR, ktorú predpisuje technická správa distribučnej časti, je v objekte SO 01.2. Elektromery (39 miest v rozvádzači RE) dodáva prevádzkovateľ distribučnej sústavy a v súpise nie sú. Frézovanie drážok pre káblové rozvody a ich zapravenie sú súčasťou murárskych prác stavebnej časti, ktorú spracováva objednávateľ. Prípojka NN, distribučné rozvody a demontáž jestvujúceho vedenia sú vykázané v samostatnom objekte SO 01.2, pretože distribučnú časť financuje prevádzkovateľ distribučnej sústavy, nie stavebník. Úplné znenie poznámok je na liste Poznámky k rozpočtu. S čím počítame (predpoklady, ktoré si môžete upraviť jedným číslom; druhá varianta je pri každom uvedená): P-1: Zariaďovacie predmety sú ocenené v bežnom katalógovom štandarde; presný typ určuje podľa technickej správy investor. Vyšší štandard vybavenia by cenu zariaďovacích predmetov zvýšil rádovo o jednotky percent. Presnú cenu určí až výber konkrétnych výrobkov objednávateľom. P-2: Vsakovací objekt je ocenený v rozmeroch podľa výkresu 003, hoci technická správa ich označuje za informatívne (chýba hydrogeologický prieskum). Úprava objemu vsakovacích blokov po hydrogeologickom prieskume je druhá varianta; cena sa mení úmerne počtu blokov, jeden blok je 57,76 EUR. P-3: Vykurovanie je spracované znovu z projektovej dokumentácie; pracovný výkaz výmer objednávateľa slúžil len ako kontrola rozsahu. Nadviazanie na pracovný výkaz objednávateľa je možné na vyžiadanie, bez zmeny ceny. P-4: Súpis je dodaný vo formáte KROS Export Komplet 2.0 na import do CENKROSu; práce a služby sú vedené ako typ K, materiály a výrobky ako typ M. Slepé výkazy výmer bez cien boli dodané s predchádzajúcou verziou rozpočtu a platia bez zmeny. P-5: Technológia výťahu nie je v rozsahu; elektro obsahuje prívod a rozvádzač RV. Doplnenie technológie výťahu je druhá varianta; ocení sa po dodaní ponuky výrobcu. Cenu určí ponuka výrobcu výťahu. P-6: Búracie práce a demontáže jestvujúcich rozvodov sú súčasťou stavebnej časti, ktorú spracováva objednávateľ. Doplnenie demontáží profesií je druhá varianta; ocení sa po dodaní výkresu jestvujúceho stavu. Cenu určí rozsah podľa výkresu jestvujúceho stavu. P-7: Odvodnenie plochej strechy je vonkajšími žľabmi a zvodovými rúrami podľa legendy výkresu strechy; klampiarske práce sú súčasťou stavebnej časti a dažďová kanalizácia na ne nadväzuje deviatimi prípojmi v zemi. Variant s vnútornými strešnými vtokmi je vyčíslený pri rozpore R-3 (+4 924 EUR). P-8: Skládka pre prebytočný výkopok je uvažovaná do 10 km; skutočnú vzdialenosť určí zhotoviteľ. Vzdialenejšia skládka je druhá varianta; každý ďalší kilometer je 0,55 EUR na tonu. P-9: Vetracie hlavice vzduchotechniky sú uvažované 0,50 m nad strechou; výkres výšku nekótuje. Vyššie vyvedenie hlavíc nad strechu by súpis zvýšilo do 100 EUR. P-10: Dimenzie medených rozvodov vykurovania nie sú v dokumentácii uvedené; uvažované D 22 mm od hydraulického modulu k rozdeľovaču a D 15 mm k rebríkovým telesám. Jednotná dimenzia D 22 mm by súpis zmenila do 1 300 EUR. P-12: Vnútorné rozvody vody sú podľa označení na pôdorysoch rozdelené na DN 15 (60 %) a DN 20 (40 %). Celý rozvod v DN 20 by súpis zvýšil do 900 EUR. P-13: Vodorovná vnútorná kanalizácia je podľa označení na pôdorysoch rozdelená na DN 110 (30 %) a DN 50 (70 %). Vyšší podiel DN 110 by súpis zvýšil do 1 500 EUR. P-14: Objem elektrických zásobníkových ohrievačov pre nebytové priestory nie je určený; uvažovaný objem 80 l. Zásobníky s objemom 120 l by súpis zvýšili do 600 EUR. P-15: Dĺžka káblov CHKE-V 5x6 mm2 k podružným rozvádzačom je odvodená z geometrie objektu (priemerná vzdialenosť po chodbe pri rovnomernom rozmiestnení 38 rozvádzačov). Meranie podľa skutočnej trasy po dodaní realizačnej dokumentácie je druhá varianta; odchýlka 10 % dĺžky znamená 798 EUR na kábli a 230 EUR na pospájaní. P-16: Jestvujúce distribučné vedenie NN sa vyťahuje z ryhy nového vedenia; samostatný výkop pre demontáž sa nevykazuje. Samostatný výkop pre demontáž 20 m by súpis zvýšil orientačne do 200 EUR. P-17: Veľkostný typ jestvujúcej istiacej a rozpojovacej skrine SR dokumentácia neuvádza; pre demontáž je uvažovaný rovnaký typ SR 7 ako nová skriňa. Menší typ skrine by súpis znížil o 8 EUR. P-18: Schémy rozvádzačov kreslia pri každom podružnom rozvádzači prípojnicu HUP s vodičom CYA 16 mm2; v súpise je 38 prípojníc a vodič vedený súbežne s prívodom každého rozvádzača. Spoločná prípojnica na podlaží namiesto prípojnice pri každom rozvádzači by súpis znížila približne o 2 000 EUR. P-19: Dĺžka doplnkového pospájania na jedno miesto (kúpeľňa, kuchyňa, strojovňa) je uvažovaná 5,00 m. Dlhšie trasy doplnkového pospájania by súpis zvýšili do 300 EUR. P-20: Vybavenie výťahovej šachty elektroinštaláciou (dve svietidlá, spínač a servisná zásuvka) vychádza z požiadaviek na obsluhu šachty; vlastná technológia výťahu v súpise nie je. Ak vybavenie výťahovej šachty dodá výrobca výťahu, súpis sa zníži o 270 EUR. P-21: Projekt predpisuje káble CHKE-R; cenová sústava obsahuje ekvivalent CHKE-V s rovnakým prierezom, ktorým je položka ocenená. Doložená ponuka na pôvodný typ CHKE-R je druhá varianta; rozdiel sa prejaví v cene materiálu. Cenu určí ponuka dodávateľa káblov. P-22: Dĺžky vývodov z rozvádzača RE (CENTRAL STOP, RV, SV1, SV2) sú odvodené z geometrie objektu rovnako ako dĺžky prívodov k podružným rozvádzačom. Meranie vývodov podľa skutočnej trasy je druhá varianta; odchýlka 10 % dĺžky znamená 55 EUR. P-23: Dĺžka káblového žľabu je odvodená z chodbového rozvodu po dĺžke objektu na každom podlaží a zvislej stúpačky od rozvádzača RE. Káblový žľab aj vo vetvách k jednotlivým rozvádzačom by súpis zvýšil do 4 500 EUR. P-24: Cenová sústava obsahuje najbližšiu výzbroj istiacej skrine SR 7; presný typ predpísaný technickou správou sa doloží ponukou dodávateľa. Doložená ponuka na presný typ skrine HASMA je druhá varianta. Cenu určí ponuka dodávateľa skríň. P-25: Zvody bleskozvodu sú zabudované do zatepľovacieho systému a montujú sa spolu s fasádou; lešenie pre ne je súčasťou stavebnej časti. Samostatné lešenie alebo montážna plošina pre zvody by súpis zvýšili o 1 500 až 3 000 EUR. P-27: Podiel ručného výkopu káblovej ryhy v súbehu so sieťami je uvažovaný 10 % dĺžky. Vyšší podiel ručného výkopu by súpis zvýšil do 600 EUR. P-29: Počet zemniacich tyčí pre uzemnenie skrine SR a rozvádzača RE je uvažovaný tri tyče po 2 m na zariadenie. Doplnenie zemniacich tyčí podľa skutočne nameraného odporu je druhá varianta; jedna tyč s montážou je 64 EUR. P-30: Počet vodovodných stúpačiek je uvažovaný deväť, rovnako ako hlavných kanalizačných stúpačiek. Iný počet vodovodných stúpačiek by zmenil cenu upchávok do 400 EUR. P-31: Hĺbka ryhy areálovej splaškovej kanalizácie je uvažovaná 1,50 m; dokumentácia hĺbku neuvádza. Šírka ryhy 1,10 m, lôžko 0,17 m3/bm a obsyp 0,52 m3/bm sú prevzaté z tabuľky v detaile uloženia potrubia. Hĺbka ryhy 1,80 m by výkop, paženie a zásyp zvýšila približne o 900 EUR. P-32: Dĺžka odvodu kondenzátu od jednej kazetovej jednotky je uvažovaná 10,00 m. Kratšie trasy odvodu kondenzátu by súpis znížili do 300 EUR. P-33: Výkon elektrických konvektorov pre zázemie nájomných priestorov dokumentácia neuvádza; uvažovaný je 1 000 W na miestnosť. Pracovný výkaz výmer objednávateľa uvažuje konvektory 500 W; menší výkon by súpis znížil približne o 250 EUR. Konvektory s výkonom 1 500 W by súpis zvýšili o 102 EUR. P-34: Rozsah oceľovej podpernej konštrukcie kondenzačných jednotiek na streche upresní statická časť, ktorá nie je súčasťou odovzdanej dokumentácie; položka je ocenená ako strešná pozinkovaná konzola na jednu jednotku. Rámová konštrukcia podľa statiky namiesto strešnej konzoly by súpis zvýšila o 150 až 1 700 EUR. P-35: Zriadenie prestupov jestvujúcimi železobetónovými stropmi pripravuje zhotoviteľ stavebnej časti podľa koordinačných výkresov profesií; v tomto súpise je len ich utesnenie. Jadrové vrty v našom súpise, 128 prestupov, by súpis zvýšili orientačne o 3 000 až 5 000 EUR. P-36: Doba montáže šiestich profesií je uvažovaná 6 mesiacov; harmonogram stavby v podkladoch nie je. Vychádza z nej prenájom buniek a mobilného WC. Deväť mesiacov montáže namiesto šiestich by zariadenie staveniska zvýšilo o 1 894 EUR. P-37: Počet kontajnerov na odpad z montážnych prác je uvažovaný štyri. Šesť kontajnerov namiesto štyroch by súpis zvýšilo o 220 EUR. P-38: Vzdialenosť mimostaveniskovej dopravy je uvažovaná do 50 km. Mimostavenisková doprava na 100 km by súpis zvýšila o 866 EUR. P-39: Skrine elektromerového rozvádzača RE sú ocenené v rade OEZ QA55 s krytím IP55 v rozmeroch podľa výkresu 210 (1 ks 800x400x1800 mm a 2 ks 1200x400x1800 mm) vrátane podstavcov, horných krytov a montážnych panelov; výkres predpisuje výrobcu OEZ a krytie IP65, IP55 je najvyššie krytie radových rozvádzačových skríň tohto výrobcu v cenovej sústave. Horný kryt skrine je v cenovej sústave len vo ventilovanom vyhotovení. Atypická skriňa IP65 na zákazku by súpis zvýšila o 600 až 1 500 EUR. P-40: Ovládanie kazetových klimatizačných jednotiek je uvažované infračerveným diaľkovým ovládačom, ktorý je súčasťou dodávky jednotky; technická správa pripúšťa aj nástenné káblové ovládače, tie by súpis zvýšili o 12 ovládačov s montážou. Káblové ovládače klimatizácie cenová sústava neobsahuje, cenu určí ponuka dodávateľa jednotiek. P-41: Prípojnicový systém rozvádzača RE je ocenený piatimi medenými pásmi 30 x 5 mm (L1, L2, L3, N, PE) po šírke zostavy skríň, spolu 16,00 m, so zaťažiteľnosťou 379 až 450 A. Výkres rozvádzača uvádza pri hlavnom ističi dve hodnoty, 630 A a 380 A, a súpis je zostavený na nižšiu z nich. Vyhotovenie na plných 630 A znamená zdvojenie fázových pásov, čo by súpis zvýšilo o 359,14 EUR. P-42: Tepelné izolácie medených rozvodov vykurovania sú ocenené hrúbkou 20 mm pre potrubie D 22 a 19 mm pre D 15, pretože rozvody vedú v podlahovej konštrukcii a v šachtách; voľne vedené úseky by podľa technickej správy mali hrúbku 25 až 30 mm. Voľne vedené úseky v hrúbke 25 až 30 mm by pri celej dĺžke 266,10 m súpis zvýšili približne o 2 100 EUR. P-43: Vodorovné trasy vnútornej kanalizácie sú ocenené ako potrubie HT z PP v celej dĺžke; ak sa zvodová časť zhotoví z PVC KG podľa technickej správy, cena sa zníži približne o 26 EUR. P-44: Hĺbka ryhy areálového vodovodu je uvažovaná 1,20 m; technická správa uvádza len šírku ryhy 60 cm, lôžko 15 cm a obsyp 30 cm, hĺbku neuvádza. Hĺbka ryhy vodovodu 1,50 m by výkop, paženie, zásyp a odvoz zvýšila približne o 600 EUR. P-45: Revízne šachty sú ocenené ako prefabrikované: dodávka dna s kynetou, skruží, kónusu a vyrovnávacieho prstenca a osadenie jednotlivých dielcov. Zhotovenie šachiet s obložením dna betónom na mieste namiesto prefabrikovaného dna by súpis zvýšilo približne o 4 800 EUR. P-46: Napojenie vodovodnej prípojky na verejný vodovod a zaústenie kanalizačnej prípojky do verejnej stoky vykonáva prevádzkovateľ verejnej siete na náklady investora; dokumentácia neuvádza dimenziu ani materiál verejných potrubí, preto tieto práce v súpise nie sú. Vystrojenie vodomernej šachty vrátane fakturačného vodomeru DN 50 v súpise je. Navŕtavací pás alebo T-kus so zemnou súpravou v našom súpise by ho zvýšil o 300 až 800 EUR podľa dimenzie verejného radu. P-47: Revízne šachty sú zostavené z dielcov, ktoré cenová sústava ponúka: dno s kynetou výšky 700 mm, kónus 1000/600 výšky 576 mm a vyrovnávací prstenec do 100 mm. Výkres kótuje dno 680 mm a kónus 630 mm; rozdiel 34 mm na šachtu vyrovná vyrovnávací prstenec a maltové lôžka spojov. Dielce šachiet presne podľa výkresu na zákazku by ich cenu zvýšili o 10 až 15 %. P-48: Zvislé trasy sú predĺžené o ležatý zvod 0,80 m pod podlahou 1.NP, o 0,50 m k odbočke na poslednom podlaží a o 1,00 m vyvedenia kanalizačného odvetrania nad strechu; dokumentácia tieto rozmery nekótuje. Bez prídavkov zvislých trás by sa súpis znížil približne o 1 900 EUR. P-49: Podklad pod vonkajšie jednotky tepelných čerpadiel (betónová pätka alebo rámový podstavec) dokumentácia nepredpisuje; technická správa uvádza antivibračné silentbloky len pri kondenzačných jednotkách klimatizácie, ktoré sú v súpise. Podklad pod tepelné čerpadlá je preto uvažovaný ako súčasť stavebnej časti. Rámový podstavec výrobcu pod 27 vonkajších jednotiek by súpis zvýšil približne o 11 600 EUR. P-50: Rozmer otvoru pri prestupe kábla požiarne deliacou konštrukciou dokumentácia neurčuje; uvažovaný je jadrový vrt D 150 mm na jeden prívodný kábel, teda trieda tesnenia do 0,1 m2. Ak sa prestupy zhotovia ako otvory nad 0,1 m2, súpis sa zvýši približne o 1 023 EUR. P-51: Dĺžku odvodu odmrazovacej vody od vonkajších jednotiek tepelných čerpadiel a odvodu od poistných výtokov zásobníkov dokumentácia neurčuje; uvažované sú 3,00 m na jednotku a 2,00 m na bytovú sústavu. Dvojnásobné dĺžky by súpis zvýšili približne o 840 EUR. P-52: Cenová sústava CENEKON nemá triedu pre prepláchnutie a napustenie sústavy s podlahovým vykurovaním ani pre funkčnú vykurovaciu skúšku podľa STN EN 1264-4; obidva kroky sú preto ocenené hodinovou sadzbou montéra a počet hodín je uvažovaný 2,00 hod na napustenie a 3,00 hod na vykurovaciu skúšku jednej bytovej sústavy. Dvojnásobný počet hodín by súpis zvýšil približne o 2 700 EUR. P-53: Plocha na vyčistenie budovy po montážnych prácach je uvažovaná ako hrubá podlahová plocha, teda zastavaná plocha 742,85 m2 krát štyri podlažia. Ak sa vykáže len čistá podlahová plocha bez konštrukcií (približne 85 %), súpis sa zníži približne o 2 890 EUR. P-54: Objemová hmotnosť zmiešaného stavebného odpadu z montážnych prác je uvažovaná 0,15 t/m3; skutočnú hmotnosť určí váženie na skládke. Dvojnásobná hmotnosť by súpis zvýšila približne o 840 EUR. P-55: Počty tvarovok potrubia spiro (27 kolien DN 125, 44 kolien DN 160, 50 T-kusov a 27 prechodov) sú dopočítané z topológie rozvodu, pretože výkresy tvarovky nekótujú. Odchýlka 20 % by súpis zmenila približne o 490 EUR. P-56: Zvody bleskozvodu sú ocenené izolovaným hliníkovým drôtom AlMgSi Ø 8 mm PVC podľa legendy výkresu bleskozvodu a sú vedené v ochrannej rúrke pod omietkou, ako predpisuje technická správa; hliník so zachytávacou sústavou netvorí galvanický pár, takže náter zvodu odpadá. Variant s neizolovaným drôtom v samotnej ochrannej rúrke by súpis znížil o 113 EUR. P-57: Rozsah ochranného zábradlia okolo otvorených výkopov je uvažovaný po jednej strane ryhy v celej dĺžke, teda 317,30 m; technické správy zaistenie výkopov predpisujú, rozsah neurčujú. Zábradlie po oboch stranách by súpis zvýšilo približne o 2 504 EUR. P-58: Dĺžka pripojovacieho potrubia kondenzátu od zápachových uzávierok vzduchotechniky do kanalizácie je uvažovaná 2,00 m na jednu uzávierku; dokumentácia trasu neurčuje. Dvojnásobná dĺžka by súpis zvýšila približne o 225 EUR. P-59: Doplnenie chladiva R32 nad výrobnú náplň nie je v súpise: priemerná dĺžka chladivovej dvojice na jeden okruh je 21,4 m, čo je na hranici bežnej výrobnej náplne split jednotiek. Ak výrobca zvolenej jednotky predplní kratšiu trasu, doplnenie chladiva by súpis zvýšilo približne o 130 až 250 EUR. P-60: Prívod vzduchu do odvetrávaných miestností je podľa technickej správy riešený bezprahovými dverami, ktoré sú súčasťou stavebnej časti. Ak sa namiesto nich osadia dverové mriežky, súpis vzduchotechniky sa zvýši približne o 1 200 EUR. P-61: Dĺžky vnútorných káblov vychádzajú z počtu obvodov podľa schémy bytového rozvádzača (dva obvody 3x1,5, sedem 3x2,5 a dva 5x2,5) a z trasy odmeranej z pôdorysov silnoprúdu. Uvažuje sa, že každý obvod prejde v priemere polovicou spoločnej trasy a že na každý prístrojový bod pripadá 0,80 m zvislého úseku, ktorý pôdorys nezobrazuje. Plný prechod trasou u každého obvodu by súpis zvýšil približne o 6 500 EUR. P-62: Tepelné izolácie rozvodov vody sú ocenené v katalógových hrúbkach 9 mm pre studenú a 19 mm pre teplú vodu; technická správa uvádza 10 a 20 mm, cenová sústava tieto hrúbky pre dané priemery nemá. Bližšia hrúbka v sústave nie je, cena sa tým nemení. P-63: Komplexné vyskúšanie a zaregulovanie vzduchotechniky je ocenené sadzbou za celé zariadenie, teda 241,21 EUR; počet ventilátorov a meracích bodov cenník neurčuje. Ocenenie podľa hodinovej sadzby, teda 60 hodín, by súpis zvýšilo o 793,79 EUR. P-64: Závesy a objímky potrubí zdravotechniky nie sú samostatnou položkou, pretože montážne položky potrubia obsahujú potrubnú objímku a skrutky na každý meter. Technická správa predpisuje značkový závesný systém; ak sa má oceniť samostatne, doplní sa po cenovej ponuke dodávateľa. P-65: Značenie potrubia podľa STN 13 0072 je ocenené jedným štítkom na každú vodovodnú stúpačku na každom podlaží, spolu 36 kusov; technická správa počet a rozmiestnenie štítkov neurčuje. Hustejšie značenie aj na ležatých rozvodoch a armatúrach by súpis zvýšilo o 199,08 EUR. P-66: Vytýčenie jestvujúcich podzemných vedení je ocenené jedným vytyčovacím bodom na každú z piatich sietí vedených areálom; situácia počet vytyčovacích bodov neurčuje. Vytýčenie po celej dĺžke rýh, teda 23 bodov ako pri nových trasách, by súpis zvýšilo o 486,00 EUR. P-67: Izolačné držiaky prípojníc rozvádzača RE sú ocenené v rozstupe 0,50 m po šírke zostavy skríň, teda 7 kusov; výkres rozstup podopretia neurčuje. Hustejší rozstup 0,35 m, teda 10 kusov, by súpis zvýšil o 93,00 EUR.
D30: Cena bez DPH | J30: =ROUND(J121, 2)
F32: Základ dane | I32: Sadzba dane | J32: Výška dane
D33: DPH | E33: základná | F33: =ROUND((SUM(BE121:BE514)), 2) | I33: 0.23 | J33: =ROUND(((SUM(BE121:BE514))*I33), 2)
E34: znížená | F34: =ROUND((SUM(BF121:BF514)), 2) | I34: 0.19 | J34: =ROUND(((SUM(BF121:BF514))*I34), 2)
E35: zákl. prenesená | F35: =ROUND((SUM(BG121:BG514)), 2) | I35: 0.23 | J35: =0
E36: zníž. prenesená | F36: =ROUND((SUM(BH121:BH514)), 2) | I36: 0.19 | J36: =0
E37: nulová | F37: =ROUND((SUM(BI121:BI514)), 2) | I37: 0 | J37: =0
D39: Cena s DPH | G39: v | H39: EUR | J39: =SUM(J30:J37)
D50: Projektant | G50: Spracovateľ
D61: Dátum a podpis: | F61: Pečiatka | G61: Dátum a podpis: | J61: Pečiatka
D65: Objednávateľ | G65: Zhotoviteľ
D76: Dátum a podpis: | F76: Pečiatka | G76: Dátum a podpis: | J76: Pečiatka
C82: REKAPITULÁCIA ČLENENIA SÚPISU PRÁC
C84: Stavba:
E85: =E7
C86: Objekt:
E87: =E9
C89: Miesto: | F89: =F12 | I89: Dátum: | J89: =IF(J12="","",J12)
C91: Zadávateľ: | F91: =E15 | I91: Projektant: | J91: =E21
C92: Zhotoviteľ: | F92: =IF(E18="","",E18) | I92: Spracovateľ: | J92: =E24
C94: Kód dielu - Popis | J94: Cena celkom [EUR]
...

Sheet SO 01.2 - Distribučné rozvod...
AT2: {e51038e5-3e65-4119-9c5a-fd8b2b43305b}
AT3: 1
D4: KRYCÍ LIST SÚPISU PRÁC | M4: v --- nižšie sa nachádzajú doplnkové a pomocné údaje k zostavám --- v | AT4: False
D6: Stavba:
E7: ='Rekapitulácia stavby'!K6
D8: Objekt:
E9: SO 01.2 - Distribučné rozvody NN
D11: KSO: | I11: CC-SK:
D12: Miesto: | F12: Trnavský kraj | I12: Dátum: | J12: ='Rekapitulácia stavby'!AN8
D14: Zadávateľ: | I14: IČO:
E15: Anonymizované | I15: IČ DPH:
D17: Zhotoviteľ: | I17: IČO: | J17: =IF('Rekapitulácia stavby'!AN13="","",'Rekapitulácia stavby'!AN13)
E18: =IF('Rekapitulácia stavby'!E14="","",'Rekapitulácia stavby'!E14) | I18: IČ DPH: | J18: =IF('Rekapitulácia stavby'!AN14="","",'Rekapitulácia stavby'!AN14)
D20: Projektant: | I20: IČO:
I21: IČ DPH:
D23: Spracovateľ: | I23: IČO:
I24: IČ DPH:
D26: Poznámka:
E27: Objekt obsahuje prípojku NN, distribučné vedenie, novú istiacu skriňu SR 7, nový úsek prípojkového vedenia, zemné práce k nim a demontáž jestvujúceho distribučného vedenia a skrine SR podľa technickej správy distribučnej časti. Distribučnú časť financuje prevádzkovateľ distribučnej sústavy, nie stavebník; preto je vykázaná samostatne a dá sa fakturovať oddelene od ostatných profesií. Trasy sú prevzaté z kótovanej situácie distribučnej časti: distribučné vedenie 20 m, prípojka 28 m a nový úsek prípojkového vedenia 40 m. Úplné znenie poznámok je na liste Poznámky k rozpočtu. S čím počítame (predpoklady, ktoré si môžete upraviť jedným číslom; druhá varianta je pri každom uvedená): P-1: Zariaďovacie predmety sú ocenené v bežnom katalógovom štandarde; presný typ určuje podľa technickej správy investor. Vyšší štandard vybavenia by cenu zariaďovacích predmetov zvýšil rádovo o jednotky percent. Presnú cenu určí až výber konkrétnych výrobkov objednávateľom. P-2: Vsakovací objekt je ocenený v rozmeroch podľa výkresu 003, hoci technická správa ich označuje za informatívne (chýba hydrogeologický prieskum). Úprava objemu vsakovacích blokov po hydrogeologickom prieskume je druhá varianta; cena sa mení úmerne počtu blokov, jeden blok je 57,76 EUR. P-3: Vykurovanie je spracované znovu z projektovej dokumentácie; pracovný výkaz výmer objednávateľa slúžil len ako kontrola rozsahu. Nadviazanie na pracovný výkaz objednávateľa je možné na vyžiadanie, bez zmeny ceny. P-4: Súpis je dodaný vo formáte KROS Export Komplet 2.0 na import do CENKROSu; práce a služby sú vedené ako typ K, materiály a výrobky ako typ M. Slepé výkazy výmer bez cien boli dodané s predchádzajúcou verziou rozpočtu a platia bez zmeny. P-5: Technológia výťahu nie je v rozsahu; elektro obsahuje prívod a rozvádzač RV. Doplnenie technológie výťahu je druhá varianta; ocení sa po dodaní ponuky výrobcu. Cenu určí ponuka výrobcu výťahu. P-6: Búracie práce a demontáže jestvujúcich rozvodov sú súčasťou stavebnej časti, ktorú spracováva objednávateľ. Doplnenie demontáží profesií je druhá varianta; ocení sa po dodaní výkresu jestvujúceho stavu. Cenu určí rozsah podľa výkresu jestvujúceho stavu. P-7: Odvodnenie plochej strechy je vonkajšími žľabmi a zvodovými rúrami podľa legendy výkresu strechy; klampiarske práce sú súčasťou stavebnej časti a dažďová kanalizácia na ne nadväzuje deviatimi prípojmi v zemi. Variant s vnútornými strešnými vtokmi je vyčíslený pri rozpore R-3 (+4 924 EUR). P-8: Skládka pre prebytočný výkopok je uvažovaná do 10 km; skutočnú vzdialenosť určí zhotoviteľ. Vzdialenejšia skládka je druhá varianta; každý ďalší kilometer je 0,55 EUR na tonu. P-9: Vetracie hlavice vzduchotechniky sú uvažované 0,50 m nad strechou; výkres výšku nekótuje. Vyššie vyvedenie hlavíc nad strechu by súpis zvýšilo do 100 EUR. P-10: Dimenzie medených rozvodov vykurovania nie sú v dokumentácii uvedené; uvažované D 22 mm od hydraulického modulu k rozdeľovaču a D 15 mm k rebríkovým telesám. Jednotná dimenzia D 22 mm by súpis zmenila do 1 300 EUR. P-12: Vnútorné rozvody vody sú podľa označení na pôdorysoch rozdelené na DN 15 (60 %) a DN 20 (40 %). Celý rozvod v DN 20 by súpis zvýšil do 900 EUR. P-13: Vodorovná vnútorná kanalizácia je podľa označení na pôdorysoch rozdelená na DN 110 (30 %) a DN 50 (70 %). Vyšší podiel DN 110 by súpis zvýšil do 1 500 EUR. P-14: Objem elektrických zásobníkových ohrievačov pre nebytové priestory nie je určený; uvažovaný objem 80 l. Zásobníky s objemom 120 l by súpis zvýšili do 600 EUR. P-15: Dĺžka káblov CHKE-V 5x6 mm2 k podružným rozvádzačom je odvodená z geometrie objektu (priemerná vzdialenosť po chodbe pri rovnomernom rozmiestnení 38 rozvádzačov). Meranie podľa skutočnej trasy po dodaní realizačnej dokumentácie je druhá varianta; odchýlka 10 % dĺžky znamená 798 EUR na kábli a 230 EUR na pospájaní. P-16: Jestvujúce distribučné vedenie NN sa vyťahuje z ryhy nového vedenia; samostatný výkop pre demontáž sa nevykazuje. Samostatný výkop pre demontáž 20 m by súpis zvýšil orientačne do 200 EUR. P-17: Veľkostný typ jestvujúcej istiacej a rozpojovacej skrine SR dokumentácia neuvádza; pre demontáž je uvažovaný rovnaký typ SR 7 ako nová skriňa. Menší typ skrine by súpis znížil o 8 EUR. P-18: Schémy rozvádzačov kreslia pri každom podružnom rozvádzači prípojnicu HUP s vodičom CYA 16 mm2; v súpise je 38 prípojníc a vodič vedený súbežne s prívodom každého rozvádzača. Spoločná prípojnica na podlaží namiesto prípojnice pri každom rozvádzači by súpis znížila približne o 2 000 EUR. P-19: Dĺžka doplnkového pospájania na jedno miesto (kúpeľňa, kuchyňa, strojovňa) je uvažovaná 5,00 m. Dlhšie trasy doplnkového pospájania by súpis zvýšili do 300 EUR. P-20: Vybavenie výťahovej šachty elektroinštaláciou (dve svietidlá, spínač a servisná zásuvka) vychádza z požiadaviek na obsluhu šachty; vlastná technológia výťahu v súpise nie je. Ak vybavenie výťahovej šachty dodá výrobca výťahu, súpis sa zníži o 270 EUR. P-21: Projekt predpisuje káble CHKE-R; cenová sústava obsahuje ekvivalent CHKE-V s rovnakým prierezom, ktorým je položka ocenená. Doložená ponuka na pôvodný typ CHKE-R je druhá varianta; rozdiel sa prejaví v cene materiálu. Cenu určí ponuka dodávateľa káblov. P-22: Dĺžky vývodov z rozvádzača RE (CENTRAL STOP, RV, SV1, SV2) sú odvodené z geometrie objektu rovnako ako dĺžky prívodov k podružným rozvádzačom. Meranie vývodov podľa skutočnej trasy je druhá varianta; odchýlka 10 % dĺžky znamená 55 EUR. P-23: Dĺžka káblového žľabu je odvodená z chodbového rozvodu po dĺžke objektu na každom podlaží a zvislej stúpačky od rozvádzača RE. Káblový žľab aj vo vetvách k jednotlivým rozvádzačom by súpis zvýšil do 4 500 EUR. P-24: Cenová sústava obsahuje najbližšiu výzbroj istiacej skrine SR 7; presný typ predpísaný technickou správou sa doloží ponukou dodávateľa. Doložená ponuka na presný typ skrine HASMA je druhá varianta. Cenu určí ponuka dodávateľa skríň. P-25: Zvody bleskozvodu sú zabudované do zatepľovacieho systému a montujú sa spolu s fasádou; lešenie pre ne je súčasťou stavebnej časti. Samostatné lešenie alebo montážna plošina pre zvody by súpis zvýšili o 1 500 až 3 000 EUR. P-27: Podiel ručného výkopu káblovej ryhy v súbehu so sieťami je uvažovaný 10 % dĺžky. Vyšší podiel ručného výkopu by súpis zvýšil do 600 EUR. P-29: Počet zemniacich tyčí pre uzemnenie skrine SR a rozvádzača RE je uvažovaný tri tyče po 2 m na zariadenie. Doplnenie zemniacich tyčí podľa skutočne nameraného odporu je druhá varianta; jedna tyč s montážou je 64 EUR. P-30: Počet vodovodných stúpačiek je uvažovaný deväť, rovnako ako hlavných kanalizačných stúpačiek. Iný počet vodovodných stúpačiek by zmenil cenu upchávok do 400 EUR. P-31: Hĺbka ryhy areálovej splaškovej kanalizácie je uvažovaná 1,50 m; dokumentácia hĺbku neuvádza. Šírka ryhy 1,10 m, lôžko 0,17 m3/bm a obsyp 0,52 m3/bm sú prevzaté z tabuľky v detaile uloženia potrubia. Hĺbka ryhy 1,80 m by výkop, paženie a zásyp zvýšila približne o 900 EUR. P-32: Dĺžka odvodu kondenzátu od jednej kazetovej jednotky je uvažovaná 10,00 m. Kratšie trasy odvodu kondenzátu by súpis znížili do 300 EUR. P-33: Výkon elektrických konvektorov pre zázemie nájomných priestorov dokumentácia neuvádza; uvažovaný je 1 000 W na miestnosť. Pracovný výkaz výmer objednávateľa uvažuje konvektory 500 W; menší výkon by súpis znížil približne o 250 EUR. Konvektory s výkonom 1 500 W by súpis zvýšili o 102 EUR. P-34: Rozsah oceľovej podpernej konštrukcie kondenzačných jednotiek na streche upresní statická časť, ktorá nie je súčasťou odovzdanej dokumentácie; položka je ocenená ako strešná pozinkovaná konzola na jednu jednotku. Rámová konštrukcia podľa statiky namiesto strešnej konzoly by súpis zvýšila o 150 až 1 700 EUR. P-35: Zriadenie prestupov jestvujúcimi železobetónovými stropmi pripravuje zhotoviteľ stavebnej časti podľa koordinačných výkresov profesií; v tomto súpise je len ich utesnenie. Jadrové vrty v našom súpise, 128 prestupov, by súpis zvýšili orientačne o 3 000 až 5 000 EUR. P-36: Doba montáže šiestich profesií je uvažovaná 6 mesiacov; harmonogram stavby v podkladoch nie je. Vychádza z nej prenájom buniek a mobilného WC. Deväť mesiacov montáže namiesto šiestich by zariadenie staveniska zvýšilo o 1 894 EUR. P-37: Počet kontajnerov na odpad z montážnych prác je uvažovaný štyri. Šesť kontajnerov namiesto štyroch by súpis zvýšilo o 220 EUR. P-38: Vzdialenosť mimostaveniskovej dopravy je uvažovaná do 50 km. Mimostavenisková doprava na 100 km by súpis zvýšila o 866 EUR. P-39: Skrine elektromerového rozvádzača RE sú ocenené v rade OEZ QA55 s krytím IP55 v rozmeroch podľa výkresu 210 (1 ks 800x400x1800 mm a 2 ks 1200x400x1800 mm) vrátane podstavcov, horných krytov a montážnych panelov; výkres predpisuje výrobcu OEZ a krytie IP65, IP55 je najvyššie krytie radových rozvádzačových skríň tohto výrobcu v cenovej sústave. Horný kryt skrine je v cenovej sústave len vo ventilovanom vyhotovení. Atypická skriňa IP65 na zákazku by súpis zvýšila o 600 až 1 500 EUR. P-40: Ovládanie kazetových klimatizačných jednotiek je uvažované infračerveným diaľkovým ovládačom, ktorý je súčasťou dodávky jednotky; technická správa pripúšťa aj nástenné káblové ovládače, tie by súpis zvýšili o 12 ovládačov s montážou. Káblové ovládače klimatizácie cenová sústava neobsahuje, cenu určí ponuka dodávateľa jednotiek. P-41: Prípojnicový systém rozvádzača RE je ocenený piatimi medenými pásmi 30 x 5 mm (L1, L2, L3, N, PE) po šírke zostavy skríň, spolu 16,00 m, so zaťažiteľnosťou 379 až 450 A. Výkres rozvádzača uvádza pri hlavnom ističi dve hodnoty, 630 A a 380 A, a súpis je zostavený na nižšiu z nich. Vyhotovenie na plných 630 A znamená zdvojenie fázových pásov, čo by súpis zvýšilo o 359,14 EUR. P-42: Tepelné izolácie medených rozvodov vykurovania sú ocenené hrúbkou 20 mm pre potrubie D 22 a 19 mm pre D 15, pretože rozvody vedú v podlahovej konštrukcii a v šachtách; voľne vedené úseky by podľa technickej správy mali hrúbku 25 až 30 mm. Voľne vedené úseky v hrúbke 25 až 30 mm by pri celej dĺžke 266,10 m súpis zvýšili približne o 2 100 EUR. P-43: Vodorovné trasy vnútornej kanalizácie sú ocenené ako potrubie HT z PP v celej dĺžke; ak sa zvodová časť zhotoví z PVC KG podľa technickej správy, cena sa zníži približne o 26 EUR. P-44: Hĺbka ryhy areálového vodovodu je uvažovaná 1,20 m; technická správa uvádza len šírku ryhy 60 cm, lôžko 15 cm a obsyp 30 cm, hĺbku neuvádza. Hĺbka ryhy vodovodu 1,50 m by výkop, paženie, zásyp a odvoz zvýšila približne o 600 EUR. P-45: Revízne šachty sú ocenené ako prefabrikované: dodávka dna s kynetou, skruží, kónusu a vyrovnávacieho prstenca a osadenie jednotlivých dielcov. Zhotovenie šachiet s obložením dna betónom na mieste namiesto prefabrikovaného dna by súpis zvýšilo približne o 4 800 EUR. P-46: Napojenie vodovodnej prípojky na verejný vodovod a zaústenie kanalizačnej prípojky do verejnej stoky vykonáva prevádzkovateľ verejnej siete na náklady investora; dokumentácia neuvádza dimenziu ani materiál verejných potrubí, preto tieto práce v súpise nie sú. Vystrojenie vodomernej šachty vrátane fakturačného vodomeru DN 50 v súpise je. Navŕtavací pás alebo T-kus so zemnou súpravou v našom súpise by ho zvýšil o 300 až 800 EUR podľa dimenzie verejného radu. P-47: Revízne šachty sú zostavené z dielcov, ktoré cenová sústava ponúka: dno s kynetou výšky 700 mm, kónus 1000/600 výšky 576 mm a vyrovnávací prstenec do 100 mm. Výkres kótuje dno 680 mm a kónus 630 mm; rozdiel 34 mm na šachtu vyrovná vyrovnávací prstenec a maltové lôžka spojov. Dielce šachiet presne podľa výkresu na zákazku by ich cenu zvýšili o 10 až 15 %. P-48: Zvislé trasy sú predĺžené o ležatý zvod 0,80 m pod podlahou 1.NP, o 0,50 m k odbočke na poslednom podlaží a o 1,00 m vyvedenia kanalizačného odvetrania nad strechu; dokumentácia tieto rozmery nekótuje. Bez prídavkov zvislých trás by sa súpis znížil približne o 1 900 EUR. P-49: Podklad pod vonkajšie jednotky tepelných čerpadiel (betónová pätka alebo rámový podstavec) dokumentácia nepredpisuje; technická správa uvádza antivibračné silentbloky len pri kondenzačných jednotkách klimatizácie, ktoré sú v súpise. Podklad pod tepelné čerpadlá je preto uvažovaný ako súčasť stavebnej časti. Rámový podstavec výrobcu pod 27 vonkajších jednotiek by súpis zvýšil približne o 11 600 EUR. P-50: Rozmer otvoru pri prestupe kábla požiarne deliacou konštrukciou dokumentácia neurčuje; uvažovaný je jadrový vrt D 150 mm na jeden prívodný kábel, teda trieda tesnenia do 0,1 m2. Ak sa prestupy zhotovia ako otvory nad 0,1 m2, súpis sa zvýši približne o 1 023 EUR. P-51: Dĺžku odvodu odmrazovacej vody od vonkajších jednotiek tepelných čerpadiel a odvodu od poistných výtokov zásobníkov dokumentácia neurčuje; uvažované sú 3,00 m na jednotku a 2,00 m na bytovú sústavu. Dvojnásobné dĺžky by súpis zvýšili približne o 840 EUR. P-52: Cenová sústava CENEKON nemá triedu pre prepláchnutie a napustenie sústavy s podlahovým vykurovaním ani pre funkčnú vykurovaciu skúšku podľa STN EN 1264-4; obidva kroky sú preto ocenené hodinovou sadzbou montéra a počet hodín je uvažovaný 2,00 hod na napustenie a 3,00 hod na vykurovaciu skúšku jednej bytovej sústavy. Dvojnásobný počet hodín by súpis zvýšil približne o 2 700 EUR. P-53: Plocha na vyčistenie budovy po montážnych prácach je uvažovaná ako hrubá podlahová plocha, teda zastavaná plocha 742,85 m2 krát štyri podlažia. Ak sa vykáže len čistá podlahová plocha bez konštrukcií (približne 85 %), súpis sa zníži približne o 2 890 EUR. P-54: Objemová hmotnosť zmiešaného stavebného odpadu z montážnych prác je uvažovaná 0,15 t/m3; skutočnú hmotnosť určí váženie na skládke. Dvojnásobná hmotnosť by súpis zvýšila približne o 840 EUR. P-55: Počty tvarovok potrubia spiro (27 kolien DN 125, 44 kolien DN 160, 50 T-kusov a 27 prechodov) sú dopočítané z topológie rozvodu, pretože výkresy tvarovky nekótujú. Odchýlka 20 % by súpis zmenila približne o 490 EUR. P-56: Zvody bleskozvodu sú ocenené izolovaným hliníkovým drôtom AlMgSi Ø 8 mm PVC podľa legendy výkresu bleskozvodu a sú vedené v ochrannej rúrke pod omietkou, ako predpisuje technická správa; hliník so zachytávacou sústavou netvorí galvanický pár, takže náter zvodu odpadá. Variant s neizolovaným drôtom v samotnej ochrannej rúrke by súpis znížil o 113 EUR. P-57: Rozsah ochranného zábradlia okolo otvorených výkopov je uvažovaný po jednej strane ryhy v celej dĺžke, teda 317,30 m; technické správy zaistenie výkopov predpisujú, rozsah neurčujú. Zábradlie po oboch stranách by súpis zvýšilo približne o 2 504 EUR. P-58: Dĺžka pripojovacieho potrubia kondenzátu od zápachových uzávierok vzduchotechniky do kanalizácie je uvažovaná 2,00 m na jednu uzávierku; dokumentácia trasu neurčuje. Dvojnásobná dĺžka by súpis zvýšila približne o 225 EUR. P-59: Doplnenie chladiva R32 nad výrobnú náplň nie je v súpise: priemerná dĺžka chladivovej dvojice na jeden okruh je 21,4 m, čo je na hranici bežnej výrobnej náplne split jednotiek. Ak výrobca zvolenej jednotky predplní kratšiu trasu, doplnenie chladiva by súpis zvýšilo približne o 130 až 250 EUR. P-60: Prívod vzduchu do odvetrávaných miestností je podľa technickej správy riešený bezprahovými dverami, ktoré sú súčasťou stavebnej časti. Ak sa namiesto nich osadia dverové mriežky, súpis vzduchotechniky sa zvýši približne o 1 200 EUR. P-61: Dĺžky vnútorných káblov vychádzajú z počtu obvodov podľa schémy bytového rozvádzača (dva obvody 3x1,5, sedem 3x2,5 a dva 5x2,5) a z trasy odmeranej z pôdorysov silnoprúdu. Uvažuje sa, že každý obvod prejde v priemere polovicou spoločnej trasy a že na každý prístrojový bod pripadá 0,80 m zvislého úseku, ktorý pôdorys nezobrazuje. Plný prechod trasou u každého obvodu by súpis zvýšil približne o 6 500 EUR. P-62: Tepelné izolácie rozvodov vody sú ocenené v katalógových hrúbkach 9 mm pre studenú a 19 mm pre teplú vodu; technická správa uvádza 10 a 20 mm, cenová sústava tieto hrúbky pre dané priemery nemá. Bližšia hrúbka v sústave nie je, cena sa tým nemení. P-63: Komplexné vyskúšanie a zaregulovanie vzduchotechniky je ocenené sadzbou za celé zariadenie, teda 241,21 EUR; počet ventilátorov a meracích bodov cenník neurčuje. Ocenenie podľa hodinovej sadzby, teda 60 hodín, by súpis zvýšilo o 793,79 EUR. P-64: Závesy a objímky potrubí zdravotechniky nie sú samostatnou položkou, pretože montážne položky potrubia obsahujú potrubnú objímku a skrutky na každý meter. Technická správa predpisuje značkový závesný systém; ak sa má oceniť samostatne, doplní sa po cenovej ponuke dodávateľa. P-65: Značenie potrubia podľa STN 13 0072 je ocenené jedným štítkom na každú vodovodnú stúpačku na každom podlaží, spolu 36 kusov; technická správa počet a rozmiestnenie štítkov neurčuje. Hustejšie značenie aj na ležatých rozvodoch a armatúrach by súpis zvýšilo o 199,08 EUR. P-66: Vytýčenie jestvujúcich podzemných vedení je ocenené jedným vytyčovacím bodom na každú z piatich sietí vedených areálom; situácia počet vytyčovacích bodov neurčuje. Vytýčenie po celej dĺžke rýh, teda 23 bodov ako pri nových trasách, by súpis zvýšilo o 486,00 EUR. P-67: Izolačné držiaky prípojníc rozvádzača RE sú ocenené v rozstupe 0,50 m po šírke zostavy skríň, teda 7 kusov; výkres rozstup podopretia neurčuje. Hustejší rozstup 0,35 m, teda 10 kusov, by súpis zvýšil o 93,00 EUR.
D30: Cena bez DPH | J30: =ROUND(J122, 2)
F32: Základ dane | I32: Sadzba dane | J32: Výška dane
D33: DPH | E33: základná | F33: =ROUND((SUM(BE122:BE206)), 2) | I33: 0.23 | J33: =ROUND(((SUM(BE122:BE206))*I33), 2)
E34: znížená | F34: =ROUND((SUM(BF122:BF206)), 2) | I34: 0.19 | J34: =ROUND(((SUM(BF122:BF206))*I34), 2)
E35: zákl. prenesená | F35: =ROUND((SUM(BG122:BG206)), 2) | I35: 0.23 | J35: =0
E36: zníž. prenesená | F36: =ROUND((SUM(BH122:BH206)), 2) | I36: 0.19 | J36: =0
E37: nulová | F37: =ROUND((SUM(BI122:BI206)), 2) | I37: 0 | J37: =0
D39: Cena s DPH | G39: v | H39: EUR | J39: =SUM(J30:J37)
D50: Projektant | G50: Spracovateľ
D61: Dátum a podpis: | F61: Pečiatka | G61: Dátum a podpis: | J61: Pečiatka
D65: Objednávateľ | G65: Zhotoviteľ
D76: Dátum a podpis: | F76: Pečiatka | G76: Dátum a podpis: | J76: Pečiatka
C82: REKAPITULÁCIA ČLENENIA SÚPISU PRÁC
C84: Stavba:
E85: =E7
C86: Objekt:
E87: =E9
C89: Miesto: | F89: =F12 | I89: Dátum: | J89: =IF(J12="","",J12)
C91: Zadávateľ: | F91: =E15 | I91: Projektant: | J91: =E21
C92: Zhotoviteľ: | F92: =IF(E18="","",E18) | I92: Spracovateľ: | J92: =E24
C94: Kód dielu - Popis | J94: Cena celkom [EUR]
...

Sheet SO 02 - Zdravotechnika
AT2: {2406abf9-f2fb-4ff8-b577-5ad89a7649c8}
AT3: 1
D4: KRYCÍ LIST SÚPISU PRÁC | M4: v --- nižšie sa nachádzajú doplnkové a pomocné údaje k zostavám --- v | AT4: False
D6: Stavba:
E7: ='Rekapitulácia stavby'!K6
D8: Objekt:
E9: SO 02 - Zdravotechnika
D11: KSO: | I11: CC-SK:
D12: Miesto: | F12: Trnavský kraj | I12: Dátum: | J12: ='Rekapitulácia stavby'!AN8
D14: Zadávateľ: | I14: IČO:
E15: Anonymizované | I15: IČ DPH:
D17: Zhotoviteľ: | I17: IČO: | J17: =IF('Rekapitulácia stavby'!AN13="","",'Rekapitulácia stavby'!AN13)
E18: =IF('Rekapitulácia stavby'!E14="","",'Rekapitulácia stavby'!E14) | I18: IČ DPH: | J18: =IF('Rekapitulácia stavby'!AN14="","",'Rekapitulácia stavby'!AN14)
D20: Projektant: | I20: IČO:
I21: IČ DPH:
D23: Spracovateľ: | I23: IČO:
I24: IČ DPH:
D26: Poznámka:
